BEGIN:VCALENDAR
VERSION:2.0
PRODID:-//MCC East Bay - ECPv6.15.20//NONSGML v1.0//EN
CALSCALE:GREGORIAN
METHOD:PUBLISH
X-WR-CALNAME:MCC East Bay
X-ORIGINAL-URL:https://mcceastbay.org
X-WR-CALDESC:Events for MCC East Bay
REFRESH-INTERVAL;VALUE=DURATION:PT1H
X-Robots-Tag:noindex
X-PUBLISHED-TTL:PT1H
BEGIN:VTIMEZONE
TZID:America/Los_Angeles
BEGIN:DAYLIGHT
TZOFFSETFROM:-0800
TZOFFSETTO:-0700
TZNAME:PDT
DTSTART:20240310T100000
END:DAYLIGHT
BEGIN:STANDARD
TZOFFSETFROM:-0700
TZOFFSETTO:-0800
TZNAME:PST
DTSTART:20241103T090000
END:STANDARD
BEGIN:DAYLIGHT
TZOFFSETFROM:-0800
TZOFFSETTO:-0700
TZNAME:PDT
DTSTART:20250309T100000
END:DAYLIGHT
BEGIN:STANDARD
TZOFFSETFROM:-0700
TZOFFSETTO:-0800
TZNAME:PST
DTSTART:20251102T090000
END:STANDARD
BEGIN:DAYLIGHT
TZOFFSETFROM:-0800
TZOFFSETTO:-0700
TZNAME:PDT
DTSTART:20260308T100000
END:DAYLIGHT
BEGIN:STANDARD
TZOFFSETFROM:-0700
TZOFFSETTO:-0800
TZNAME:PST
DTSTART:20261101T090000
END:STANDARD
END:VTIMEZONE
BEGIN:VEVENT
DTSTART;TZID=America/Los_Angeles:20250214T123000
DTEND;TZID=America/Los_Angeles:20250214T150000
DTSTAMP:20260421T170336
CREATED:20250212T173536Z
LAST-MODIFIED:20250212T223623Z
UID:74162-1739536200-1739545200@mcceastbay.org
SUMMARY:Masjid al-Huda Tables @ MCC Jumu'ahs
DESCRIPTION:Masjid al-Huda is a non-profit religious organization dedicated to establishing a holistic Muslim community\, promoting a good understanding of Islam\, and building positive relations among Muslims and non-Muslims. \nThis weekend\, they are holding a three-day Retreat\, ‘The Heart of the Matter: A Three-Day Conference on Purification of the Heart\,’ which starts this Friday at 7:30 p.m. \nPlease visit their table to learn more.
URL:https://mcceastbay.org/event/masjid-al-huda-tables-mcc-jumuahs/
LOCATION:MCC East Bay\, 5724 W Las Positas Blvd #300\, Pleasanton\, CA\, 94588\, United States
ATTACH;FMTTYPE=image/jpeg:https://mcceastbay.org/wp-content/uploads/2025/02/The-Heart-of-the-Matter-A-Three-Day-Conference-on-Purification-of-the-Heart.jpg
END:VEVENT
END:VCALENDAR