BEGIN:VCALENDAR
VERSION:2.0
PRODID:-//MCC East Bay - ECPv6.15.20//NONSGML v1.0//EN
CALSCALE:GREGORIAN
METHOD:PUBLISH
X-WR-CALNAME:MCC East Bay
X-ORIGINAL-URL:https://mcceastbay.org
X-WR-CALDESC:Events for MCC East Bay
REFRESH-INTERVAL;VALUE=DURATION:PT1H
X-Robots-Tag:noindex
X-PUBLISHED-TTL:PT1H
BEGIN:VTIMEZONE
TZID:America/Los_Angeles
BEGIN:DAYLIGHT
TZOFFSETFROM:-0800
TZOFFSETTO:-0700
TZNAME:PDT
DTSTART:20240310T100000
END:DAYLIGHT
BEGIN:STANDARD
TZOFFSETFROM:-0700
TZOFFSETTO:-0800
TZNAME:PST
DTSTART:20241103T090000
END:STANDARD
BEGIN:DAYLIGHT
TZOFFSETFROM:-0800
TZOFFSETTO:-0700
TZNAME:PDT
DTSTART:20250309T100000
END:DAYLIGHT
BEGIN:STANDARD
TZOFFSETFROM:-0700
TZOFFSETTO:-0800
TZNAME:PST
DTSTART:20251102T090000
END:STANDARD
BEGIN:DAYLIGHT
TZOFFSETFROM:-0800
TZOFFSETTO:-0700
TZNAME:PDT
DTSTART:20260308T100000
END:DAYLIGHT
BEGIN:STANDARD
TZOFFSETFROM:-0700
TZOFFSETTO:-0800
TZNAME:PST
DTSTART:20261101T090000
END:STANDARD
END:VTIMEZONE
BEGIN:VEVENT
DTSTART;TZID=America/Los_Angeles:20250110T123000
DTEND;TZID=America/Los_Angeles:20250110T150000
DTSTAMP:20260419T130916
CREATED:20250110T171048Z
LAST-MODIFIED:20250110T171048Z
UID:72992-1736512200-1736521200@mcceastbay.org
SUMMARY:MCC East Bay AI Team Tables @ MCC Jumu'ahs Today
DESCRIPTION:MCC is launching a new initiative to educate the Muslim community about the importance and uses of Artificial Intelligence (AI). A group of AI engineers from our local MCC community will present workshops and seminars throughout 2025. \nThe team will conduct surveys to understand the community’s needs and ensure that the workshops and seminars align with the community’s values and needs. Please visit their table to learn more about them and participate in this survey.
URL:https://mcceastbay.org/event/mcc-east-bay-ai-team-tables-mcc-jumuahs-today/
LOCATION:MCC East Bay\, 5724 W Las Positas Blvd #300\, Pleasanton\, CA\, 94588\, United States
ATTACH;FMTTYPE=image/jpeg:https://mcceastbay.org/wp-content/uploads/2025/01/AI.jpg
END:VEVENT
END:VCALENDAR