BEGIN:VCALENDAR
VERSION:2.0
PRODID:-//MCC East Bay - ECPv6.15.20//NONSGML v1.0//EN
CALSCALE:GREGORIAN
METHOD:PUBLISH
X-WR-CALNAME:MCC East Bay
X-ORIGINAL-URL:https://mcceastbay.org
X-WR-CALDESC:Events for MCC East Bay
REFRESH-INTERVAL;VALUE=DURATION:PT1H
X-Robots-Tag:noindex
X-PUBLISHED-TTL:PT1H
BEGIN:VTIMEZONE
TZID:America/Los_Angeles
BEGIN:DAYLIGHT
TZOFFSETFROM:-0800
TZOFFSETTO:-0700
TZNAME:PDT
DTSTART:20240310T100000
END:DAYLIGHT
BEGIN:STANDARD
TZOFFSETFROM:-0700
TZOFFSETTO:-0800
TZNAME:PST
DTSTART:20241103T090000
END:STANDARD
BEGIN:DAYLIGHT
TZOFFSETFROM:-0800
TZOFFSETTO:-0700
TZNAME:PDT
DTSTART:20250309T100000
END:DAYLIGHT
BEGIN:STANDARD
TZOFFSETFROM:-0700
TZOFFSETTO:-0800
TZNAME:PST
DTSTART:20251102T090000
END:STANDARD
BEGIN:DAYLIGHT
TZOFFSETFROM:-0800
TZOFFSETTO:-0700
TZNAME:PDT
DTSTART:20260308T100000
END:DAYLIGHT
BEGIN:STANDARD
TZOFFSETFROM:-0700
TZOFFSETTO:-0800
TZNAME:PST
DTSTART:20261101T090000
END:STANDARD
END:VTIMEZONE
BEGIN:VEVENT
DTSTART;TZID=America/Los_Angeles:20250426T103000
DTEND;TZID=America/Los_Angeles:20250426T123000
DTSTAMP:20260420T140817
CREATED:20250416T171842Z
LAST-MODIFIED:20250417T153540Z
UID:76052-1745663400-1745670600@mcceastbay.org
SUMMARY:Paint in Harmony: A Sisters’ Meditative Art Workshop | Tasneem Salah
DESCRIPTION:For Girls & Women Ages 15+: Join us for a meditative art workshop session with Tasneem Salah\, a Bay Area-based artist. We will paint\, reflect\, and simply be. In this welcoming space\, there’s no pressure to create “perfect” art—just room to be present and express yourself freely. Let your creativity flow in remembrance and peace. \nPaint in Harmony is a unique creative experience that combines painting\, self-reflection\, and meditation in a serene and spiritually uplifting environment. Set to the calming sounds of morning adhkār and Qur’an recitation\, this session invites you to slow down and reconnect—with yourself\, your faith\, and your creativity. \nThe workshop’s theme will center around Islamic motifs\, and participants will have access to Arabic calligraphy stencils and acrylic paint to help bring their visions to life. No art experience is necessary—just a willingness to explore and express. \nSaturday\, April 26 | 10:30 a.m. to 12:30 p.m. | Picnic Area | Sisters Ages 15+ (capped at 11 participants) | $50/person | Register at mcceastbay.org/paint-in-harmony \nAll art supplies will be provided. Since the session will be outdoors\, please bring sunglasses or a hat for comfort. Surrounded by nature\, we hope to encourage mindfulness and inspire you to reflect and create with intention. \nMCC has a standing policy that financial need should never hold a person back from attending any activity held in the community center. To request a financial waiver\, please complete our financial waiver request: HTTP://mcceastbay.org/scholarship \nAbout the Artist \nTasneem Salah\, an accomplished Palestinian American Artist based in the Bay Area\, facilitates Paint in Harmony. More about Tasneem’s background and workshops are available at: www.artbyts.com/paintinharmony \nQuestions? events@mcceastbay.org
URL:https://mcceastbay.org/event/meditative-art/
LOCATION:MCC East Bay\, 5724 W Las Positas Blvd #300\, Pleasanton\, CA\, 94588\, United States
CATEGORIES:Women's Activities
ATTACH;FMTTYPE=image/jpeg:https://mcceastbay.org/wp-content/uploads/2025/04/harmony-updated.jpg
ORGANIZER;CN="Muslim Community Center - East Bay":MAILTO:events@mcceastbay.org
END:VEVENT
END:VCALENDAR