BEGIN:VCALENDAR
VERSION:2.0
PRODID:-//MCC East Bay - ECPv6.15.20//NONSGML v1.0//EN
CALSCALE:GREGORIAN
METHOD:PUBLISH
X-WR-CALNAME:MCC East Bay
X-ORIGINAL-URL:https://mcceastbay.org
X-WR-CALDESC:Events for MCC East Bay
REFRESH-INTERVAL;VALUE=DURATION:PT1H
X-Robots-Tag:noindex
X-PUBLISHED-TTL:PT1H
BEGIN:VTIMEZONE
TZID:America/Los_Angeles
BEGIN:DAYLIGHT
TZOFFSETFROM:-0800
TZOFFSETTO:-0700
TZNAME:PDT
DTSTART:20240310T100000
END:DAYLIGHT
BEGIN:STANDARD
TZOFFSETFROM:-0700
TZOFFSETTO:-0800
TZNAME:PST
DTSTART:20241103T090000
END:STANDARD
BEGIN:DAYLIGHT
TZOFFSETFROM:-0800
TZOFFSETTO:-0700
TZNAME:PDT
DTSTART:20250309T100000
END:DAYLIGHT
BEGIN:STANDARD
TZOFFSETFROM:-0700
TZOFFSETTO:-0800
TZNAME:PST
DTSTART:20251102T090000
END:STANDARD
BEGIN:DAYLIGHT
TZOFFSETFROM:-0800
TZOFFSETTO:-0700
TZNAME:PDT
DTSTART:20260308T100000
END:DAYLIGHT
BEGIN:STANDARD
TZOFFSETFROM:-0700
TZOFFSETTO:-0800
TZNAME:PST
DTSTART:20261101T090000
END:STANDARD
END:VTIMEZONE
BEGIN:VEVENT
DTSTART;TZID=America/Los_Angeles:20250606T133000
DTEND;TZID=America/Los_Angeles:20250606T160000
DTSTAMP:20260422T142537
CREATED:20250605T203936Z
LAST-MODIFIED:20250605T204132Z
UID:77179-1749216600-1749225600@mcceastbay.org
SUMMARY:Miraaj Academy Tables @ MCC Jumu'ahs
DESCRIPTION:Shaykh Hamzah Abdul-Malik founded Miraaj Academy in 2017. Learn about how you can support their work to help provide scholarships for zakat-eligible Imams in training. \nA Dream Deferred: Transforming Young Lives Today\nFounded in 2017\, our academy is the realization of Imam Hamzah Abdul-Malik’s dream that began over two decades ago. Our founder\, a young teenager at the time\, aspired to win the Moroccan Qur’an recitation competition and use the prize – acres of land – to establish a Qur’an school for young American Muslims. Years later\, while reciting Qur’an at Muhammad Ali’s memorial\, Imam Hamzah Abdul-Malik was inspired to create a leadership academy where young Muslim boys could learn to apply the teachings of the Qur’an in their lives.  Miraaj Academy is committed to nurturing the hearts and minds of young Muslims\, providing them with the tools they need to succeed in all aspects of their lives Insha Allah. \nOur Mission\nAt Miraaj Academy\, we are committed to nurturing and guiding the next generation of young Muslims to become the torchbearers of their faith\, future scholars\, and leaders in their communities Insha Allah. As a dedicated institution to Islamic education in America\, we embrace the weighty yet fulfilling task of fostering an environment that instills deep-rooted traditional Islamic values and teaches student how to put their faith into practice through serving their community. \nInspired by Prophet Muhammad’s (SA) spiritual journey\, our mission is to seamlessly blend Islamic teachings with academic excellence\, guiding our youth towards virtuous\, knowledgeable\, and responsible adulthood. Through our holistic approach\, rooted in the fusion of Eastern and Western educational philosophies\, we foster growth and excellence in our students\, emphasizing mastery\, understanding\, teaching\, and implementation of essential sciences and skills. \nOur Vision\nOur vision at Miraaj Academy is to be recognized as a premier educational institution that embodies excellence in Islamic education and academic achievement. We aspire to cultivate a dynamic learning environment where students are inspired to explore their faith\, engage with diverse perspectives\, and pursue intellectual curiosity. \nGuided by the principles of Prophet Muhammad’s spiritual journey\, we envision a future where our graduates emerge as compassionate leaders\, empowered with the knowledge\, skills\, and moral fortitude to positively impact their communities and contribute to the betterment of society InSha Allah.
URL:https://mcceastbay.org/event/miraaj-academy-tables-mcc-jumuahs/
ATTACH;FMTTYPE=image/webp:https://mcceastbay.org/wp-content/uploads/2025/06/Miraaj-Academy-AllofthemBoards.jpg.webp
END:VEVENT
END:VCALENDAR