BEGIN:VCALENDAR
VERSION:2.0
PRODID:-//MCC East Bay - ECPv6.15.20//NONSGML v1.0//EN
CALSCALE:GREGORIAN
METHOD:PUBLISH
X-WR-CALNAME:MCC East Bay
X-ORIGINAL-URL:https://mcceastbay.org
X-WR-CALDESC:Events for MCC East Bay
REFRESH-INTERVAL;VALUE=DURATION:PT1H
X-Robots-Tag:noindex
X-PUBLISHED-TTL:PT1H
BEGIN:VTIMEZONE
TZID:America/Los_Angeles
BEGIN:DAYLIGHT
TZOFFSETFROM:-0800
TZOFFSETTO:-0700
TZNAME:PDT
DTSTART:20240310T100000
END:DAYLIGHT
BEGIN:STANDARD
TZOFFSETFROM:-0700
TZOFFSETTO:-0800
TZNAME:PST
DTSTART:20241103T090000
END:STANDARD
BEGIN:DAYLIGHT
TZOFFSETFROM:-0800
TZOFFSETTO:-0700
TZNAME:PDT
DTSTART:20250309T100000
END:DAYLIGHT
BEGIN:STANDARD
TZOFFSETFROM:-0700
TZOFFSETTO:-0800
TZNAME:PST
DTSTART:20251102T090000
END:STANDARD
BEGIN:DAYLIGHT
TZOFFSETFROM:-0800
TZOFFSETTO:-0700
TZNAME:PDT
DTSTART:20260308T100000
END:DAYLIGHT
BEGIN:STANDARD
TZOFFSETFROM:-0700
TZOFFSETTO:-0800
TZNAME:PST
DTSTART:20261101T090000
END:STANDARD
END:VTIMEZONE
BEGIN:VEVENT
DTSTART;TZID=America/Los_Angeles:20250222T190000
DTEND;TZID=America/Los_Angeles:20250222T230000
DTSTAMP:20260425T094829
CREATED:20250114T205720Z
LAST-MODIFIED:20250223T054118Z
UID:73065-1740250800-1740265200@mcceastbay.org
SUMMARY:Pre-Ramadan NorCal Qiyam Night For High Schoolers & College Students: Resilience
DESCRIPTION:For High School & College/University Students: Before Ramadan\, join us for a night of reflection and worship\, during which we will derive lessons from Prophet Ibrahim’s (AS) steadfastness. \nWe will also have vendors\, including The Burger Shop & Abu Barista Coffee! \n7 p.m. to 11 p.m. | Saturday\, Feb. 22 | MCC Conference Room | In-person only | Free | Space limited; RSVP required. Register at mcceastbay.org/norcalqiyam25 \nSponsored by Manara West & MCC East Bay. \nImam Al-Baraa\nDr. Al-Bara’a Basfar\, a distinguished Imam at the West Valley Muslim Association (WVMA) brings a wealth of knowledge and experience to his role. He holds a bachelor’s degree in Islamic Studies and an esteemed Ijazah. Further enriching his academic journey\, he earned a Master’s degree and a Ph.D. in Educational Research and Evaluation from Ohio University. His commitment to scholarship and education continued with a prestigious postdoctoral fellowship at Stanford University. With his deep expertise in both Islamic studies and educational research\, Dr. Basfar is dedicated to fostering spiritual growth and intellectual development within the community. \nQuestions? events@mcceastbay.org
URL:https://mcceastbay.org/event/msa-west-qiyam/
LOCATION:MCC East Bay\, 5724 W Las Positas Blvd #300\, Pleasanton\, CA\, 94588\, United States
CATEGORIES:Youth Program
ATTACH;FMTTYPE=image/jpeg:https://mcceastbay.org/wp-content/uploads/2025/01/NorCal-Qiyam.jpg
ORGANIZER;CN="Muslim Community Center - East Bay":MAILTO:events@mcceastbay.org
END:VEVENT
END:VCALENDAR