BEGIN:VCALENDAR
VERSION:2.0
PRODID:-//MCC East Bay - ECPv6.15.20//NONSGML v1.0//EN
CALSCALE:GREGORIAN
METHOD:PUBLISH
X-WR-CALNAME:MCC East Bay
X-ORIGINAL-URL:https://mcceastbay.org
X-WR-CALDESC:Events for MCC East Bay
REFRESH-INTERVAL;VALUE=DURATION:PT1H
X-Robots-Tag:noindex
X-PUBLISHED-TTL:PT1H
BEGIN:VTIMEZONE
TZID:America/Los_Angeles
BEGIN:DAYLIGHT
TZOFFSETFROM:-0800
TZOFFSETTO:-0700
TZNAME:PDT
DTSTART:20250309T100000
END:DAYLIGHT
BEGIN:STANDARD
TZOFFSETFROM:-0700
TZOFFSETTO:-0800
TZNAME:PST
DTSTART:20251102T090000
END:STANDARD
BEGIN:DAYLIGHT
TZOFFSETFROM:-0800
TZOFFSETTO:-0700
TZNAME:PDT
DTSTART:20260308T100000
END:DAYLIGHT
BEGIN:STANDARD
TZOFFSETFROM:-0700
TZOFFSETTO:-0800
TZNAME:PST
DTSTART:20261101T090000
END:STANDARD
BEGIN:DAYLIGHT
TZOFFSETFROM:-0800
TZOFFSETTO:-0700
TZNAME:PDT
DTSTART:20270314T100000
END:DAYLIGHT
BEGIN:STANDARD
TZOFFSETFROM:-0700
TZOFFSETTO:-0800
TZNAME:PST
DTSTART:20271107T090000
END:STANDARD
END:VTIMEZONE
BEGIN:VEVENT
DTSTART;TZID=America/Los_Angeles:20260313T133000
DTEND;TZID=America/Los_Angeles:20260313T160000
DTSTAMP:20260419T172504
CREATED:20260226T210703Z
LAST-MODIFIED:20260226T213109Z
UID:82567-1773408600-1773417600@mcceastbay.org
SUMMARY:New Jumu’ah Times at MCC & Rosewood
DESCRIPTION:Our clocks spring ahead on Sun.\, March 8\, 2026. Please note the new Jumu’ah & prayer times. \n\n\n\nSee Iqamah times at https://mcceastbay.org/prayer \n\n\n\n\n*1:30 p.m. – 1:50 p.m. @ MCC\n\n\n\n1:40 p.m. – 2:10 p.m. @ Rosewood\n\n\n\n2:30 p.m. to 2:50 p.m. @ MCC\n\n\n\n2:40 p.m. to 3:10 p.m. @ Rosewood\n\n\n\n3:40 p.m. – 4 p.m.  @ MCC\n\n\n\n\n*Expect much higher Jumu’ah parking challenges in Ramadan.* To avoid Friday afternoon parking congestion at MCC this Ramadan\, please attend one of two weekly offsite Jumu’ahs at 1:40 p.m. or 2:40 p.m. at 4450 Rosewood Dr.\, Pleasanton. \n\n\n\nThe youth Jumuah (3:40 p.m. to 4 p.m.) continues until schools let out in May and resumes when schools resume in August until November 1\, when Daylight Saving Time ends. \n\n\n\nThe earlier weekly Friday services are from 1:30 p.m. to 1:50 p.m.\, which have heavy parking congestion. Please attend later services from 2:30 p.m. to 2:50 p.m.\, whenever possible. \n\n\n\n\n\n\n\nQuestions? events@mcceastbay.org \n\n\n\n\n\n\n\n\n\n\n\n\n\n\n\n\n\n 
URL:https://mcceastbay.org/event/new-jumuah-times-at-mcc-rosewood-2/
ATTACH;FMTTYPE=image/jpeg:https://mcceastbay.org/wp-content/uploads/2026/02/Third-Jummah-Resumes-2.jpg
END:VEVENT
END:VCALENDAR