BEGIN:VCALENDAR
VERSION:2.0
PRODID:-//MCC East Bay - ECPv6.15.20//NONSGML v1.0//EN
CALSCALE:GREGORIAN
METHOD:PUBLISH
X-WR-CALNAME:MCC East Bay
X-ORIGINAL-URL:https://mcceastbay.org
X-WR-CALDESC:Events for MCC East Bay
REFRESH-INTERVAL;VALUE=DURATION:PT1H
X-Robots-Tag:noindex
X-PUBLISHED-TTL:PT1H
BEGIN:VTIMEZONE
TZID:America/Los_Angeles
BEGIN:DAYLIGHT
TZOFFSETFROM:-0800
TZOFFSETTO:-0700
TZNAME:PDT
DTSTART:20210314T100000
END:DAYLIGHT
BEGIN:STANDARD
TZOFFSETFROM:-0700
TZOFFSETTO:-0800
TZNAME:PST
DTSTART:20211107T090000
END:STANDARD
BEGIN:DAYLIGHT
TZOFFSETFROM:-0800
TZOFFSETTO:-0700
TZNAME:PDT
DTSTART:20220313T100000
END:DAYLIGHT
BEGIN:STANDARD
TZOFFSETFROM:-0700
TZOFFSETTO:-0800
TZNAME:PST
DTSTART:20221106T090000
END:STANDARD
BEGIN:DAYLIGHT
TZOFFSETFROM:-0800
TZOFFSETTO:-0700
TZNAME:PDT
DTSTART:20230312T100000
END:DAYLIGHT
BEGIN:STANDARD
TZOFFSETFROM:-0700
TZOFFSETTO:-0800
TZNAME:PST
DTSTART:20231105T090000
END:STANDARD
END:VTIMEZONE
BEGIN:VEVENT
DTSTART;TZID=America/Los_Angeles:20221111T123000
DTEND;TZID=America/Los_Angeles:20221111T140000
DTSTAMP:20260422T010849
CREATED:20221104T075243Z
LAST-MODIFIED:20221104T075243Z
UID:63728-1668169800-1668175200@mcceastbay.org
SUMMARY:New Jumu'ah Times (Winter Schedule)
DESCRIPTION:Sunday\, November 6\, is when Daylight Savings time changes. Please remember to set your clocks one hour back. \n\n\n\nMCC’s Jumu’ah times will change this Friday\, Nov. 11: \n\n\n\n\n– First Khutbah: 12:30 p.m. to 12:50 p.m.– Location: MCC Prayer Hall (with socially-distant worship space in Conference Room & Banquet Hall)\n\n\n\n– Second Khutbah: 1:30 p.m. to 1:50 p.m.\n\n\n\n– Location: MCC Prayer Hall (with socially-distant worship space in Conference Room & Banquet Hall)\n\n\n\n\nMasks are optional for all services. Parking in the parking lot next to MCC\, HP lot. \n\n\n\nDue to the shorter time frame for Zuhr prayers before the Asr prayer comes in\, MCC will not offer the youth Jumu’ah (3:40 p.m. to 4 p.m.) until Friday. March 17\, 2023\, after Daylight Savings Time (DST)\, ends. \n\n\n\nThe daily Iqamah times change beginning Sunday\, November 6 are: \n\n\n\n\n– Fajr: 6 a.m.\n\n\n\n– Zuhr: 12:30 p.m.\n\n\n\n– Asr: 3:30 p.m.\n\n\n\n– Isha: 8 p.m.\n\n\n\n\nDownload the ’22 Prayer & Iqamah timetable: HTTP://mcceastbay.org/timetable \n\n\n\n \n\n\n\nQuestions? events@mcceastbay.org
URL:https://mcceastbay.org/event/new-jumuah-times-winter-schedule/
LOCATION:MCC East Bay\, 5724 W Las Positas Blvd #300\, Pleasanton\, CA\, 94588\, United States
ATTACH;FMTTYPE=image/png:https://mcceastbay.org/wp-content/uploads/2024/06/11.06.22-Daylight-Savings-Time-Mosque.png
END:VEVENT
END:VCALENDAR