BEGIN:VCALENDAR
VERSION:2.0
PRODID:-//MCC East Bay - ECPv6.15.20//NONSGML v1.0//EN
CALSCALE:GREGORIAN
METHOD:PUBLISH
X-WR-CALNAME:MCC East Bay
X-ORIGINAL-URL:https://mcceastbay.org
X-WR-CALDESC:Events for MCC East Bay
REFRESH-INTERVAL;VALUE=DURATION:PT1H
X-Robots-Tag:noindex
X-PUBLISHED-TTL:PT1H
BEGIN:VTIMEZONE
TZID:America/Los_Angeles
BEGIN:DAYLIGHT
TZOFFSETFROM:-0800
TZOFFSETTO:-0700
TZNAME:PDT
DTSTART:20250309T100000
END:DAYLIGHT
BEGIN:STANDARD
TZOFFSETFROM:-0700
TZOFFSETTO:-0800
TZNAME:PST
DTSTART:20251102T090000
END:STANDARD
BEGIN:DAYLIGHT
TZOFFSETFROM:-0800
TZOFFSETTO:-0700
TZNAME:PDT
DTSTART:20260308T100000
END:DAYLIGHT
BEGIN:STANDARD
TZOFFSETFROM:-0700
TZOFFSETTO:-0800
TZNAME:PST
DTSTART:20261101T090000
END:STANDARD
BEGIN:DAYLIGHT
TZOFFSETFROM:-0800
TZOFFSETTO:-0700
TZNAME:PDT
DTSTART:20270314T100000
END:DAYLIGHT
BEGIN:STANDARD
TZOFFSETFROM:-0700
TZOFFSETTO:-0800
TZNAME:PST
DTSTART:20271107T090000
END:STANDARD
END:VTIMEZONE
BEGIN:VEVENT
DTSTART;TZID=America/Los_Angeles:20260502T113000
DTEND;TZID=America/Los_Angeles:20260502T130000
DTSTAMP:20260421T205246
CREATED:20260421T194357Z
LAST-MODIFIED:20260421T195726Z
UID:84025-1777721400-1777726800@mcceastbay.org
SUMMARY:Overdose Response Training Workshop | Yumna Battisha with Clinton Global Initiative (CGI)
DESCRIPTION:Join us for a life-saving training on opioid overdose awareness and response\, grounded in the Qur’anic reminder: “And whoever saves one [life]\, it is as if he had saved mankind entirely” (5:32). Overdoses often occur in public or shared spaces and are frequently witnessed by others\, making timely intervention critical. \nThis session will equip participants with the knowledge to prevent\, recognize\, and respond to an opioid overdose\, while also addressing the stigma surrounding addiction. Participants will gain the confidence to safely administer naloxone in an emergency and take meaningful action in critical moments. \nSaturday\, May 2nd | 11:30 a.m to 1:00 p.m. | MCC Conference Room | Free session\, please RSVP at mcceastbay.org/overdose \nSponsored by The Clinton Foundation & MCC East Bay. \nQuestions? events@mcceastbay.org  \nAbout the Facilitator\, Yumna Battisha \nYumna Battisha is a UCLA graduate with a degree in Psychology\, currently working in overdose prevention and harm reduction. She serves as the Director of Public Relations at T.A.C.O. Inc. (Team Awareness Combatting Overdose)\, where she focuses on community outreach\, education\, and expanding access to life-saving resources such as naloxone and fentanyl test strips. She is also a fellow with the Clinton Foundation\, where she explores faith-based approaches to addressing substance use and the overdose crisis. Her work is centered on making harm reduction more accessible\, culturally relevant\, and stigma-free\, with a strong commitment to equipping communities with the knowledge and tools to save lives.
URL:https://mcceastbay.org/event/overdose-response-training-workshop-yumna-battisha-with-clinton-global-initiative-cgi/
CATEGORIES:Lectures & Workshops,Youth Program
ATTACH;FMTTYPE=image/jpeg:https://mcceastbay.org/wp-content/uploads/2026/04/A-Flower-for-You.jpg
END:VEVENT
END:VCALENDAR