BEGIN:VCALENDAR
VERSION:2.0
PRODID:-//MCC East Bay - ECPv6.15.20//NONSGML v1.0//EN
CALSCALE:GREGORIAN
METHOD:PUBLISH
X-WR-CALNAME:MCC East Bay
X-ORIGINAL-URL:https://mcceastbay.org
X-WR-CALDESC:Events for MCC East Bay
REFRESH-INTERVAL;VALUE=DURATION:PT1H
X-Robots-Tag:noindex
X-PUBLISHED-TTL:PT1H
BEGIN:VTIMEZONE
TZID:America/Los_Angeles
BEGIN:DAYLIGHT
TZOFFSETFROM:-0800
TZOFFSETTO:-0700
TZNAME:PDT
DTSTART:20210314T100000
END:DAYLIGHT
BEGIN:STANDARD
TZOFFSETFROM:-0700
TZOFFSETTO:-0800
TZNAME:PST
DTSTART:20211107T090000
END:STANDARD
BEGIN:DAYLIGHT
TZOFFSETFROM:-0800
TZOFFSETTO:-0700
TZNAME:PDT
DTSTART:20220313T100000
END:DAYLIGHT
BEGIN:STANDARD
TZOFFSETFROM:-0700
TZOFFSETTO:-0800
TZNAME:PST
DTSTART:20221106T090000
END:STANDARD
BEGIN:DAYLIGHT
TZOFFSETFROM:-0800
TZOFFSETTO:-0700
TZNAME:PDT
DTSTART:20230312T100000
END:DAYLIGHT
BEGIN:STANDARD
TZOFFSETFROM:-0700
TZOFFSETTO:-0800
TZNAME:PST
DTSTART:20231105T090000
END:STANDARD
END:VTIMEZONE
BEGIN:VEVENT
DTSTART;TZID=America/Los_Angeles:20221216T190000
DTEND;TZID=America/Los_Angeles:20221216T210000
DTSTAMP:20260422T022453
CREATED:20221203T121750Z
LAST-MODIFIED:20221203T121750Z
UID:63807-1671217200-1671224400@mcceastbay.org
SUMMARY:Parents/Children Workshops With Noor Kids
DESCRIPTION:Join Noor Kids from 7 p.m. to 9 p.m. on Friday\, December 16\, for interactive sessions on how parents can build a strong home\, followed by a separate session for children on how to stand up to bullying. \n\n\n\nNoor Kids is a Harvard-supported educational services organization that seeks to build confidence in the identity of young Muslims. Since their launch\, their work has been welcomed into over 250\,000 homes across 25 countries. \n\n\n\n\n7 p.m. to 8 p.m. for Parent Workshop: Building a Strong Home: Practical & Proven Strategies for Parents of Young Muslims\n\n\n\n\nThe single most crucial variable in a child’s development is their relationship with mom and dad. What are practical and proven ways that parents can build a strong home? \n\n\n\nIn this 60-minute lecture\, Noor Kids shares strategies supported by Islamic tradition and recent educational research. \n\n\n\n\n8:15 p.m. to 9 p.m. for Children Workshop – Standing Up to Bullying (Ages 4+): \n\n\n\n\nIn this storytelling event\, Amin recalls the hurt caused by bullies and provides children with a three-step approach to end bullying. \n\n\n\n7 p.m. to 9 p.m. | Friday\, December 16 | MCC Conference Room & Prayer Hall  | No RSVP needed | Join in person or watch online at mcceastbay.org/live  \n\n\n\nFree babysitting is provided.Questions? events@mcceastbay.org \n\n\n\nAbout the Presenter: \n\n\n\nAmin G. Aaser \n\n\n\nAmin G. Aaser is a leader in Muslim children’s education\, advocacy\, and development. \n\n\n\nAmin is the founder and Executive Director of Noor Kids\, a Harvard-supported educational services organization that seeks to build confidence in the religious identity of young Muslims. Noor Kids publishes one of the world’s fastest-growing Islamic children’s book series\, with titles in over 250\,000 homes across 25 countries. \n\n\n\nAmin is an expert on identity\, bullying\, education\, and publishing among Muslim children in America. He has been featured on NPR\, BBC\, and The Huffington Post\, among other media outlets. Since 2016\, Amin has been invited to over 300 communities across North America to help counter challenges faced by Muslim children and youth. \n\n\n\nAmin is also a “Master Storyteller\,” developing his expertise in storytelling under the tutelage of Arina Isaacson\, an internationally recognized and award-winning theater actress. Amin taught Storytelling at UC Berkeley.   \n\n\n\nAmin began his career in business management\, working for Fortune 500 companies such as 3M\, Target Corporation\, and General Mills. He gained his Master’s Degree at UC Berkeley\, where he focused on faith-based social enterprises. He graduated magna cum laude with distinction from the Carlson School of Management at the University of Minnesota. \n\n\n\nHe lives with his wife and daughter in Minneapolis\, Minnesota.
URL:https://mcceastbay.org/event/parents-children-workshops-with-noor-kids/
LOCATION:MCC East Bay\, 5724 W Las Positas Blvd #300\, Pleasanton\, CA\, 94588\, United States
ATTACH;FMTTYPE=image/jpeg:https://mcceastbay.org/wp-content/uploads/2024/06/Noor-Kids.jpg
END:VEVENT
END:VCALENDAR