BEGIN:VCALENDAR
VERSION:2.0
PRODID:-//MCC East Bay - ECPv6.15.20//NONSGML v1.0//EN
CALSCALE:GREGORIAN
METHOD:PUBLISH
X-WR-CALNAME:MCC East Bay
X-ORIGINAL-URL:https://mcceastbay.org
X-WR-CALDESC:Events for MCC East Bay
REFRESH-INTERVAL;VALUE=DURATION:PT1H
X-Robots-Tag:noindex
X-PUBLISHED-TTL:PT1H
BEGIN:VTIMEZONE
TZID:America/Los_Angeles
BEGIN:DAYLIGHT
TZOFFSETFROM:-0800
TZOFFSETTO:-0700
TZNAME:PDT
DTSTART:20220313T100000
END:DAYLIGHT
BEGIN:STANDARD
TZOFFSETFROM:-0700
TZOFFSETTO:-0800
TZNAME:PST
DTSTART:20221106T090000
END:STANDARD
BEGIN:DAYLIGHT
TZOFFSETFROM:-0800
TZOFFSETTO:-0700
TZNAME:PDT
DTSTART:20230312T100000
END:DAYLIGHT
BEGIN:STANDARD
TZOFFSETFROM:-0700
TZOFFSETTO:-0800
TZNAME:PST
DTSTART:20231105T090000
END:STANDARD
BEGIN:DAYLIGHT
TZOFFSETFROM:-0800
TZOFFSETTO:-0700
TZNAME:PDT
DTSTART:20240310T100000
END:DAYLIGHT
BEGIN:STANDARD
TZOFFSETFROM:-0700
TZOFFSETTO:-0800
TZNAME:PST
DTSTART:20241103T090000
END:STANDARD
END:VTIMEZONE
BEGIN:VEVENT
DTSTART;TZID=America/Los_Angeles:20231020T201500
DTEND;TZID=America/Los_Angeles:20231020T210000
DTSTAMP:20260421T035231
CREATED:20231020T033235Z
LAST-MODIFIED:20231020T033235Z
UID:64821-1697832900-1697835600@mcceastbay.org
SUMMARY:Dua for our Brothers & Sisters | Qari Amar Bellaha & Dr. Asaad Traina
DESCRIPTION:“The parable of the believers in their affection\, mercy\, and compassion for each other is that of a body. When any limb aches\, the whole body reacts with sleeplessness and fever.” Prophet Muhammad (PBUH) \n\n\n\nJoin us to supplicate for our brothers and sisters in Palestine this Friday evening. Dr. Asaad Traina will lead with a short talk after the Isha Prayers (8:15 p.m.) followed by dua by Qari Amar Bellaha and then Qiyam Prayers. \n\n\n\n8:15 p.m. to 9 p.m.  | Friday\, Oct. 20 | Prayer Hall | Join in person or watch live at mcceastbay.org/liveIn the enormity of this moment\, MCC is responding to our sisters and brothers in Palestine by: \n\n\n\n\n– Our Jumu’ahs on Friday\, October 20\, are dedicated to our sisters and brothers. Our Khateebs will make dua and encourage worshipers to give generously for humanitarian relief efforts in Gaza. MCC will absorb the credit card processing fees and send collected funds to Islamic Relief & UNRWA. Donate at mcceastbay.org/palestine\n\n\n\n– Our MCC youth are baking goods and selling in the MCC lobby during the Jumu’ahs for humanitarian relief efforts during Jumu’ah.\n\n\n\n\nMCC will cover the credit card processing fees so that 100 percent of our community’s donations go to two reputable organizations providing on-the-ground relief efforts in Gaza. Donate: mcceastbay.org/palestine 
URL:https://mcceastbay.org/event/pray-for-palestine/
CATEGORIES:Family Events
ATTACH;FMTTYPE=image/jpeg:https://mcceastbay.org/wp-content/uploads/2024/06/Supplications-5.jpg
END:VEVENT
END:VCALENDAR