BEGIN:VCALENDAR
VERSION:2.0
PRODID:-//MCC East Bay - ECPv6.15.20//NONSGML v1.0//EN
CALSCALE:GREGORIAN
METHOD:PUBLISH
X-WR-CALNAME:MCC East Bay
X-ORIGINAL-URL:https://mcceastbay.org
X-WR-CALDESC:Events for MCC East Bay
REFRESH-INTERVAL;VALUE=DURATION:PT1H
X-Robots-Tag:noindex
X-PUBLISHED-TTL:PT1H
BEGIN:VTIMEZONE
TZID:America/Los_Angeles
BEGIN:DAYLIGHT
TZOFFSETFROM:-0800
TZOFFSETTO:-0700
TZNAME:PDT
DTSTART:20250309T100000
END:DAYLIGHT
BEGIN:STANDARD
TZOFFSETFROM:-0700
TZOFFSETTO:-0800
TZNAME:PST
DTSTART:20251102T090000
END:STANDARD
BEGIN:DAYLIGHT
TZOFFSETFROM:-0800
TZOFFSETTO:-0700
TZNAME:PDT
DTSTART:20260308T100000
END:DAYLIGHT
BEGIN:STANDARD
TZOFFSETFROM:-0700
TZOFFSETTO:-0800
TZNAME:PST
DTSTART:20261101T090000
END:STANDARD
BEGIN:DAYLIGHT
TZOFFSETFROM:-0800
TZOFFSETTO:-0700
TZNAME:PDT
DTSTART:20270314T100000
END:DAYLIGHT
BEGIN:STANDARD
TZOFFSETFROM:-0700
TZOFFSETTO:-0800
TZNAME:PST
DTSTART:20271107T090000
END:STANDARD
END:VTIMEZONE
BEGIN:VEVENT
DTSTART;TZID=America/Los_Angeles:20260207T180000
DTEND;TZID=America/Los_Angeles:20260207T210000
DTSTAMP:20260421T222225
CREATED:20260129T232753Z
LAST-MODIFIED:20260203T010554Z
UID:81614-1770487200-1770498000@mcceastbay.org
SUMMARY:Pre-Ramadan Youth Social | MCC Youth Committee
DESCRIPTION:For Teen Girls & Boys Ages 12-18: Join us for a special Youth Pre-Ramadan Night led by the MCC Youth Committee Teen Executive Board. This space is created by youth\, for youth\, as we prepare our hearts and community for Ramadan.  \nThis evening is about connection\, excitement\, and stepping into their role as Ramadan advocates at MCC. We’ll share the full Ramadan youth calendar\, enjoy food and drinks together\, and talk about what it truly means to show up for Ramadan with adab\, responsibility\, and pride in our masjid.  \nWe look forward to our youth setting the tone during Ramadan: being role models\, looking out for one another\, and helping keep MCC a welcoming and respectful space for everyone.  \n6 p.m. to 9 p.m. | Saturday\, February\, 7 | MCC Banquet Hall | $5 Registration Fee; RSVP at mcceastbay.org/youth-social  \nMCC has a standing policy that financial need should never hold a person back from attaining spiritual or educational knowledge within the four walls of the Muslim Community Center. For a financial waiver for this event\, please email scholarship@mcceastbay.org.  \nQuestions? events@mcceastbay.org \n 
URL:https://mcceastbay.org/event/pre-ramadan-youth-social/
LOCATION:MCC East Bay\, 5724 W Las Positas Blvd #300\, Pleasanton\, CA\, 94588\, United States
CATEGORIES:Family Events
ATTACH;FMTTYPE=image/jpeg:https://mcceastbay.org/wp-content/uploads/2026/01/Pre-Ramadan-Youth-Social.jpg
ORGANIZER;CN="Muslim Community Center - East Bay":MAILTO:events@mcceastbay.org
END:VEVENT
END:VCALENDAR