BEGIN:VCALENDAR
VERSION:2.0
PRODID:-//MCC East Bay - ECPv6.15.20//NONSGML v1.0//EN
CALSCALE:GREGORIAN
METHOD:PUBLISH
X-WR-CALNAME:MCC East Bay
X-ORIGINAL-URL:https://mcceastbay.org
X-WR-CALDESC:Events for MCC East Bay
REFRESH-INTERVAL;VALUE=DURATION:PT1H
X-Robots-Tag:noindex
X-PUBLISHED-TTL:PT1H
BEGIN:VTIMEZONE
TZID:America/Los_Angeles
BEGIN:DAYLIGHT
TZOFFSETFROM:-0800
TZOFFSETTO:-0700
TZNAME:PDT
DTSTART:20220313T100000
END:DAYLIGHT
BEGIN:STANDARD
TZOFFSETFROM:-0700
TZOFFSETTO:-0800
TZNAME:PST
DTSTART:20221106T090000
END:STANDARD
BEGIN:DAYLIGHT
TZOFFSETFROM:-0800
TZOFFSETTO:-0700
TZNAME:PDT
DTSTART:20230312T100000
END:DAYLIGHT
BEGIN:STANDARD
TZOFFSETFROM:-0700
TZOFFSETTO:-0800
TZNAME:PST
DTSTART:20231105T090000
END:STANDARD
BEGIN:DAYLIGHT
TZOFFSETFROM:-0800
TZOFFSETTO:-0700
TZNAME:PDT
DTSTART:20240310T100000
END:DAYLIGHT
BEGIN:STANDARD
TZOFFSETFROM:-0700
TZOFFSETTO:-0800
TZNAME:PST
DTSTART:20241103T090000
END:STANDARD
END:VTIMEZONE
BEGIN:VEVENT
DTSTART;TZID=America/Los_Angeles:20230315T193000
DTEND;TZID=America/Los_Angeles:20230315T203000
DTSTAMP:20260421T005533
CREATED:20230222T034653Z
LAST-MODIFIED:20230222T034653Z
UID:64075-1678908600-1678912200@mcceastbay.org
SUMMARY:Requesting Religious Accommodations in Ramadan | Ust. Hosai Mojaddidi & Sr. Eman Tai
DESCRIPTION:Join us for this evening workshop with Ustadha Hosai Mojaddidi (a spiritual teacher) and Eman Tai (an experienced attorney)\, where we discuss how families can request religious accommodations for Ramadan in public schools\, how they can support their children in self-advocacy skills\, and how they can recognize & respond to anti-Muslim bias.7:30 p.m. to 8:30 p.m. | Wednesday\, March 15 | Conference Room | Join us in person or watch live at mcceastbay.org/live \n\n\n\nWe also hear from Shazia Kajani\, the advisor for the MSU at Fallon Middle School\, Dena AbuRahma\, a Muslim teacher from Murray Elementary School\, and Br. Waleed Rydhan and Sr. Sakina Ali with the Muslim Student Association (MSA) at Dublin High School. \n\n\n\n– More Ustadha Hosai Mojaddidi: HTTP://mcceastbay.org/hosai– More Sr. Eman Tai Ahmad: HTTP://mcceastbay.org/eman \n\n\n\nUstadha Hosai is the co-founder of MH4M (http://mentalhealth4muslims.com)\, which was established in 2010. For nearly 20 years\, she has been actively involved in the Muslim community in the Bay Area and southern California working and volunteering for many notable organizations. Learn more about her at http://hosaimojaddidi.com  \n\n\n\nEman Tai Ahmad is an active Muslim community member and an experienced attorney with a demonstrated history of working in the nonprofit industry\, including MCC East Bay and CAIR-California. She is a legal and development consultant for Global Muslim Life\, a research center and social impact incubator studying the world’s most diverse faith. \n\n\n\nQuestions? events@mcceastbay.org
URL:https://mcceastbay.org/event/religious-accommodations-workshop/
LOCATION:MCC East Bay\, 5724 W Las Positas Blvd #300\, Pleasanton\, CA\, 94588\, United States
ATTACH;FMTTYPE=image/jpeg:https://mcceastbay.org/wp-content/uploads/2024/06/Ramadan-in-Local-Schools.jpg
END:VEVENT
END:VCALENDAR