BEGIN:VCALENDAR
VERSION:2.0
PRODID:-//MCC East Bay - ECPv6.15.20//NONSGML v1.0//EN
CALSCALE:GREGORIAN
METHOD:PUBLISH
X-WR-CALNAME:MCC East Bay
X-ORIGINAL-URL:https://mcceastbay.org
X-WR-CALDESC:Events for MCC East Bay
REFRESH-INTERVAL;VALUE=DURATION:PT1H
X-Robots-Tag:noindex
X-PUBLISHED-TTL:PT1H
BEGIN:VTIMEZONE
TZID:America/Los_Angeles
BEGIN:DAYLIGHT
TZOFFSETFROM:-0800
TZOFFSETTO:-0700
TZNAME:PDT
DTSTART:20250309T100000
END:DAYLIGHT
BEGIN:STANDARD
TZOFFSETFROM:-0700
TZOFFSETTO:-0800
TZNAME:PST
DTSTART:20251102T090000
END:STANDARD
BEGIN:DAYLIGHT
TZOFFSETFROM:-0800
TZOFFSETTO:-0700
TZNAME:PDT
DTSTART:20260308T100000
END:DAYLIGHT
BEGIN:STANDARD
TZOFFSETFROM:-0700
TZOFFSETTO:-0800
TZNAME:PST
DTSTART:20261101T090000
END:STANDARD
BEGIN:DAYLIGHT
TZOFFSETFROM:-0800
TZOFFSETTO:-0700
TZNAME:PDT
DTSTART:20270314T100000
END:DAYLIGHT
BEGIN:STANDARD
TZOFFSETFROM:-0700
TZOFFSETTO:-0800
TZNAME:PST
DTSTART:20271107T090000
END:STANDARD
END:VTIMEZONE
BEGIN:VEVENT
DTSTART;TZID=America/Los_Angeles:20260417T133000
DTEND;TZID=America/Los_Angeles:20260417T160000
DTSTAMP:20260422T225011
CREATED:20260414T222533Z
LAST-MODIFIED:20260417T013737Z
UID:83769-1776432600-1776441600@mcceastbay.org
SUMMARY:Ride Your Bike to MCC Jumu'ah & Get a Free iniBurger Meal
DESCRIPTION:As MCC continues to grapple with heavy parking congestion at its weekly Jumu’ah services\, starting this Friday\, April 17\, 2026\, we’re excited to offer a special incentive for community members who choose to ride their bikes to the mosque. \nTo help reduce traffic and make things easier for everyone\, we’re encouraging biking as a great alternative. \nAs a thank-you to any worshiper attending the 1:30 p.m.\, 2:30 p.m.\, or 3:40 p.m. service\, the first 20 attendees each Friday who bike to the mosque will receive a complimentary Iniburger meal card good for a complimentary B’igi Burger combo. \nGift cards can be picked up from the Operations Office. Just let our staff member know that you rode your bicycle. Remember to wear your helmet! Please safely park your bike in front of the women’s entrance. \nThis promotion is sponsored by concerned MCC community members who do not want to see MCC’s critical conditional use permit jeopardized and who are appealing to our beloved congregation to attend the weekly off-site auxiliary Jumu’ah or to begin biking to MCC Jumu’ah instead of driving. \nQuestions? events@mcceastbay.org \n\n \n \n 
URL:https://mcceastbay.org/event/ride-your-bike-to-mcc-jumuah-incentive/
ATTACH;FMTTYPE=image/jpeg:https://mcceastbay.org/wp-content/uploads/2026/04/James.jpg
END:VEVENT
END:VCALENDAR