BEGIN:VCALENDAR
VERSION:2.0
PRODID:-//MCC East Bay - ECPv6.15.20//NONSGML v1.0//EN
CALSCALE:GREGORIAN
METHOD:PUBLISH
X-WR-CALNAME:MCC East Bay
X-ORIGINAL-URL:https://mcceastbay.org
X-WR-CALDESC:Events for MCC East Bay
REFRESH-INTERVAL;VALUE=DURATION:PT1H
X-Robots-Tag:noindex
X-PUBLISHED-TTL:PT1H
BEGIN:VTIMEZONE
TZID:America/Los_Angeles
BEGIN:DAYLIGHT
TZOFFSETFROM:-0800
TZOFFSETTO:-0700
TZNAME:PDT
DTSTART:20220313T100000
END:DAYLIGHT
BEGIN:STANDARD
TZOFFSETFROM:-0700
TZOFFSETTO:-0800
TZNAME:PST
DTSTART:20221106T090000
END:STANDARD
BEGIN:DAYLIGHT
TZOFFSETFROM:-0800
TZOFFSETTO:-0700
TZNAME:PDT
DTSTART:20230312T100000
END:DAYLIGHT
BEGIN:STANDARD
TZOFFSETFROM:-0700
TZOFFSETTO:-0800
TZNAME:PST
DTSTART:20231105T090000
END:STANDARD
BEGIN:DAYLIGHT
TZOFFSETFROM:-0800
TZOFFSETTO:-0700
TZNAME:PDT
DTSTART:20240310T100000
END:DAYLIGHT
BEGIN:STANDARD
TZOFFSETFROM:-0700
TZOFFSETTO:-0800
TZNAME:PST
DTSTART:20241103T090000
END:STANDARD
END:VTIMEZONE
BEGIN:VEVENT
DTSTART;TZID=America/Los_Angeles:20231201T134000
DTEND;TZID=America/Los_Angeles:20231201T141000
DTSTAMP:20260421T021159
CREATED:20231129T090832Z
LAST-MODIFIED:20240630T220153Z
UID:64958-1701438000-1701439800@mcceastbay.org
SUMMARY:Off-site Jumu'ah @ Rosewood Commons Conference Center
DESCRIPTION:On Friday\, Dec. 1\, our weekly off-site Jumu’ah (1:40 p.m. to 2:10 p.m.) will be at the Rosewood Commons Conference Center in Pleasanton (4432 Rosewood Dr\, Pleasanton). Please attend this Jumu’ah to help ease parking congestion at MCC. Fulfill your religious obligation while helping your local masjid. \n\n\n\nStarting Friday\, Dec. 8\, we will move back to Dublin Library.
URL:https://mcceastbay.org/event/rosewood-jumuah/
LOCATION:Rosewood Commons Conference Center\, 4432 Rosewood Dr\, Pleasanton\, 94588
ATTACH;FMTTYPE=image/jpeg:https://mcceastbay.org/wp-content/uploads/2024/06/rosewood-conference-center-2.jpeg
END:VEVENT
END:VCALENDAR