BEGIN:VCALENDAR
VERSION:2.0
PRODID:-//MCC East Bay - ECPv6.15.20//NONSGML v1.0//EN
CALSCALE:GREGORIAN
METHOD:PUBLISH
X-WR-CALNAME:MCC East Bay
X-ORIGINAL-URL:https://mcceastbay.org
X-WR-CALDESC:Events for MCC East Bay
REFRESH-INTERVAL;VALUE=DURATION:PT1H
X-Robots-Tag:noindex
X-PUBLISHED-TTL:PT1H
BEGIN:VTIMEZONE
TZID:America/Los_Angeles
BEGIN:DAYLIGHT
TZOFFSETFROM:-0800
TZOFFSETTO:-0700
TZNAME:PDT
DTSTART:20200308T100000
END:DAYLIGHT
BEGIN:STANDARD
TZOFFSETFROM:-0700
TZOFFSETTO:-0800
TZNAME:PST
DTSTART:20201101T090000
END:STANDARD
BEGIN:DAYLIGHT
TZOFFSETFROM:-0800
TZOFFSETTO:-0700
TZNAME:PDT
DTSTART:20210314T100000
END:DAYLIGHT
BEGIN:STANDARD
TZOFFSETFROM:-0700
TZOFFSETTO:-0800
TZNAME:PST
DTSTART:20211107T090000
END:STANDARD
BEGIN:DAYLIGHT
TZOFFSETFROM:-0800
TZOFFSETTO:-0700
TZNAME:PDT
DTSTART:20220313T100000
END:DAYLIGHT
BEGIN:STANDARD
TZOFFSETFROM:-0700
TZOFFSETTO:-0800
TZNAME:PST
DTSTART:20221106T090000
END:STANDARD
END:VTIMEZONE
BEGIN:VEVENT
DTSTART;TZID=America/Los_Angeles:20210514T133000
DTEND;TZID=America/Los_Angeles:20210514T160000
DTSTAMP:20260419T161133
CREATED:20210514T043623Z
LAST-MODIFIED:20210514T043623Z
UID:61859-1620999000-1621008000@mcceastbay.org
SUMMARY:RSVP for an MCC Outdoor Jumu'ah
DESCRIPTION:RSVP for a prayer spot at the outdoor MCC Jumu’ah on Friday\, May 14: \n\nFirst service: 1:30 p.m. to 1:50 p.m.\nSecond service: 2:30 p.m. to 2:50 p.m.\nThird service: 3:40 p.m. to 4 p.m.\n\nUstadh Parvez Ahmed leads the first prayer service and second prayer service and Hafiz Zaid Khanani leads the third service. \nOutdoor prayer space is limited and a RSVP is required. Registration opens to all promptly at 5 p.m. each Thursday. \n\nRSVP for the outdoor prayer services:\n\n1:30 p.m. Jumu’ah: https://mcceastbay.org/jumuah-1\n2:30 p.m. Jumu’ah: https://mcceastbay.org/jumuah-2\n3:40 p.m. Jumu’ah: https://mcceastbay.org/jumuah-3\n\n\nWatch these three sermons live from home: https://mcceastbay.org/live\n– Sidi Parvez: https://mcceastbay.org/parvez\n– More Sidi Zaid Khanani: https://mcceastbay.org/zaid-khanani\n\nQuestions? events@mcceastbay.org \nAlameda County is in the orange tier\, which means COVID-19 cases are still happening. \nWe remain cautiously outdoors for the five daily prayers and three outdoor Jumu’ah services (weather permitting). Learn more at https://mcceastbay.org/reopening \nWe limit the number of worshipers at each service. You may forfeit your prayer spot if you do not arrive in the MCC parking lot when the sermon begins promptly at 1:30 p.m./2:30 p.m./3:40 p.m. each Friday.
URL:https://mcceastbay.org/event/rsvp-for-an-mcc-outdoor-jumuah-19/
ATTACH;FMTTYPE=image/png:https://mcceastbay.org/wp-content/uploads/2024/06/Jumuah-Khutbahs-Outdoor-Three-Khateebs.png
END:VEVENT
END:VCALENDAR