BEGIN:VCALENDAR
VERSION:2.0
PRODID:-//MCC East Bay - ECPv6.15.20//NONSGML v1.0//EN
CALSCALE:GREGORIAN
METHOD:PUBLISH
X-WR-CALNAME:MCC East Bay
X-ORIGINAL-URL:https://mcceastbay.org
X-WR-CALDESC:Events for MCC East Bay
REFRESH-INTERVAL;VALUE=DURATION:PT1H
X-Robots-Tag:noindex
X-PUBLISHED-TTL:PT1H
BEGIN:VTIMEZONE
TZID:America/Los_Angeles
BEGIN:DAYLIGHT
TZOFFSETFROM:-0800
TZOFFSETTO:-0700
TZNAME:PDT
DTSTART:20240310T100000
END:DAYLIGHT
BEGIN:STANDARD
TZOFFSETFROM:-0700
TZOFFSETTO:-0800
TZNAME:PST
DTSTART:20241103T090000
END:STANDARD
BEGIN:DAYLIGHT
TZOFFSETFROM:-0800
TZOFFSETTO:-0700
TZNAME:PDT
DTSTART:20250309T100000
END:DAYLIGHT
BEGIN:STANDARD
TZOFFSETFROM:-0700
TZOFFSETTO:-0800
TZNAME:PST
DTSTART:20251102T090000
END:STANDARD
BEGIN:DAYLIGHT
TZOFFSETFROM:-0800
TZOFFSETTO:-0700
TZNAME:PDT
DTSTART:20260308T100000
END:DAYLIGHT
BEGIN:STANDARD
TZOFFSETFROM:-0700
TZOFFSETTO:-0800
TZNAME:PST
DTSTART:20261101T090000
END:STANDARD
END:VTIMEZONE
BEGIN:VEVENT
DTSTART;TZID=America/Los_Angeles:20250502T133000
DTEND;TZID=America/Los_Angeles:20250502T170000
DTSTAMP:20260422T010700
CREATED:20250422T214723Z
LAST-MODIFIED:20250430T192347Z
UID:76238-1746192600-1746205200@mcceastbay.org
SUMMARY:San Francisco Islamic School Tables @ MCC Jumu'ahs
DESCRIPTION:San Francisco Islamic School is the first and only full-time Islamic School in the city of San Francisco. The organization has been serving the Bay Area since 2005 and is seeking financial support to keep tuition affordable and expand its programs and services. \nVisit their table this Friday to learn more about them and how you can support them.
URL:https://mcceastbay.org/event/san-francisco-islamic-school-tables-mcc-jumuahs/
ATTACH;FMTTYPE=image/png:https://mcceastbay.org/wp-content/uploads/2025/04/SFIS.png
END:VEVENT
END:VCALENDAR