BEGIN:VCALENDAR
VERSION:2.0
PRODID:-//MCC East Bay - ECPv6.15.20//NONSGML v1.0//EN
CALSCALE:GREGORIAN
METHOD:PUBLISH
X-WR-CALNAME:MCC East Bay
X-ORIGINAL-URL:https://mcceastbay.org
X-WR-CALDESC:Events for MCC East Bay
REFRESH-INTERVAL;VALUE=DURATION:PT1H
X-Robots-Tag:noindex
X-PUBLISHED-TTL:PT1H
BEGIN:VTIMEZONE
TZID:America/Los_Angeles
BEGIN:DAYLIGHT
TZOFFSETFROM:-0800
TZOFFSETTO:-0700
TZNAME:PDT
DTSTART:20220313T100000
END:DAYLIGHT
BEGIN:STANDARD
TZOFFSETFROM:-0700
TZOFFSETTO:-0800
TZNAME:PST
DTSTART:20221106T090000
END:STANDARD
BEGIN:DAYLIGHT
TZOFFSETFROM:-0800
TZOFFSETTO:-0700
TZNAME:PDT
DTSTART:20230312T100000
END:DAYLIGHT
BEGIN:STANDARD
TZOFFSETFROM:-0700
TZOFFSETTO:-0800
TZNAME:PST
DTSTART:20231105T090000
END:STANDARD
BEGIN:DAYLIGHT
TZOFFSETFROM:-0800
TZOFFSETTO:-0700
TZNAME:PDT
DTSTART:20240310T100000
END:DAYLIGHT
BEGIN:STANDARD
TZOFFSETFROM:-0700
TZOFFSETTO:-0800
TZNAME:PST
DTSTART:20241103T090000
END:STANDARD
END:VTIMEZONE
BEGIN:VEVENT
DTSTART;TZID=America/Los_Angeles:20230912T190000
DTEND;TZID=America/Los_Angeles:20230912T193000
DTSTAMP:20260421T010048
CREATED:20230808T235211Z
LAST-MODIFIED:20240630T215719Z
UID:64590-1694545200-1694547000@mcceastbay.org
SUMMARY:American Muslim Appreciation and Awareness Month: San Ramon City Council
DESCRIPTION:At 7 p.m. on Tuesday\, Sept. 12\, the San Ramon City Council joins communities throughout the State of California in recognizing the month of August 2023 as Muslim Appreciation and Awareness Month. \n\n\n\nThe MCC encourages all congregation members to attend in person\, watch the live stream\, and express our community’s appreciation for this and other upcoming Proclamations: \n\n\n\n\n– Livermore (TBA)\n\n\n\n– San Ramon at 7 p.m. on Tuesday\, September 12: https://mcceastbay.org/event/san-ramon-council-2/\n\n\n\n– Dublin at 7 p.m. on Tuesday\, August 15: https://mcceastbay.org/event/dublin-city-council\n\n\n\n– Pleasanton (TBA)\n\n\n\n\n\n\n\n\n\n\n\n\n\n\n7 p.m. to 7:30 p.m. | Tuesday\, September 12 | San Ramon City Hall\, 7000 Bollinger Canyon Rd. San Ramon\, CA 94583 \n\n\n\nThe MCC encourages all congregation members to attend in person\, watch the live stream\, and express our community’s appreciation. We especially encourage residents who live and/or work in the City of San Ramon. \n\n\n\nTo join in person\, virtually\, and/or to leave a comment: http://sanramonca.iqm2.com/citizens/default.aspx? \n\n\n\nThis is the fifth year the San Ramon City Council has had this Proclamation. These are the Tri-Valley City Council commemorations in 2022: https://youtu.be/-NMl5-o2tHU \n\n\n\nThis Proclamation acknowledges the rich history and guiding virtues of American Muslims and commends Muslim communities in California for the lasting positive impact they have made\, and continue to make\, toward the advancement of the state and the nation. \n\n\n\nThe San Ramon City Council follows in the steps of other City Councils in the San Francisco Bay Area\, like Santa Clara\, Pleasanton\, Hayward\, Dublin\, Livermore\, Union City\, Oakland\, San Jose\, and Redwood City. The Proclamation is likely the first agenda item\, so please be on time at 7 p.m. for the meeting. \n\n\n\nQuestions? events@mcceastbay.org \n\n\n\nOur community’s sincere gratitude to Sister Sameena Usman at CAIR – San Francisco Bay Area. For several years\, she has facilitated these Proclamations in the Bay Area. \n\n\n\n\n– More CAIR-cosponsored events: https://mcceastbay.org/cair\n\n\n\n\nQuestions? events@mcceastbay.org
URL:https://mcceastbay.org/event/san-ramon-council-2/
LOCATION:MCC East Bay\, 5724 W Las Positas Blvd #300\, Pleasanton\, CA\, 94588\, United States
ATTACH;FMTTYPE=image/jpeg:https://mcceastbay.org/wp-content/uploads/2024/06/American-Muslim-Appreciation-and-Awareness-Month-San-Ramon.jpg
END:VEVENT
END:VCALENDAR