BEGIN:VCALENDAR
VERSION:2.0
PRODID:-//MCC East Bay - ECPv6.15.20//NONSGML v1.0//EN
CALSCALE:GREGORIAN
METHOD:PUBLISH
X-WR-CALNAME:MCC East Bay
X-ORIGINAL-URL:https://mcceastbay.org
X-WR-CALDESC:Events for MCC East Bay
REFRESH-INTERVAL;VALUE=DURATION:PT1H
X-Robots-Tag:noindex
X-PUBLISHED-TTL:PT1H
BEGIN:VTIMEZONE
TZID:America/Los_Angeles
BEGIN:DAYLIGHT
TZOFFSETFROM:-0800
TZOFFSETTO:-0700
TZNAME:PDT
DTSTART:20230312T100000
END:DAYLIGHT
BEGIN:STANDARD
TZOFFSETFROM:-0700
TZOFFSETTO:-0800
TZNAME:PST
DTSTART:20231105T090000
END:STANDARD
BEGIN:DAYLIGHT
TZOFFSETFROM:-0800
TZOFFSETTO:-0700
TZNAME:PDT
DTSTART:20240310T100000
END:DAYLIGHT
BEGIN:STANDARD
TZOFFSETFROM:-0700
TZOFFSETTO:-0800
TZNAME:PST
DTSTART:20241103T090000
END:STANDARD
BEGIN:DAYLIGHT
TZOFFSETFROM:-0800
TZOFFSETTO:-0700
TZNAME:PDT
DTSTART:20250309T100000
END:DAYLIGHT
BEGIN:STANDARD
TZOFFSETFROM:-0700
TZOFFSETTO:-0800
TZNAME:PST
DTSTART:20251102T090000
END:STANDARD
END:VTIMEZONE
BEGIN:VEVENT
DTSTART;TZID=America/Los_Angeles:20240722T184500
DTEND;TZID=America/Los_Angeles:20240722T200000
DTSTAMP:20260424T051334
CREATED:20240523T023853Z
LAST-MODIFIED:20240725T223430Z
UID:65517-1721673900-1721678400@mcceastbay.org
SUMMARY:Anatomy and Physiology 101 Summer Camp | Dr. Ehthesham Ali
DESCRIPTION:Join us for a week-long summer camp led by Dr. Ehthesham Ali\, a local physician in the East Bay. The camp will focus on anatomy and physiology for students interested in healthcare careers. \n\n\n\nWe will focus on a different organ system(s) each day. Dr. Ali will also discuss medicine as a career and hold a Q&A panel with several local physicians. \n\n\n\nThe camp will conclude with an animal dissection activity. \n\n\n\nMonday thru Friday\, July 22-26 | 6:45 p.m. to 8 p.m. | Boys & Girls Ages 12-16 | $20/person | Register at mcceastbay.org/science-campCapped at 30 students. \n\n\n\nMCC has a standing policy that financial need should never hold a person back from attaining knowledge offered within the four walls of MCC’s facility. To request a financial waiver or discount\, please complete: https://mcceastbay.org/scholarship \n\n\n\nAbout the Instructor: \n\n\n\nDr. Ehthesham Ali is a local physician practicing in Contra Costa & Alameda counties. He specializes in Anesthesiology and Pain Management. \n\n\n\nQuestions? events@mcceastbay.org \n\n\n\n\n\n\n\n\n\n\n\n\n\n\n\n\n\n 
URL:https://mcceastbay.org/event/science-101/
CATEGORIES:Classes & Activities
ATTACH;FMTTYPE=image/jpeg:https://mcceastbay.org/wp-content/uploads/2024/06/Anatomy-and-Physiology-Camp.jpg
END:VEVENT
END:VCALENDAR