BEGIN:VCALENDAR
VERSION:2.0
PRODID:-//MCC East Bay - ECPv6.15.20//NONSGML v1.0//EN
CALSCALE:GREGORIAN
METHOD:PUBLISH
X-WR-CALNAME:MCC East Bay
X-ORIGINAL-URL:https://mcceastbay.org
X-WR-CALDESC:Events for MCC East Bay
REFRESH-INTERVAL;VALUE=DURATION:PT1H
X-Robots-Tag:noindex
X-PUBLISHED-TTL:PT1H
BEGIN:VTIMEZONE
TZID:America/Los_Angeles
BEGIN:DAYLIGHT
TZOFFSETFROM:-0800
TZOFFSETTO:-0700
TZNAME:PDT
DTSTART:20230312T100000
END:DAYLIGHT
BEGIN:STANDARD
TZOFFSETFROM:-0700
TZOFFSETTO:-0800
TZNAME:PST
DTSTART:20231105T090000
END:STANDARD
BEGIN:DAYLIGHT
TZOFFSETFROM:-0800
TZOFFSETTO:-0700
TZNAME:PDT
DTSTART:20240310T100000
END:DAYLIGHT
BEGIN:STANDARD
TZOFFSETFROM:-0700
TZOFFSETTO:-0800
TZNAME:PST
DTSTART:20241103T090000
END:STANDARD
BEGIN:DAYLIGHT
TZOFFSETFROM:-0800
TZOFFSETTO:-0700
TZNAME:PDT
DTSTART:20250309T100000
END:DAYLIGHT
BEGIN:STANDARD
TZOFFSETFROM:-0700
TZOFFSETTO:-0800
TZNAME:PST
DTSTART:20251102T090000
END:STANDARD
END:VTIMEZONE
BEGIN:VEVENT
DTSTART;TZID=America/Los_Angeles:20241130T143000
DTEND;TZID=America/Los_Angeles:20241130T180000
DTSTAMP:20260420T014039
CREATED:20241109T002145Z
LAST-MODIFIED:20241125T182442Z
UID:71356-1732977000-1732989600@mcceastbay.org
SUMMARY:Shukr Celebration for Converts
DESCRIPTION:“If you are grateful\, I will surely increase you” – Surah Ibrahim\, Ayat 7 \nAs Converts/New Muslims\, we strive to bring the good and beneficial aspects of our cultures with us into the Deen of Islam. Ash-Shukur (the Grateful) is one of the 99 names of Allah (swt)\, and as Muslims\, we should strive to embody and encourage one another toward gratitude year-round. \nJoin us on a Saturday afternoon as we take the opportunity of the season for our own dinner of Shukr (gratitude) while enjoying some halal turkey and traditional seasonal treats. \nNon-Muslim and born-Muslim friends and family are welcome as well. \nSaturday\, Nov. 30 | 2:30 p.m. to 6 p.m. |  MCC Conference Room   & MCC Banquet Hall | For Converts/New Muslims & Family/Friends\, RSVP at mcceastbay.org/shukr \n\n– How MCC supports new Muslims: https://mcceastbay.org/convert-care\n– Recordings of educational talks for reverts playlist: https://mcceastbay.org/after-shahada\n– Shahadah moments at the MCC: https://mcceastbay.org/shahada\n\nQuestions? marhaba@mcceastbay.org
URL:https://mcceastbay.org/event/shukr-celebration/
LOCATION:MCC East Bay\, 5724 W Las Positas Blvd #300\, Pleasanton\, CA\, 94588\, United States
CATEGORIES:New Muslims
ATTACH;FMTTYPE=image/png:https://mcceastbay.org/wp-content/uploads/2024/11/Copy-of-Instagram-Posts-20.png
ORGANIZER;CN="MCC New Muslim Support Group":MAILTO:mentorship@mcceastbay.org
END:VEVENT
END:VCALENDAR