BEGIN:VCALENDAR
VERSION:2.0
PRODID:-//MCC East Bay - ECPv6.15.20//NONSGML v1.0//EN
CALSCALE:GREGORIAN
METHOD:PUBLISH
X-WR-CALNAME:MCC East Bay
X-ORIGINAL-URL:https://mcceastbay.org
X-WR-CALDESC:Events for MCC East Bay
REFRESH-INTERVAL;VALUE=DURATION:PT1H
X-Robots-Tag:noindex
X-PUBLISHED-TTL:PT1H
BEGIN:VTIMEZONE
TZID:America/Los_Angeles
BEGIN:DAYLIGHT
TZOFFSETFROM:-0800
TZOFFSETTO:-0700
TZNAME:PDT
DTSTART:20230312T100000
END:DAYLIGHT
BEGIN:STANDARD
TZOFFSETFROM:-0700
TZOFFSETTO:-0800
TZNAME:PST
DTSTART:20231105T090000
END:STANDARD
BEGIN:DAYLIGHT
TZOFFSETFROM:-0800
TZOFFSETTO:-0700
TZNAME:PDT
DTSTART:20240310T100000
END:DAYLIGHT
BEGIN:STANDARD
TZOFFSETFROM:-0700
TZOFFSETTO:-0800
TZNAME:PST
DTSTART:20241103T090000
END:STANDARD
BEGIN:DAYLIGHT
TZOFFSETFROM:-0800
TZOFFSETTO:-0700
TZNAME:PDT
DTSTART:20250309T100000
END:DAYLIGHT
BEGIN:STANDARD
TZOFFSETFROM:-0700
TZOFFSETTO:-0800
TZNAME:PST
DTSTART:20251102T090000
END:STANDARD
END:VTIMEZONE
BEGIN:VEVENT
DTSTART;TZID=America/Los_Angeles:20240119T190000
DTEND;TZID=America/Los_Angeles:20240119T210000
DTSTAMP:20260420T193142
CREATED:20231227T223844Z
LAST-MODIFIED:20231227T223844Z
UID:65028-1705690800-1705698000@mcceastbay.org
SUMMARY:Story of Revelation: Introduction to the Quran
DESCRIPTION:Get inspired and develop a yearning for the book of Allah (swt) by learning the sciences of the Qur’an with Ustadh Basil Farooq from Kitaab Academy. Join us as we delve into major topics about the Quran\, including its definition\, names and meanings\, nature of revelation\, and modes of revelation. \n\n\n\nFriday\, January 19\, 2024 | 7 p.m. – 9 p.m. | MCC Prayer Hall | Join in person or watch live at mcceastbay.org/live \n\n\n\nAbout Ustadh Basil \n\n\n\nUstadh Basil grew up in the UAE and the Bay Area. He completed his memorization of the Quran at the age of 14. Later\, he completed his study of the ten canonical qirā’āt of the Quran and received authorization (ijāza) to transmit and teach them at Recite with Love. He completed BAs in Economics and Applied Mathematics from UC Berkeley in 2019 and worked full-time as an economist in the antitrust litigation industry. \n\n\n\nHe has pursued higher Islamic education for over five years and is currently an ‘Alimiyyah student at Qalam Institute in Dallas. He has studied Tafsīr\, Hadith\, Fiqh (Shāfi’ī and Hanafī)\, Usul al-Fiqh\, ‘Aqīda\, Tajwīd\, ‘Ulum al-Qur’an and Arabic Literature. He is also conducting research and writing on various topics within Quranic Studies and Tafsīr under the guidance of his teachers. He recently published a short book titled “Within its Depths: How the Canonical Recitations Affect the Meaning of the Qur’an.”
URL:https://mcceastbay.org/event/story-of-revelation/
CATEGORIES:Family Events
ATTACH;FMTTYPE=image/jpeg:https://mcceastbay.org/wp-content/uploads/2024/06/Ustadh-Basil-Farooq-1.jpg
END:VEVENT
END:VCALENDAR