BEGIN:VCALENDAR
VERSION:2.0
PRODID:-//MCC East Bay - ECPv6.15.20//NONSGML v1.0//EN
CALSCALE:GREGORIAN
METHOD:PUBLISH
X-WR-CALNAME:MCC East Bay
X-ORIGINAL-URL:https://mcceastbay.org
X-WR-CALDESC:Events for MCC East Bay
REFRESH-INTERVAL;VALUE=DURATION:PT1H
X-Robots-Tag:noindex
X-PUBLISHED-TTL:PT1H
BEGIN:VTIMEZONE
TZID:America/Los_Angeles
BEGIN:DAYLIGHT
TZOFFSETFROM:-0800
TZOFFSETTO:-0700
TZNAME:PDT
DTSTART:20220313T100000
END:DAYLIGHT
BEGIN:STANDARD
TZOFFSETFROM:-0700
TZOFFSETTO:-0800
TZNAME:PST
DTSTART:20221106T090000
END:STANDARD
BEGIN:DAYLIGHT
TZOFFSETFROM:-0800
TZOFFSETTO:-0700
TZNAME:PDT
DTSTART:20230312T100000
END:DAYLIGHT
BEGIN:STANDARD
TZOFFSETFROM:-0700
TZOFFSETTO:-0800
TZNAME:PST
DTSTART:20231105T090000
END:STANDARD
BEGIN:DAYLIGHT
TZOFFSETFROM:-0800
TZOFFSETTO:-0700
TZNAME:PDT
DTSTART:20240310T100000
END:DAYLIGHT
BEGIN:STANDARD
TZOFFSETFROM:-0700
TZOFFSETTO:-0800
TZNAME:PST
DTSTART:20241103T090000
END:STANDARD
END:VTIMEZONE
BEGIN:VEVENT
DTSTART;TZID=America/Los_Angeles:20231013T203000
DTEND;TZID=America/Los_Angeles:20231013T204500
DTSTAMP:20260421T141855
CREATED:20231013T015520Z
LAST-MODIFIED:20240630T215929Z
UID:64775-1697229000-1697229900@mcceastbay.org
SUMMARY:Dua for our Brothers & Sisters | Qari Amar Bellaha & Dr. Masoud Qazen
DESCRIPTION:“The parable of the believers in their affection\, mercy\, and compassion for each other is that of a body. When any limb aches\, the whole body reacts with sleeplessness and fever.” Prophet Muhammad (PBUH) \n\n\n\nIn the enormity of this moment\, MCC is responding to our sisters and brothers in Palestine by: \n\n\n\n\n– Our Jumu’ahs on Friday\, October 13\, are dedicated to our sisters and brothers. Our Khateebs will make dua and encourage worshipers to give generously for humanitarian relief efforts in Gaza. MCC will absorb the credit card processing fees and send collected funds to Islamic Relief & UNRWA. Donate at mcceastbay.org/palestine\n\n\n\n– Our MCC youth are baking goods and selling in the MCC lobby during the Jumu’ahs for humanitarian relief efforts during Jumu’ah.\n\n\n\n– Dr. Rania Awaad from Maristan will also lead a pop-up Community Circle for Palestine at 5 p.m. on Monday\, October 16. RSVP. \n\n\n\n\nMCC will cover the credit card processing fees so that 100 percent of our community’s donations go to two reputable organizations providing on-the-ground relief efforts in Gaza. Donate: mcceastbay.org/palestine \n\n\n\n8:30 p.m. to 8:45 p.m. | Friday\, Oct. 13 | Prayer Hall | Join in person or watch live at mcceastbay.org/live \n\n\n\nFrom 7 p.m. to 9 p.m. on Friday night\, Dr. Rania will have a special women’s gathering with Ustadha Shamira Ahmed and others. \n\n\n\n\n\n\n\nDr. Rania Awaad from Maristan will also lead a pop-up Community Circle for Palestine at 5 p.m. on Monday\, October 16. RSVP.  \n\n\n\nPOP-UP COMMUNITY CIRCLEVoting the Enormity of this Moment  \n\n\n\nThis circle will serve as a safe space for discussion and prayer for our brothers and sisters in Palestine. Maristan’s President\, Dr. Rania Awaad; and our expert guest speakers\, Dr. Hatem Bazian\, Dr. Omar Suleiman (tentative)\, Dr. Jess Ghannam\, and Sheikh Tariq Musleh\, MSW will address the following objectives:       Education: To address and historically contextualize what is currently happening in Palestine      Mental Health Support: To learn mechanisms for coping with conflicting or complicated emotions      Community call to action: what is our role in supporting our Palestinian Brothers and sisters?      Prayer: Duaa Nasiri (prayer of the oppressed) for our brothers and sisters in Palestine        Join us Monday evening on October 16\, 2023 at 5 p.m. PST / 8 p.m. EST       
URL:https://mcceastbay.org/event/supplication/
ATTACH;FMTTYPE=image/jpeg:https://mcceastbay.org/wp-content/uploads/2024/06/Supplications.jpg
END:VEVENT
END:VCALENDAR