BEGIN:VCALENDAR
VERSION:2.0
PRODID:-//MCC East Bay - ECPv6.15.20//NONSGML v1.0//EN
CALSCALE:GREGORIAN
METHOD:PUBLISH
X-WR-CALNAME:MCC East Bay
X-ORIGINAL-URL:https://mcceastbay.org
X-WR-CALDESC:Events for MCC East Bay
REFRESH-INTERVAL;VALUE=DURATION:PT1H
X-Robots-Tag:noindex
X-PUBLISHED-TTL:PT1H
BEGIN:VTIMEZONE
TZID:America/Los_Angeles
BEGIN:DAYLIGHT
TZOFFSETFROM:-0800
TZOFFSETTO:-0700
TZNAME:PDT
DTSTART:20250309T100000
END:DAYLIGHT
BEGIN:STANDARD
TZOFFSETFROM:-0700
TZOFFSETTO:-0800
TZNAME:PST
DTSTART:20251102T090000
END:STANDARD
BEGIN:DAYLIGHT
TZOFFSETFROM:-0800
TZOFFSETTO:-0700
TZNAME:PDT
DTSTART:20260308T100000
END:DAYLIGHT
BEGIN:STANDARD
TZOFFSETFROM:-0700
TZOFFSETTO:-0800
TZNAME:PST
DTSTART:20261101T090000
END:STANDARD
BEGIN:DAYLIGHT
TZOFFSETFROM:-0800
TZOFFSETTO:-0700
TZNAME:PDT
DTSTART:20270314T100000
END:DAYLIGHT
BEGIN:STANDARD
TZOFFSETFROM:-0700
TZOFFSETTO:-0800
TZNAME:PST
DTSTART:20271107T090000
END:STANDARD
END:VTIMEZONE
BEGIN:VEVENT
DTSTART;TZID=America/Los_Angeles:20260131T140000
DTEND;TZID=America/Los_Angeles:20260131T153000
DTSTAMP:20260421T094540
CREATED:20260120T173325Z
LAST-MODIFIED:20260122T171418Z
UID:81433-1769868000-1769873400@mcceastbay.org
SUMMARY:Building Circles of Support: Creating Sustainable Networks for Families | Wajma Nasir\, LMFT (Virtual)
DESCRIPTION:For parents\, families\, and caregivers of individuals with special needs\, join us for a wellness circle with Wajma Nasir\, a Licensed Marriage and Family Therapist\, to discuss challenges\, resources\, and strategies for providing the best care for our families and ourselves. This month’s topic is Building Circles of Support: Creating Sustainable Networks for Families.  \nThese wellness circles provide a safe space for caregivers with special needs to connect and share their experiences. It allows caregivers to share their joys and frustrations\, ask questions\, form friendships\, and more. \nSaturday\, Jan. 31 | 2 p.m. to 3:30 p.m. | Virtual only | RSVP at mcceastbay.org/wellness-circle \nCo-sponsored by Muhsen\, Maristan\, & MCC East Bay \nQuestions? events@mcceastbay.org \nWajma Nasir is a Licensed Marriage and Family Therapist with a deep commitment to supporting individuals\, couples\, and families through life’s most challenging moments. She brings extensive experience in helping clients work through trauma\, anxiety\, relational conflicts\, and life transitions. \nWith warmth\, empathy\, and cultural sensitivity\, Wajma creates a safe space for clients to explore their emotional world and develop healthy coping and communication strategies. Her integrative approach draws from a range of evidence-based modalities\, tailored to meet the unique needs of each client. \nIn addition to her clinical training\, Wajma is a certified Domestic Violence Counselor and fluent in Dari. She continues to support Maristan’s Afghan Refugee School Impact (ARSI) program as a contracted counselor\, providing culturally informed care to newly arrived Afghan families.
URL:https://mcceastbay.org/event/support-circles/
CATEGORIES:Family Events
ATTACH;FMTTYPE=image/jpeg:https://mcceastbay.org/wp-content/uploads/2026/01/updated-Wellness-Circle.jpg
ORGANIZER;CN="Muslim Community Center - East Bay":MAILTO:events@mcceastbay.org
LOCATION:mcceastbay.org/wellness-circle
END:VEVENT
END:VCALENDAR