BEGIN:VCALENDAR
VERSION:2.0
PRODID:-//MCC East Bay - ECPv6.15.20//NONSGML v1.0//EN
CALSCALE:GREGORIAN
METHOD:PUBLISH
X-WR-CALNAME:MCC East Bay
X-ORIGINAL-URL:https://mcceastbay.org
X-WR-CALDESC:Events for MCC East Bay
REFRESH-INTERVAL;VALUE=DURATION:PT1H
X-Robots-Tag:noindex
X-PUBLISHED-TTL:PT1H
BEGIN:VTIMEZONE
TZID:America/Los_Angeles
BEGIN:DAYLIGHT
TZOFFSETFROM:-0800
TZOFFSETTO:-0700
TZNAME:PDT
DTSTART:20250309T100000
END:DAYLIGHT
BEGIN:STANDARD
TZOFFSETFROM:-0700
TZOFFSETTO:-0800
TZNAME:PST
DTSTART:20251102T090000
END:STANDARD
BEGIN:DAYLIGHT
TZOFFSETFROM:-0800
TZOFFSETTO:-0700
TZNAME:PDT
DTSTART:20260308T100000
END:DAYLIGHT
BEGIN:STANDARD
TZOFFSETFROM:-0700
TZOFFSETTO:-0800
TZNAME:PST
DTSTART:20261101T090000
END:STANDARD
BEGIN:DAYLIGHT
TZOFFSETFROM:-0800
TZOFFSETTO:-0700
TZNAME:PDT
DTSTART:20270314T100000
END:DAYLIGHT
BEGIN:STANDARD
TZOFFSETFROM:-0700
TZOFFSETTO:-0800
TZNAME:PST
DTSTART:20271107T090000
END:STANDARD
END:VTIMEZONE
BEGIN:VEVENT
DTSTART;TZID=America/Los_Angeles:20260109T123000
DTEND;TZID=America/Los_Angeles:20260109T150000
DTSTAMP:20260424T064308
CREATED:20260102T171630Z
LAST-MODIFIED:20260107T084113Z
UID:81074-1767961800-1767970800@mcceastbay.org
SUMMARY:Tawheed Islamic Center Dublin Tables @ MCC Jumu'ahs
DESCRIPTION:Tawheed Islamic Center is a new Islamic School in Dublin (7021 Village Pkwy\, Dublin\, CA 94568) that offers Quran\, Tajweed\, and Memorization classes for children and adults. They are open for five daily prayers and Jummah prayers\, and they are currently in need of community support. Qari Sebghatullah Amin leads Islamic educational classes at the center. \nVisit their table this Friday to learn more and support them. \nQuestions? (925) 918-2729 or tawheedislamiccenterca@gmail.com
URL:https://mcceastbay.org/event/tawheed-islamic-center-tables-mcc-jumuahs/
LOCATION:MCC East Bay\, 5724 W Las Positas Blvd #300\, Pleasanton\, CA\, 94588\, United States
ATTACH;FMTTYPE=image/jpeg:https://mcceastbay.org/wp-content/uploads/2026/01/Tawheed-Islamic-Center.jpg
END:VEVENT
END:VCALENDAR