BEGIN:VCALENDAR
VERSION:2.0
PRODID:-//MCC East Bay - ECPv6.15.20//NONSGML v1.0//EN
CALSCALE:GREGORIAN
METHOD:PUBLISH
X-WR-CALNAME:MCC East Bay
X-ORIGINAL-URL:https://mcceastbay.org
X-WR-CALDESC:Events for MCC East Bay
REFRESH-INTERVAL;VALUE=DURATION:PT1H
X-Robots-Tag:noindex
X-PUBLISHED-TTL:PT1H
BEGIN:VTIMEZONE
TZID:America/Los_Angeles
BEGIN:DAYLIGHT
TZOFFSETFROM:-0800
TZOFFSETTO:-0700
TZNAME:PDT
DTSTART:20230312T100000
END:DAYLIGHT
BEGIN:STANDARD
TZOFFSETFROM:-0700
TZOFFSETTO:-0800
TZNAME:PST
DTSTART:20231105T090000
END:STANDARD
BEGIN:DAYLIGHT
TZOFFSETFROM:-0800
TZOFFSETTO:-0700
TZNAME:PDT
DTSTART:20240310T100000
END:DAYLIGHT
BEGIN:STANDARD
TZOFFSETFROM:-0700
TZOFFSETTO:-0800
TZNAME:PST
DTSTART:20241103T090000
END:STANDARD
BEGIN:DAYLIGHT
TZOFFSETFROM:-0800
TZOFFSETTO:-0700
TZNAME:PDT
DTSTART:20250309T100000
END:DAYLIGHT
BEGIN:STANDARD
TZOFFSETFROM:-0700
TZOFFSETTO:-0800
TZNAME:PST
DTSTART:20251102T090000
END:STANDARD
END:VTIMEZONE
BEGIN:VEVENT
DTSTART;TZID=America/Los_Angeles:20240927T133000
DTEND;TZID=America/Los_Angeles:20240927T160000
DTSTAMP:20260422T022247
CREATED:20240709T165758Z
LAST-MODIFIED:20240925T160704Z
UID:67119-1727443800-1727452800@mcceastbay.org
SUMMARY:Third Pillar Islamic Charity Tables @ MCC Jumu'ahs
DESCRIPTION:Third Pillar USA is a charity organization based in the United States\, with a focus on alleviating the pressures of poverty in the local community. The organization is comprised of passionate individuals from across the Bay Area\, working in various professions with a shared commitment. They operate under the guidance of respected scholars in Toronto to ensure that their work aligns with the principles of Islam. We believe that education is one of the most powerful tools in the fight against poverty\, and we strive to provide accessible education to those in need. Our initiatives include building schools\, providing scholarships\, and offering vocational training programs. \nOn this Friday\, they are collecting funds for Gaza refugees in Egypt. Please visit their table for more information.
URL:https://mcceastbay.org/event/third-pillar-islamic-charity-tables-mcc-jumuahs/
ATTACH;FMTTYPE=image/png:https://mcceastbay.org/wp-content/uploads/2024/07/Third-Pillar-logo.png
END:VEVENT
END:VCALENDAR