BEGIN:VCALENDAR
VERSION:2.0
PRODID:-//MCC East Bay - ECPv6.15.20//NONSGML v1.0//EN
CALSCALE:GREGORIAN
METHOD:PUBLISH
X-WR-CALNAME:MCC East Bay
X-ORIGINAL-URL:https://mcceastbay.org
X-WR-CALDESC:Events for MCC East Bay
REFRESH-INTERVAL;VALUE=DURATION:PT1H
X-Robots-Tag:noindex
X-PUBLISHED-TTL:PT1H
BEGIN:VTIMEZONE
TZID:America/Los_Angeles
BEGIN:DAYLIGHT
TZOFFSETFROM:-0800
TZOFFSETTO:-0700
TZNAME:PDT
DTSTART:20220313T100000
END:DAYLIGHT
BEGIN:STANDARD
TZOFFSETFROM:-0700
TZOFFSETTO:-0800
TZNAME:PST
DTSTART:20221106T090000
END:STANDARD
BEGIN:DAYLIGHT
TZOFFSETFROM:-0800
TZOFFSETTO:-0700
TZNAME:PDT
DTSTART:20230312T100000
END:DAYLIGHT
BEGIN:STANDARD
TZOFFSETFROM:-0700
TZOFFSETTO:-0800
TZNAME:PST
DTSTART:20231105T090000
END:STANDARD
BEGIN:DAYLIGHT
TZOFFSETFROM:-0800
TZOFFSETTO:-0700
TZNAME:PDT
DTSTART:20240310T100000
END:DAYLIGHT
BEGIN:STANDARD
TZOFFSETFROM:-0700
TZOFFSETTO:-0800
TZNAME:PST
DTSTART:20241103T090000
END:STANDARD
END:VTIMEZONE
BEGIN:VEVENT
DTSTART;TZID=America/Los_Angeles:20230602T133000
DTEND;TZID=America/Los_Angeles:20230602T160000
DTSTAMP:20260420T015642
CREATED:20230601T113555Z
LAST-MODIFIED:20230601T113555Z
UID:64372-1685712600-1685721600@mcceastbay.org
SUMMARY:Three Jumu’ah Services @ MCC
DESCRIPTION:For our Jumu’ah services on Friday\, June 2: \n\n\n\n\n1:30 p.m. – 1:50 p.m. \n\n– Shaykh Riad Saloojee delivers this sermon.\n\n\n\n– Prayer Hall worship is shoulder-to-shoulder with social distance worship available for women in Banquet Hall & men in the Conference Room.\n\n\n\n\n\n2:30 p.m. – 2:50 p.m. \n\n–  Mohammed Abdul Baseer delivers this sermon.\n\n\n\n– Prayer Hall worship is shoulder-to-shoulder with social distance worship available for women in Banquet Hall & men in the Conference Room.\n\n\n\n\n\n3:40 p.m. – 4 p.m.\n\n– Sidi Shaan Mukhtar delivers this sermon.\n\n\n\n– Prayer Hall worship is shoulder-to-shoulder with social distance worship available for women in Banquet Hall & men in the Conference Room.\n\n\n\n\n\n\nPlease attend at 2:30 or 3:40 p.m. to avoid heavier first-service congestion whenever possible. Masks are optional in the facility. \n\n\n\nJumu’ah parking for three services is in the MCC and the neighboring HP lot. The aerial map is at https://mcceastbay.org/hp \n\n\n\n\n– Virtually watch these three sermons from home: https://mcceastbay.org/live\n\n\n\n– More Brother Mohammed: https://mcceastbay.org/mohammed\n\n\n\n– More Sidi Shaan: https://mcceastbay.org/shaan\n\n\n\n\nFor parents attending with young children indoors\, MCC offers private mothers’ and fathers’ rooms with an audio and visual connection to Prayer Hall. Parents can watch the sermon and pray while working with other parents with young children. The mothers/fathers prayer room is just past the Banquet Hall doors into the school area. \n\n\n\nQuestions? events@mcceastbay.org
URL:https://mcceastbay.org/event/three-jumuah-services-mcc-10/
LOCATION:MCC East Bay\, 5724 W Las Positas Blvd #300\, Pleasanton\, CA\, 94588\, United States
ATTACH;FMTTYPE=image/png:https://mcceastbay.org/wp-content/uploads/2024/06/Friday-Jumuah-Khateebs-speakers-at-masjid-1-1.png
END:VEVENT
END:VCALENDAR