BEGIN:VCALENDAR
VERSION:2.0
PRODID:-//MCC East Bay - ECPv6.15.20//NONSGML v1.0//EN
CALSCALE:GREGORIAN
METHOD:PUBLISH
X-WR-CALNAME:MCC East Bay
X-ORIGINAL-URL:https://mcceastbay.org
X-WR-CALDESC:Events for MCC East Bay
REFRESH-INTERVAL;VALUE=DURATION:PT1H
X-Robots-Tag:noindex
X-PUBLISHED-TTL:PT1H
BEGIN:VTIMEZONE
TZID:America/Los_Angeles
BEGIN:DAYLIGHT
TZOFFSETFROM:-0800
TZOFFSETTO:-0700
TZNAME:PDT
DTSTART:20220313T100000
END:DAYLIGHT
BEGIN:STANDARD
TZOFFSETFROM:-0700
TZOFFSETTO:-0800
TZNAME:PST
DTSTART:20221106T090000
END:STANDARD
BEGIN:DAYLIGHT
TZOFFSETFROM:-0800
TZOFFSETTO:-0700
TZNAME:PDT
DTSTART:20230312T100000
END:DAYLIGHT
BEGIN:STANDARD
TZOFFSETFROM:-0700
TZOFFSETTO:-0800
TZNAME:PST
DTSTART:20231105T090000
END:STANDARD
BEGIN:DAYLIGHT
TZOFFSETFROM:-0800
TZOFFSETTO:-0700
TZNAME:PDT
DTSTART:20240310T100000
END:DAYLIGHT
BEGIN:STANDARD
TZOFFSETFROM:-0700
TZOFFSETTO:-0800
TZNAME:PST
DTSTART:20241103T090000
END:STANDARD
END:VTIMEZONE
BEGIN:VEVENT
DTSTART;TZID=America/Los_Angeles:20230811T133000
DTEND;TZID=America/Los_Angeles:20230811T160000
DTSTAMP:20260422T192410
CREATED:20230811T064147Z
LAST-MODIFIED:20230811T064147Z
UID:64599-1691760600-1691769600@mcceastbay.org
SUMMARY:Three Jumu’ah Services @ MCC
DESCRIPTION:For MCC’s Jumu’ah services on Friday\, Aug. 11: \n\n\n\n\n1:30 p.m. – 1:50 p.m. \n\n– Imam Mohammed El-Farooqui delivers this sermon.\n\n\n\n\n\n2:30 p.m. – 2:50 p.m. \n\n– Sidi Shaan Mukhtar delivers this sermon.\n\n\n\n\n\n3:40 p.m. – 4 p.m.\n\n– Sidi Dr. Masoud Qazen delivers this sermon.\n\n\n\n\n\n\nPlease attend at 2:30 or 3:40 p.m. to avoid heavier first-service congestion whenever possible. Masks are optional in the facility. \n\n\n\nJumu’ah parking for three services is in the MCC and the neighboring HP lot. The aerial map is at https://mcceastbay.org/hpPlease note that the HP lot will not be available starting August 18. Please come to the second and third Jumu’ah to ease up parking or attend the parallel satellite prayer at 1:40 p.m. at Dublin Library starting August 18: https://mcceastbay.org/satellite-jumuah-library-update \n\n\n\n\n– Virtually watch these three sermons from home: https://mcceastbay.org/live\n\n\n\n– Sidi Shaan Mukhtar: HTTP://mcceastbay.org/shaan\n\n\n\n– Sidi Dr. Masoud Qazen: HTTP://mcceastbay.org/masoud\n\n\n\n\nFor a span exceeding six years\, Mohammed ElFarooqui has been a pillar of service within the Houston community. In the tapestry of his journey\, a significant chapter commenced in July of 2022\, when he assumed the esteemed mantle of Associate Religious Director at the Maryam Islamic Center. His duties are directed toward the orchestration of education and programming pursuits within the precincts of this center. \n\n\n\nHe also serves as an advisor for the community members on matters of Fiqh and other related inquiries. Please get in touch with him at imam.elfarooqui@maryammasjid.org to arrange a time to meet him or ask questions.Imam ElFarooqui has a Bachelor’s degree in Islamic Sciences from Jamia Nizamia\, a prestigious private Islamic School. He is currently pursuing a Masters’s degree in Hadith at Jamia Al Azhar. \n\n\n\nFor parents attending with young children indoors\, MCC offers private mothers’ and fathers’ rooms with an audio and visual connection to Prayer Hall. Parents can watch the sermon and pray while working with other parents with young children. The mothers/fathers prayer room is just past the Banquet Hall doors into the school area. \n\n\n\nQuestions? events@mcceastbay.org
URL:https://mcceastbay.org/event/three-jumuah-services-mcc-14/
LOCATION:MCC East Bay\, 5724 W Las Positas Blvd #300\, Pleasanton\, CA\, 94588\, United States
ATTACH;FMTTYPE=image/jpeg:https://mcceastbay.org/wp-content/uploads/2024/06/Friday-Jumuah-Khateebs-speakers-at-masjid-mosque-1-1.jpg
END:VEVENT
END:VCALENDAR