BEGIN:VCALENDAR
VERSION:2.0
PRODID:-//MCC East Bay - ECPv6.15.20//NONSGML v1.0//EN
CALSCALE:GREGORIAN
METHOD:PUBLISH
X-WR-CALNAME:MCC East Bay
X-ORIGINAL-URL:https://mcceastbay.org
X-WR-CALDESC:Events for MCC East Bay
REFRESH-INTERVAL;VALUE=DURATION:PT1H
X-Robots-Tag:noindex
X-PUBLISHED-TTL:PT1H
BEGIN:VTIMEZONE
TZID:America/Los_Angeles
BEGIN:DAYLIGHT
TZOFFSETFROM:-0800
TZOFFSETTO:-0700
TZNAME:PDT
DTSTART:20230312T100000
END:DAYLIGHT
BEGIN:STANDARD
TZOFFSETFROM:-0700
TZOFFSETTO:-0800
TZNAME:PST
DTSTART:20231105T090000
END:STANDARD
BEGIN:DAYLIGHT
TZOFFSETFROM:-0800
TZOFFSETTO:-0700
TZNAME:PDT
DTSTART:20240310T100000
END:DAYLIGHT
BEGIN:STANDARD
TZOFFSETFROM:-0700
TZOFFSETTO:-0800
TZNAME:PST
DTSTART:20241103T090000
END:STANDARD
BEGIN:DAYLIGHT
TZOFFSETFROM:-0800
TZOFFSETTO:-0700
TZNAME:PDT
DTSTART:20250309T100000
END:DAYLIGHT
BEGIN:STANDARD
TZOFFSETFROM:-0700
TZOFFSETTO:-0800
TZNAME:PST
DTSTART:20251102T090000
END:STANDARD
END:VTIMEZONE
BEGIN:VEVENT
DTSTART;TZID=America/Los_Angeles:20240322T120000
DTEND;TZID=America/Los_Angeles:20240322T123000
DTSTAMP:20260419T110114
CREATED:20240322T212426Z
LAST-MODIFIED:20240322T212426Z
UID:10020689-1711108800-1711110600@mcceastbay.org
SUMMARY:Youth Kahf Recitation
DESCRIPTION:Listen to a young MCC Hifz/Advanced Qur’an student studying with Qari Amar Bellaha recite the important Friday Surah al-Kahf with English subtitles at noon each Friday in Ramadan ’24. \n\n\n\n\n– March 15: Zidan Khan\n\n\n\n\nThese recitations are part of the MCC Mic Check series\, a teen-initiated effort when a youth in the East Bay expresses their love for the Qur’an by reciting their favorite verses with melody and beauty. The Muslim Student Association (MSA) at California High School in San Ramon curated this series. \n\n\n\n\n– Watch the recitation on YouTube at mcceastbay.org/live\n\n\n\n– Watch the recitation on Facebook at mcceastbay.org/facebook\n\n\n\n– Mic Check Youth Qur’anic recitations at https://mcceastbay.org/mic-check\n\n\n\n\nQuestions? events@mcceastbay.org \n\n\n\nReciters in Ramadan ’24: \n\n\n\n\n– March 15: Zidan Khan\n\n\n\n– March 22: Sidi Umair Shafi\n\n\n\n– March 29:\n\n\n\n– April 5: \n\n\n\n\nReciters in Ramadan ’23: \n\n\n\n\n– March 24: Muhammed Constantino\n\n\n\n– March 31: Muhammad Rasyiid Prihardono\n\n\n\n– April 7: Muhriz Munir\n\n\n\n– April 14: Ahmad Prihardono\n\n\n\n\nReciters in Ramadan ’22: \n\n\n\n\n– Rayhan Ali: https://youtu.be/b8aPeterrE0\n\n\n\n– Haanee Badal: https://youtu.be/gVMDtxrfIlw\n\n\n\n– Umair Shafi: https://youtu.be/JwRnFcdJ6LM\n\n\n\n– Zacharia Hamze: https://youtu.be/BUSLlXwlx3g\n\n\n\n\nReciters in Ramadan ’21: \n\n\n\n\n– Omar Ali: https://youtu.be/bcAnFhVm1w4\n\n\n\n– Ahmed Hussayni: https://youtu.be/6_56HU_Ngow\n\n\n\n– Yusra Constantino: https://youtu.be/EIn59jQibTM\n\n\n\n– Taha Abdullah: https://youtu.be/eU4K3EKB6cE\n\n\n\n\nSurah al-Kahf (Arabic: الكهف\, meaning: The Cave) is the 18th chapter (sūrah) of the Quran with 110 verses (āyāt). It is considered by many to be among the most important Qur’anic Surahs due to its doctrine\, spirituality\, guidance\, and storytelling. \n\n\n\nAbu Sa’id Al-Khudri reported: The Prophet\, peace and blessings be upon him\, said\, “Whoever recites Surat al-Kahf on Friday will have a light between this Friday and the next.” -As-Sunan al-Kubra
URL:https://mcceastbay.org/event/youth-kahf-recitation-5/2024-03-22/
ATTACH;FMTTYPE=image/jpeg:https://mcceastbay.org/wp-content/uploads/2024/06/surah-al-kahf.jpeg
END:VEVENT
END:VCALENDAR