BEGIN:VCALENDAR
VERSION:2.0
PRODID:-//MCC East Bay - ECPv6.15.20//NONSGML v1.0//EN
CALSCALE:GREGORIAN
METHOD:PUBLISH
X-WR-CALNAME:MCC East Bay
X-ORIGINAL-URL:https://mcceastbay.org
X-WR-CALDESC:Events for MCC East Bay
REFRESH-INTERVAL;VALUE=DURATION:PT1H
X-Robots-Tag:noindex
X-PUBLISHED-TTL:PT1H
BEGIN:VTIMEZONE
TZID:America/Los_Angeles
BEGIN:DAYLIGHT
TZOFFSETFROM:-0800
TZOFFSETTO:-0700
TZNAME:PDT
DTSTART:20200308T100000
END:DAYLIGHT
BEGIN:STANDARD
TZOFFSETFROM:-0700
TZOFFSETTO:-0800
TZNAME:PST
DTSTART:20201101T090000
END:STANDARD
BEGIN:DAYLIGHT
TZOFFSETFROM:-0800
TZOFFSETTO:-0700
TZNAME:PDT
DTSTART:20210314T100000
END:DAYLIGHT
BEGIN:STANDARD
TZOFFSETFROM:-0700
TZOFFSETTO:-0800
TZNAME:PST
DTSTART:20211107T090000
END:STANDARD
BEGIN:DAYLIGHT
TZOFFSETFROM:-0800
TZOFFSETTO:-0700
TZNAME:PDT
DTSTART:20220313T100000
END:DAYLIGHT
BEGIN:STANDARD
TZOFFSETFROM:-0700
TZOFFSETTO:-0800
TZNAME:PST
DTSTART:20221106T090000
END:STANDARD
END:VTIMEZONE
BEGIN:VEVENT
DTSTART;TZID=America/Los_Angeles:20210501T183000
DTEND;TZID=America/Los_Angeles:20210501T193000
DTSTAMP:20260419T151215
CREATED:20210418T003443Z
LAST-MODIFIED:20210418T003443Z
UID:61811-1619893800-1619897400@mcceastbay.org
SUMMARY:Youth Ramadan Connections | Ustadha Hosai
DESCRIPTION:Join us in a virtual interactive space for youth ages 13-18 space to share and make deeper connections with one another and with God.\n\n6:30 to 7:30 p.m. | Saturdays | RSVP at mcceastbay.org/connections\n \n\n– April 17: Sidi Mahdy Amine\n– April 24: Sidi Ali Dia\n– May 1: Ustadha Hosai Mojaddidi\n– May 8: Sidi Mahdy Amine\n\nSponsored by Taleef Collective & MCC East Bay \nQuestions? events@mcceastbay.org
URL:https://mcceastbay.org/event/youth-ramadan-connections-ustadha-hosai-mojaddidi/
CATEGORIES:Teen
ATTACH;FMTTYPE=image/png:https://mcceastbay.org/wp-content/uploads/2024/06/04.17.21-Youth-Ramadan-Connections.png
ORGANIZER;CN="Taleef Collective":MAILTO:info@taleefcollective.org
END:VEVENT
END:VCALENDAR