BEGIN:VCALENDAR
VERSION:2.0
PRODID:-//MCC East Bay - ECPv6.15.20//NONSGML v1.0//EN
CALSCALE:GREGORIAN
METHOD:PUBLISH
X-WR-CALNAME:MCC East Bay
X-ORIGINAL-URL:https://mcceastbay.org
X-WR-CALDESC:Events for MCC East Bay
REFRESH-INTERVAL;VALUE=DURATION:PT1H
X-Robots-Tag:noindex
X-PUBLISHED-TTL:PT1H
BEGIN:VTIMEZONE
TZID:America/Los_Angeles
BEGIN:DAYLIGHT
TZOFFSETFROM:-0800
TZOFFSETTO:-0700
TZNAME:PDT
DTSTART:20200308T100000
END:DAYLIGHT
BEGIN:STANDARD
TZOFFSETFROM:-0700
TZOFFSETTO:-0800
TZNAME:PST
DTSTART:20201101T090000
END:STANDARD
BEGIN:DAYLIGHT
TZOFFSETFROM:-0800
TZOFFSETTO:-0700
TZNAME:PDT
DTSTART:20210314T100000
END:DAYLIGHT
BEGIN:STANDARD
TZOFFSETFROM:-0700
TZOFFSETTO:-0800
TZNAME:PST
DTSTART:20211107T090000
END:STANDARD
BEGIN:DAYLIGHT
TZOFFSETFROM:-0800
TZOFFSETTO:-0700
TZNAME:PDT
DTSTART:20220313T100000
END:DAYLIGHT
BEGIN:STANDARD
TZOFFSETFROM:-0700
TZOFFSETTO:-0800
TZNAME:PST
DTSTART:20221106T090000
END:STANDARD
BEGIN:DAYLIGHT
TZOFFSETFROM:-0800
TZOFFSETTO:-0700
TZNAME:PDT
DTSTART:20230312T100000
END:DAYLIGHT
BEGIN:STANDARD
TZOFFSETFROM:-0700
TZOFFSETTO:-0800
TZNAME:PST
DTSTART:20231105T090000
END:STANDARD
BEGIN:DAYLIGHT
TZOFFSETFROM:-0800
TZOFFSETTO:-0700
TZNAME:PDT
DTSTART:20240310T100000
END:DAYLIGHT
BEGIN:STANDARD
TZOFFSETFROM:-0700
TZOFFSETTO:-0800
TZNAME:PST
DTSTART:20241103T090000
END:STANDARD
BEGIN:DAYLIGHT
TZOFFSETFROM:-0800
TZOFFSETTO:-0700
TZNAME:PDT
DTSTART:20250309T100000
END:DAYLIGHT
BEGIN:STANDARD
TZOFFSETFROM:-0700
TZOFFSETTO:-0800
TZNAME:PST
DTSTART:20251102T090000
END:STANDARD
BEGIN:DAYLIGHT
TZOFFSETFROM:-0800
TZOFFSETTO:-0700
TZNAME:PDT
DTSTART:20260308T100000
END:DAYLIGHT
BEGIN:STANDARD
TZOFFSETFROM:-0700
TZOFFSETTO:-0800
TZNAME:PST
DTSTART:20261101T090000
END:STANDARD
END:VTIMEZONE
BEGIN:VEVENT
DTSTART;TZID=America/Los_Angeles:20250920T103000
DTEND;TZID=America/Los_Angeles:20250920T133000
DTSTAMP:20260422T084539
CREATED:20250902T194739Z
LAST-MODIFIED:20250926T115514Z
UID:10023955-1758364200-1758375000@mcceastbay.org
SUMMARY:Contemporary Public School Health Seminar For 8th & 9th Grade Muslim Students in Public High Schools
DESCRIPTION:For 8th-10th Graders and Parents: Join us for a seminar to educate and empower Muslim youth on California-mandated health topics within a safe\, respectful\, and Islamically guided environment. \nThe seminar aims to fill a growing gap in values-based health education\, addressing key issues such as mental wellness\, sexual health\, relationships\, and personal safety—while preparing students to navigate public school health classes with clarity and confidence. \nSaturday\, Sep. 20 | 10:30 a.m. to 1:30 p.m. | MCC Conference Room | 8th-10th Graders & Parents | In-person only | $25/student | Register at mcceastbay.org/health-seminar | This event will not be recorded or livestreamed. \nWe will have breakfast from 10:00 a.m. to 10:30 a.m. Come early! This talk is open to those attending public or private schools. \nBoys & Girls will have separate parallel sessions led by local doctors and teachers. Parallel sessions for parents on navigating the high school journey. \nCo-sponsored by MCC East Bay & Averroes High School. \nThis seminar educates and empowers Muslim youth on California-mandated health topics in a safe\, respectful\, Islamically-guided setting to help navigate public school health classes confidently. \nThe topics we will cover inshaAllah are: heath\, sexual education\, relationships\, and safety and wellness. \nMCC has a standing policy that financial need should never hold a person back from attaining spiritual or educational knowledge within the four walls of the Muslim Community Center. For a financial waiver for this event\, please email scholarship@mcceastbay.org. \nKey takeaways you will gain from this session: \n\nYouth will gain knowledge of key health topics through a faith-based framework.\nThey will be better prepared for the state health curriculum with values-aligned clarity.\nThey will feel supported by trusted adults in their physical\, mental\, and spiritual development.\nThe seminar will foster confidence\, identity\, and decision-making grounded in Islamic teachings.\n\nWhat is being taught in public schools? \n\nSexual Health Education for California’s Youth (For High School & Community Settings) by Office of Adoscent Health (OAH) Evidence-Based Cirriculum\nSexual Health Education for America’s Youth for High School & Community Settings by Positive Prevention PLUS\nCA He​althy Kids Resources Center​\n\nAbout the Speakers \nUstadha Hosai Mojaddidi is the co-founder of MH4M (http://mentalhealth4muslims.com)\, established in 2010. For nearly 20 years\, she has been actively involved in the Bay Area and Southern California Muslim community\, working and volunteering for many notable organizations. Learn more about her at http://hosaimojaddidi.com \n– More Ustadha Hosai: http://mcceastbay.org/hosai \nQur’an Hodge is a Bay Area native. He began his Islamic education in 2019\, studying Arabic at the Al Maqasid Seminary in Pennsylvania. Sidi Quran continued to Dar Al Mustafa\, a Yemeni Islamic university in Tarim\, Hadhramaut. At this Islamic seminary founded by Habib Umar bin Hafiz\, Sidi Qur’an studied Ibtidaiyya\, Hadith\, Aqida\, Seerah\, Nahw\, Quran Hifzdh\, Kitaba\, and Tafseer in classical Arabic. Sidi Quran has completed certificates in Taleef Collective’s Refining the Core and Zaytuna College’s Permaculture Program. He is passionate about creatively working on community issues\, particularly the challenges Muslim youth face. He lives with his wife and child in Castro Valley. \nDr. Sana Ali is a Family Medicine physician practicing in Dublin and San Ramon since 2019. She grew up in the East Bay. Went to UC Davis and then Western U for medical school and residency at a UC Davis-affiliated community hospital in Modesto. She practices pediatrics\, family medicine\, women’s health. Parents panel speakers: \nBr. Karim Bayanzay is an Assistant Clinical Professor at the University of California\, San Francisco\, in the Department of Hospital Medicine\, with a research focus on improving cancer care delivery in Afghanistan. Co-founder of Neurospinal Innovations\, a medical device company focused on improving pain using wave therapy. I am also President of Averroes High School. I also founded “the study spot” tutoring and mentoring center for teens. \nDr. Gul Zahid is a board-certified pediatrician based in the Bay Area. She has trained and practiced in a variety of clinical settings\, including academic centers and community clinics\, with a focus on preventive medicine. She has a special interest in mental health\, having completed additional training in the identification and management of mood and behavioral disorders in children and teens. Dr. Zahid is passionate about empowering families with knowledge and tools to support their children’s growth\, both physically and emotionally. \nCoach Faheem Rivers has over 25 years of experience working with youth. He is currently the principal at Averroes High School. He holds a degree in psychology\, served as a Dean of Discipline\, and is a passionate basketball coach. He has used sports to build resilience\, teamwork\, and discipline among young people. \nQuestions? events@mcceastbay.org \nObjective: To educate and empower Muslim youth on California-mandated health topics within a safe\, respectful\, and Islamically-guided environment. The seminar aims to fill a growing gap in values-based health education\, addressing key issues such as mental wellness\, sexual health\, relationships\, and personal safety—while preparing students to navigate public school health classes with clarity and confidence.\n\nConcerns that may come up: We understand that there may be concerns about the explicit nature of some topics included in the California-mandated health curriculum. To address this in a thoughtful and responsible way\, our proposed seminar will include a pediatrician who will verbally explain what students can expect to be taught in school\, helping to prepare them for the material in an age-appropriate and respectful manner. Alongside this\, our religious speaker will offer guidance on how students can navigate these topics at school while staying true to their Islamic values.\n\nExpected Outcomes:\n\n● Youth will gain knowledge of key health topics through a faith-based framework.\n● They will be better prepared for state health curriculum with values-aligned clarity.\n● They will feel supported by trusted adults in their physical\, mental\, and spiritual development.\n● The seminar will foster confidence\, identity\, and decision-making grounded in Islamic teachings.\n\nWhy This Seminar Matters:\nThis seminar is designed to fill a gap in the community and offer our youth a faith-based foundation in understanding critical health topics that are often presented through a secular lens in public schools. Many of today’s societal challenges—ranging from emotional distress and substance abuse to broken relationships and identity confusion—are deeply rooted in issues related to sexual\nhealth\, gender relations\, and the absence of values-based education. \nBy integrating California’s mandated health curriculum with Islamic teachings\, this seminar aims to: \n\n● Educate students on essential health topics in a way that honors their faith\, identity\, and values\n● Mentor them through the complex issues of adolescence\, equipping them with the tools to navigate peer pressure\, social media\, and conflicting societal norms\n● Support their emotional\, physical\, and spiritual development with guidance from trusted professionals and scholars\n● Prepare them for adulthood by instilling confidence\, clarity\, and a deep sense of responsibility grounded in Islamic principles\n\nUltimately\, this seminar serves as a healthier\, values-driven alternative to the often distorted version of health education they encounter in secular classrooms. It empowers our youth to make informed\, faith-aligned decisions that protect their well-being and uphold their Islamic identity as they grow into responsible\, God-conscious adults. \n     \nEvent Schedule \n\n10:30 – 10:50(20 min) Sr. Hosai\n10:50– 11:20 (30 min) Breakout Girls – Sr. Sana & Boys only session – Ustadha Hosai\n11:20 – 12:00p.m (40 min) Girls rejoin\n\nBoys session- Br. Karim\nGirls session – Sr. Hosai\n\n\n12:00 – 12:15 (15 min) Stretch break and settle in\n12:15- 1:15 (1 hr) Ustadh Quran\n1:15- 1:30 (15 min) Q&A with Ustadh Quran with closing dua\n\nTitle: High school Health Class \n\nDate: August 30th ( Tentative ) \nAudience: 8 & 9th Grade Students\n\nNote: While the seminar is designed as a pre-requsite for 9th grade public school class\, we believe that all high schoolers can benefit from its content as it’ll provide a safe space for our youth to ask questions and gain clarity. \n\n\nSeminar Objective: \nTo educate and empower Muslim youth on California-mandated health topics taught in 9th grade within a safe\, respectful\, and Islamically-guided environment. This seminar is designed to fill a gap in the community and offer our youth a faith-based foundation in understanding critical health topics that are often presented through a secular lens in public schools. We will address key issues such as mental wellness\, sexual health\, relationships\, and personal safety. \nThis seminar prepares youth to navigate public school health class with clarity and confidence while empowering them to make informed\, faith-aligned decisions as they grow into responsible\, God-conscious adults. \nNOTE: Separate seminar for boys and girls.
URL:https://mcceastbay.org/event/public-school-health-seminar/
LOCATION:MCC East Bay\, 5724 W Las Positas Blvd #300\, Pleasanton\, CA\, 94588\, United States
CATEGORIES:Teen
ATTACH;FMTTYPE=image/jpeg:https://mcceastbay.org/wp-content/uploads/2025/09/Updated4-Health-Seminar.jpg
ORGANIZER;CN="Muslim Community Center - East Bay":MAILTO:events@mcceastbay.org
END:VEVENT
BEGIN:VEVENT
DTSTART;TZID=America/Los_Angeles:20250516T160000
DTEND;TZID=America/Los_Angeles:20250516T173000
DTSTAMP:20260422T084539
CREATED:20250508T170339Z
LAST-MODIFIED:20250519T180906Z
UID:10023560-1747411200-1747416600@mcceastbay.org
SUMMARY:College Prep Workshop | Reem Bilbeisi M.Ed.
DESCRIPTION:For Middle & Early High School Students & Parents: Get ready for the best college experience\, inshaAllah. Join us for part one of a new series\, where speakers will share myths and tips and show how smart moves now make a big difference later on. Reset your expectations for what you must do now\, next year\, and in the future!\n\n\nThis workshop’s guest speaker will be the Co-founder of Averroes High School\, Reem Bilbeisi\, M.Ed.\n\n\nFriday\, May 16 | 4 p.m. to 5:30 p.m. | MCC Conference Room | RSVP for in-person at mcceastbay.org/college-workshop or watch live at mcceastbay.org/live\n\n\n\n– More programs for teens: HTTP://mcceastbay.org/teens\n\n\nSponsored by Averroes High School & MCC East Bay.\n\n\n\nQuestions? events@mcceastbay.org\n\n\nAbout the Speaker \n\nReem Bilbeisi has over 20 years of experience working as a teacher and leader in Education. She earned her Master’s and Administrative Credential from UC Berkeley in Principal Leadership. Before that\, she entered education\, receiving her credentials and degree in business and technology from Eastern Michigan University. Her passion for teaching began in high school when she felt her calling was to help youth improve education in schools in the Muslim American community. She has shown a passion for youth by leading youth mentor groups and events\, and counseling many students early in her college years. She taught in public\, charter\, and private school settings. Reem has taught at both the high and middle school levels. She has served on WASC committees and is authorized in the following areas of service: superintendent\, associate superintendent\, deputy superintendent\, Principal\, Assistant Principal\, dean\, supervisor\, consultant\, and school coordinator. Reem served as the principal from 2011 to 2019 and is currently the director of programs responsible for academic curriculum\, enrichment\, and teacher professional development. She likes spending time with family\, long walks\, and traveling to new places.
URL:https://mcceastbay.org/event/college-prep-workshop/
LOCATION:MCC East Bay\, 5724 W Las Positas Blvd #300\, Pleasanton\, CA\, 94588\, United States
CATEGORIES:Teen
ATTACH;FMTTYPE=image/jpeg:https://mcceastbay.org/wp-content/uploads/2025/05/College-Workshop.jpg
ORGANIZER;CN="Muslim Community Center - East Bay":MAILTO:events@mcceastbay.org
END:VEVENT
BEGIN:VEVENT
DTSTART;TZID=America/Los_Angeles:20241129T123000
DTEND;TZID=America/Los_Angeles:20241129T150000
DTSTAMP:20260422T084539
CREATED:20241121T205248Z
LAST-MODIFIED:20241121T205248Z
UID:10021976-1732883400-1732892400@mcceastbay.org
SUMMARY:Averroes High School Tables @ MCC Jumu'ahs
DESCRIPTION:Junior Civitans Club at Averroes High School seeks to empower young people to make a positive impact in their communities through service\, leadership\, and compassion. \nThis holiday season\, they are giving back to the community through a virtual food drive. Every dollar donated will help provide nutritious meals for those in need. \nVisit their table this Friday to support their cause.
URL:https://mcceastbay.org/event/averroes-high-school-tables-mcc-jumuahs-3/
LOCATION:MCC East Bay\, 5724 W Las Positas Blvd #300\, Pleasanton\, CA\, 94588\, United States
ATTACH;FMTTYPE=image/jpeg:https://mcceastbay.org/wp-content/uploads/2024/10/IMG_1376.jpg
ORGANIZER;CN="Muslim Community Center - East Bay":MAILTO:events@mcceastbay.org
END:VEVENT
BEGIN:VEVENT
DTSTART;TZID=America/Los_Angeles:20241101T130000
DTEND;TZID=America/Los_Angeles:20241101T160000
DTSTAMP:20260422T084539
CREATED:20241031T142232Z
LAST-MODIFIED:20241031T142258Z
UID:10021884-1730466000-1730476800@mcceastbay.org
SUMMARY:Averroes High School Tables @ MCC Jumu'ahs
DESCRIPTION:Junior Civitans Club at Averroes High School seeks to empower young people to make a positive impact in their communities through service\, leadership\, and compassion. \nThis holiday season\, they are giving back to the community through a virtual food drive. Every dollar donated will help provide nutritious meals for those in need. \nVisit their table this Friday to support their cause.
URL:https://mcceastbay.org/event/averroes-high-school-tables-mcc-jumuahs-2/
LOCATION:MCC East Bay\, 5724 W Las Positas Blvd #300\, Pleasanton\, CA\, 94588\, United States
ATTACH;FMTTYPE=image/jpeg:https://mcceastbay.org/wp-content/uploads/2024/10/IMG_1376.jpg
ORGANIZER;CN="Muslim Community Center - East Bay":MAILTO:events@mcceastbay.org
END:VEVENT
BEGIN:VEVENT
DTSTART;TZID=America/Los_Angeles:20221007T133000
DTEND;TZID=America/Los_Angeles:20221007T160000
DTSTAMP:20260422T084539
CREATED:20221004T121548Z
LAST-MODIFIED:20221004T121548Z
UID:10019370-1665149400-1665158400@mcceastbay.org
SUMMARY:Averroes Institute Tabling @ MCC Jumu'ahs
DESCRIPTION:Averroes High School is tabling at the three Jumu’ah prayer services at MCC on Friday\, October 7\, 2022. \nAverroes is one of the first and only two Muslim high schools in the Bay Area. They are having their annual fundraiser on October 23. Please invest in the future of our youth by supporting this Averroes Institute.
URL:https://mcceastbay.org/event/averroes-institute-tabling-mcc-jumuahs/
LOCATION:MCC East Bay\, 5724 W Las Positas Blvd #300\, Pleasanton\, CA\, 94588\, United States
ATTACH;FMTTYPE=image/jpeg:https://mcceastbay.org/wp-content/uploads/2024/06/308751786_774995613846684_715519055223223808_n.jpg
ORGANIZER;CN="Muslim Community Center - East Bay":MAILTO:events@mcceastbay.org
END:VEVENT
BEGIN:VEVENT
DTSTART;TZID=America/Los_Angeles:20210716T133000
DTEND;TZID=America/Los_Angeles:20210716T160000
DTSTAMP:20260422T084539
CREATED:20210716T110938Z
LAST-MODIFIED:20210716T110938Z
UID:10014751-1626442200-1626451200@mcceastbay.org
SUMMARY:Averroes High School Tables
DESCRIPTION:Averroes High School is here to promote enrollment for their 2021-2022 academic year. They have been in the Bay Area for 11 years educating Muslim youth with 100% college acceptance rates for their students afterwards. Learn more at: https://www.averroeshighschool.com
URL:https://mcceastbay.org/event/averroes-high-school-tables/
LOCATION:MCC East Bay\, 5724 W Las Positas Blvd #300\, Pleasanton\, CA\, 94588\, United States
ORGANIZER;CN="Muslim Community Center - East Bay":MAILTO:events@mcceastbay.org
END:VEVENT
END:VCALENDAR