BEGIN:VCALENDAR
VERSION:2.0
PRODID:-//MCC East Bay - ECPv6.15.20//NONSGML v1.0//EN
CALSCALE:GREGORIAN
METHOD:PUBLISH
X-ORIGINAL-URL:https://mcceastbay.org
X-WR-CALDESC:Events for MCC East Bay
REFRESH-INTERVAL;VALUE=DURATION:PT1H
X-Robots-Tag:noindex
X-PUBLISHED-TTL:PT1H
BEGIN:VTIMEZONE
TZID:America/Los_Angeles
BEGIN:DAYLIGHT
TZOFFSETFROM:-0800
TZOFFSETTO:-0700
TZNAME:PDT
DTSTART:20200308T100000
END:DAYLIGHT
BEGIN:STANDARD
TZOFFSETFROM:-0700
TZOFFSETTO:-0800
TZNAME:PST
DTSTART:20201101T090000
END:STANDARD
BEGIN:DAYLIGHT
TZOFFSETFROM:-0800
TZOFFSETTO:-0700
TZNAME:PDT
DTSTART:20210314T100000
END:DAYLIGHT
BEGIN:STANDARD
TZOFFSETFROM:-0700
TZOFFSETTO:-0800
TZNAME:PST
DTSTART:20211107T090000
END:STANDARD
BEGIN:DAYLIGHT
TZOFFSETFROM:-0800
TZOFFSETTO:-0700
TZNAME:PDT
DTSTART:20220313T100000
END:DAYLIGHT
BEGIN:STANDARD
TZOFFSETFROM:-0700
TZOFFSETTO:-0800
TZNAME:PST
DTSTART:20221106T090000
END:STANDARD
END:VTIMEZONE
BEGIN:VEVENT
DTSTART;TZID=America/Los_Angeles:20210522T110000
DTEND;TZID=America/Los_Angeles:20210522T140000
DTSTAMP:20260419T105006
CREATED:20210514T051323Z
LAST-MODIFIED:20210514T051323Z
UID:10014710-1621681200-1621692000@mcceastbay.org
SUMMARY:Special Needs Family Eid Picnic
DESCRIPTION:Calling all special needs families in the Bay Area\, join us for food\, dessert\, bubbles\, crafts\, games and more in a Covid-safe Eid picnic with hamburgers\, hot dogs\, veggie burgers\, and more! Meet other families and learn about resources to support you. \n11 a.m. to 2 p.m. | Saturday\, May 22 | Dublin Heritage Park\, 6600 Donlon Way \nRSVP requested at https://mcceastbay.org/picnic \nSponsored by Muhsen Bay Area\, MCA Bay Area\, Family Resource Navigator and MCC East Bay \nQuestions? bayarea@muhsen.org \nMCC is a proud to be a certified special-needs friendly masjid. See how we support our special needs families. \n 
URL:https://mcceastbay.org/event/special-needs-family-eid-picnic/
LOCATION:Dublin Heritage Park\, 6600 Donlon Way\, Dublin\, CA\, 94568\, United States
ATTACH;FMTTYPE=image/jpeg:https://mcceastbay.org/wp-content/uploads/2024/06/Eid-Special-needs.jpeg
ORGANIZER;CN="Muhsen Bay Area":MAILTO:bayarea@muhsen.org
END:VEVENT
END:VCALENDAR