BEGIN:VCALENDAR
VERSION:2.0
PRODID:-//MCC East Bay - ECPv6.15.20//NONSGML v1.0//EN
CALSCALE:GREGORIAN
METHOD:PUBLISH
X-WR-CALNAME:MCC East Bay
X-ORIGINAL-URL:https://mcceastbay.org
X-WR-CALDESC:Events for MCC East Bay
REFRESH-INTERVAL;VALUE=DURATION:PT1H
X-Robots-Tag:noindex
X-PUBLISHED-TTL:PT1H
BEGIN:VTIMEZONE
TZID:America/Los_Angeles
BEGIN:DAYLIGHT
TZOFFSETFROM:-0800
TZOFFSETTO:-0700
TZNAME:PDT
DTSTART:20240310T100000
END:DAYLIGHT
BEGIN:STANDARD
TZOFFSETFROM:-0700
TZOFFSETTO:-0800
TZNAME:PST
DTSTART:20241103T090000
END:STANDARD
BEGIN:DAYLIGHT
TZOFFSETFROM:-0800
TZOFFSETTO:-0700
TZNAME:PDT
DTSTART:20250309T100000
END:DAYLIGHT
BEGIN:STANDARD
TZOFFSETFROM:-0700
TZOFFSETTO:-0800
TZNAME:PST
DTSTART:20251102T090000
END:STANDARD
BEGIN:DAYLIGHT
TZOFFSETFROM:-0800
TZOFFSETTO:-0700
TZNAME:PDT
DTSTART:20260308T100000
END:DAYLIGHT
BEGIN:STANDARD
TZOFFSETFROM:-0700
TZOFFSETTO:-0800
TZNAME:PST
DTSTART:20261101T090000
END:STANDARD
END:VTIMEZONE
BEGIN:VEVENT
DTSTART;TZID=America/Los_Angeles:20250516T210000
DTEND;TZID=America/Los_Angeles:20250516T220000
DTSTAMP:20260425T204318
CREATED:20250514T205919Z
LAST-MODIFIED:20250518T002241Z
UID:10023597-1747429200-1747432800@mcceastbay.org
SUMMARY:Navigating Hindutva in Tech | Safa Ahmed
DESCRIPTION:Join us this Friday evening with Safa Ahmed to explore how rising Hindutva ideologies impact the tech world and learn strategies for Muslim professionals to navigate bias\, build resilience\, and excel in their careers with purpose and confidence. \n9 p.m. to 10 p.m. (Isha) | Friday\, May 16 | MCC Prayer Hall | Join us in person or watch virtually at mcceastbay.org/live \nSponsored by the Indian American Muslim Council and MCC East Bay. \nAbout the speaker\nSafa Ahmed is the Associate Director of Media & Communications for the Indian American Muslim Council\, where she works to educate the public – from educators to activists to community members – on Hindu supremacist ideology\, and amplify the voices and stories of Muslims in India. She’s represented IAMC before the United Nations\, the U.S. Department of Justice\, and at dozens of events and panels nationwide. She’s also been interviewed on several podcasts and radio shows\, including Georgetown University’s Bridge Initiative podcast\, Radio Islam International\, Jewish Currents\, Genocide Watch\, and more. She has written on Hindu supremacy and human rights in India for Al Jazeera\, The Diplomat\, Jacobin\, Progressive Magazine\, and others. Safa Ahmed is a second-generation Indian-American activist from Raleigh\, North Carolina.  \nQuestions? events@mcceastbay.org \n 
URL:https://mcceastbay.org/event/navigating-hindutva-in-tech/
LOCATION:MCC East Bay\, 5724 W Las Positas Blvd #300\, Pleasanton\, CA\, 94588\, United States
CATEGORIES:Family Events
ATTACH;FMTTYPE=image/jpeg:https://mcceastbay.org/wp-content/uploads/2025/05/Hindutva-1.jpg
ORGANIZER;CN="Muslim Community Center - East Bay":MAILTO:events@mcceastbay.org
END:VEVENT
END:VCALENDAR