BEGIN:VCALENDAR
VERSION:2.0
PRODID:-//MCC East Bay - ECPv6.15.20//NONSGML v1.0//EN
CALSCALE:GREGORIAN
METHOD:PUBLISH
X-WR-CALNAME:MCC East Bay
X-ORIGINAL-URL:https://mcceastbay.org
X-WR-CALDESC:Events for MCC East Bay
REFRESH-INTERVAL;VALUE=DURATION:PT1H
X-Robots-Tag:noindex
X-PUBLISHED-TTL:PT1H
BEGIN:VTIMEZONE
TZID:America/Los_Angeles
BEGIN:DAYLIGHT
TZOFFSETFROM:-0800
TZOFFSETTO:-0700
TZNAME:PDT
DTSTART:20200308T100000
END:DAYLIGHT
BEGIN:STANDARD
TZOFFSETFROM:-0700
TZOFFSETTO:-0800
TZNAME:PST
DTSTART:20201101T090000
END:STANDARD
BEGIN:DAYLIGHT
TZOFFSETFROM:-0800
TZOFFSETTO:-0700
TZNAME:PDT
DTSTART:20210314T100000
END:DAYLIGHT
BEGIN:STANDARD
TZOFFSETFROM:-0700
TZOFFSETTO:-0800
TZNAME:PST
DTSTART:20211107T090000
END:STANDARD
BEGIN:DAYLIGHT
TZOFFSETFROM:-0800
TZOFFSETTO:-0700
TZNAME:PDT
DTSTART:20220313T100000
END:DAYLIGHT
BEGIN:STANDARD
TZOFFSETFROM:-0700
TZOFFSETTO:-0800
TZNAME:PST
DTSTART:20221106T090000
END:STANDARD
BEGIN:DAYLIGHT
TZOFFSETFROM:-0800
TZOFFSETTO:-0700
TZNAME:PDT
DTSTART:20230312T100000
END:DAYLIGHT
BEGIN:STANDARD
TZOFFSETFROM:-0700
TZOFFSETTO:-0800
TZNAME:PST
DTSTART:20231105T090000
END:STANDARD
END:VTIMEZONE
BEGIN:VEVENT
DTSTART;TZID=America/Los_Angeles:20220529T100000
DTEND;TZID=America/Los_Angeles:20220529T133000
DTSTAMP:20260424T182558
CREATED:20220513T020832Z
LAST-MODIFIED:20220513T020832Z
UID:10017897-1653818400-1653831000@mcceastbay.org
SUMMARY:MCC Sunday School End of Year Event
DESCRIPTION:Nearly 420 students enrolled in the MCC Sunday School in 2021-22 celebrate the end of another school year with Qur’anic recitations\, nasheeds\, awards\, and special performances.  \nThe event is held virtually and with a portion (10 a.m. to 1 p.m.) held in person in the Prayer Hall at the Muslim Community Center – East Bay (MCC East Bay) in Pleasanton\, California on Sunday\, May 29\, 2022.  \n\nWatch the program live: https://mcceastbay.org/annual-program\nMore videos from the MCC Sunday School: https://mcceastbay.org/sunday\nLearn about the MCC Sunday School: https://www.mccsundayschool.org/\nTo watch the pre-Covid Seerah Trivia competition: https://youtu.be/C0GEpzXBXGM\n\nThe MCC Sunday School was started in Spring 2008 with the first classes offered on two campuses in San Ramon and Pleasanton with fifty-five students in rental facilities. Starting in 2010\, both schools were consolidated into one location at the MCC East Bay facility in Pleasanton. The school offers a rich Sunday school experience for over 410 students in Pre-Kindergarten through High School. The school is in session from 10:30 a.m. to 1:30 p.m. on Sundays from August to May. Learn more at https://www.mccsundayschool.org \nQuestions? events@mcceastbay.org
URL:https://mcceastbay.org/event/mcc-sunday-school-end-of-year-event/
LOCATION:MCC East Bay\, 5724 W Las Positas Blvd #300\, Pleasanton\, CA\, 94588\, United States
ATTACH;FMTTYPE=image/jpeg:https://mcceastbay.org/wp-content/uploads/2024/06/MCC-Sunday-School-Pleasanton.jpg
ORGANIZER;CN="Muslim Community Center - East Bay":MAILTO:events@mcceastbay.org
END:VEVENT
BEGIN:VEVENT
DTSTART;TZID=America/Los_Angeles:20210822T130000
DTEND;TZID=America/Los_Angeles:20210822T180000
DTSTAMP:20260424T182558
CREATED:20210710T122808Z
LAST-MODIFIED:20210710T122808Z
UID:10014737-1629637200-1629655200@mcceastbay.org
SUMMARY:Sunday School Back-to-School Event
DESCRIPTION:
URL:https://mcceastbay.org/event/sunday-school-back-to-school-event/
LOCATION:MCC East Bay\, 5724 W Las Positas Blvd #300\, Pleasanton\, CA\, 94588\, United States
ORGANIZER;CN="Muslim Community Center - East Bay":MAILTO:events@mcceastbay.org
END:VEVENT
END:VCALENDAR