BEGIN:VCALENDAR
VERSION:2.0
PRODID:-//MCC East Bay - ECPv6.15.20//NONSGML v1.0//EN
CALSCALE:GREGORIAN
METHOD:PUBLISH
X-WR-CALNAME:MCC East Bay
X-ORIGINAL-URL:https://mcceastbay.org
X-WR-CALDESC:Events for MCC East Bay
REFRESH-INTERVAL;VALUE=DURATION:PT1H
X-Robots-Tag:noindex
X-PUBLISHED-TTL:PT1H
BEGIN:VTIMEZONE
TZID:America/Los_Angeles
BEGIN:DAYLIGHT
TZOFFSETFROM:-0800
TZOFFSETTO:-0700
TZNAME:PDT
DTSTART:20250309T100000
END:DAYLIGHT
BEGIN:STANDARD
TZOFFSETFROM:-0700
TZOFFSETTO:-0800
TZNAME:PST
DTSTART:20251102T090000
END:STANDARD
BEGIN:DAYLIGHT
TZOFFSETFROM:-0800
TZOFFSETTO:-0700
TZNAME:PDT
DTSTART:20260308T100000
END:DAYLIGHT
BEGIN:STANDARD
TZOFFSETFROM:-0700
TZOFFSETTO:-0800
TZNAME:PST
DTSTART:20261101T090000
END:STANDARD
BEGIN:DAYLIGHT
TZOFFSETFROM:-0800
TZOFFSETTO:-0700
TZNAME:PDT
DTSTART:20270314T100000
END:DAYLIGHT
BEGIN:STANDARD
TZOFFSETFROM:-0700
TZOFFSETTO:-0800
TZNAME:PST
DTSTART:20271107T090000
END:STANDARD
END:VTIMEZONE
BEGIN:VEVENT
DTSTART;TZID=America/Los_Angeles:20260215T133000
DTEND;TZID=America/Los_Angeles:20260215T160000
DTSTAMP:20260421T222212
CREATED:20260121T203042Z
LAST-MODIFIED:20260214T033041Z
UID:10024734-1771162200-1771171200@mcceastbay.org
SUMMARY:Women's Quran Circles (Pre-Ramadan Bay Area Khatam)
DESCRIPTION:For Teen Girls & All Sisters! Ten Qur’an Circle groups across the Bay Area gather to complete their Qur’an together and recite du’a. Join us as we launch new collective Quran Circles and motivate each other\, as sisters\, to complete the Quran this Ramadan.  \nSunday\, Feb. 15 | 1:30 p.m. to 4 p.m. | MCC Conference Room (refreshments served in the Banquet Hall) | Sisters Only | In-person only | Space limited | Free; RSVP at mcceastbay.org/grand-khatam \nSponsored by Quran Circles & MCC East Bay. \nAbout QuranCircles \nQuranCircles is an initiative rooted in connection and suhba through the collective reading of the Book of Allah. It follows a simple\, reproducible model in which 10–12 members come together each month to complete a khatam (full reading) of the Qur’an. \nQuestions? events@mcceastbay.org \nAbout the Presenters:  \nAnse Sawsan Imady \nUstadha Sawsan Imady is a scholar and educator. She has a BA in English literature from the University of Missouri-Kansas City and an M.S.Ed. in Education from the University of Southern California. She has taught for over 45 years and has worked in many schools and educational institutions\, in roles including teacher\, supervisor\, teacher trainer\, and member of several Cognia accreditation teams. She has been involved in developing several curricula. She has studied for decades with elite scholars in Syria. Her most recent position was at the Islamic Educational College in Amman\, Jordan\, where she served as Educational Supervisor for the American Program for the past 11 years. \nUstadha Hosai Mojaddidi is the co-founder of MH4M (http://mentalhealth4muslims.com)\, established in 2010. For nearly 20 years\, she has been actively involved in the Bay Area and Southern California Muslim community\, working and volunteering for many notable organizations. Learn more about her at http://hosaimojaddidi.com   \n– More Ustadha Hosai: http://mcceastbay.org/hosai
URL:https://mcceastbay.org/event/womens-quran-circles/
LOCATION:MCC East Bay\, 5724 W Las Positas Blvd #300\, Pleasanton\, CA\, 94588\, United States
CATEGORIES:Sisters Program,Women's Activities
ATTACH;FMTTYPE=image/jpeg:https://mcceastbay.org/wp-content/uploads/2026/01/Womens-Grand-Khatm.jpg
ORGANIZER;CN="Muslim Community Center - East Bay":MAILTO:events@mcceastbay.org
END:VEVENT
END:VCALENDAR