BEGIN:VCALENDAR
VERSION:2.0
PRODID:-//MCC East Bay - ECPv6.15.20//NONSGML v1.0//EN
CALSCALE:GREGORIAN
METHOD:PUBLISH
X-ORIGINAL-URL:https://mcceastbay.org
X-WR-CALDESC:Events for MCC East Bay
REFRESH-INTERVAL;VALUE=DURATION:PT1H
X-Robots-Tag:noindex
X-PUBLISHED-TTL:PT1H
BEGIN:VTIMEZONE
TZID:America/Los_Angeles
BEGIN:DAYLIGHT
TZOFFSETFROM:-0800
TZOFFSETTO:-0700
TZNAME:PDT
DTSTART:20230312T100000
END:DAYLIGHT
BEGIN:STANDARD
TZOFFSETFROM:-0700
TZOFFSETTO:-0800
TZNAME:PST
DTSTART:20231105T090000
END:STANDARD
BEGIN:DAYLIGHT
TZOFFSETFROM:-0800
TZOFFSETTO:-0700
TZNAME:PDT
DTSTART:20240310T100000
END:DAYLIGHT
BEGIN:STANDARD
TZOFFSETFROM:-0700
TZOFFSETTO:-0800
TZNAME:PST
DTSTART:20241103T090000
END:STANDARD
BEGIN:DAYLIGHT
TZOFFSETFROM:-0800
TZOFFSETTO:-0700
TZNAME:PDT
DTSTART:20250309T100000
END:DAYLIGHT
BEGIN:STANDARD
TZOFFSETFROM:-0700
TZOFFSETTO:-0800
TZNAME:PST
DTSTART:20251102T090000
END:STANDARD
BEGIN:DAYLIGHT
TZOFFSETFROM:-0800
TZOFFSETTO:-0700
TZNAME:PDT
DTSTART:20260308T100000
END:DAYLIGHT
BEGIN:STANDARD
TZOFFSETFROM:-0700
TZOFFSETTO:-0800
TZNAME:PST
DTSTART:20261101T090000
END:STANDARD
END:VTIMEZONE
BEGIN:VEVENT
DTSTART;TZID=America/Los_Angeles:20250524T080000
DTEND;TZID=America/Los_Angeles:20250524T120000
DTSTAMP:20260419T185117
CREATED:20250506T170629Z
LAST-MODIFIED:20250506T170629Z
UID:10023554-1748073600-1748088000@mcceastbay.org
SUMMARY:Monthly Men’s Hike | Lake Chabot Regional Park
DESCRIPTION:For Brothers! Join a brotherhood that hikes through life’s ups and downs\, finding strength and community in the great outdoors. Our Monthly MCC Brothers Hike caters to various fitness levels and explores East Bay’s serene landscapes. Whether you’re a seasoned hiker or just looking to start\, we welcome you to share in this journey of fellowship and discovery.\n\nSaturday\, May 24 | 8:00 a.m. to 12:00 p.m. | Del Valle | No children\, please (teenage boys\, okay) | RSVP at mcceastbay.org/brothers-hike \nIf brothers want to walk around more\, they can do it depending on their interest/time. The hike will be canceled with insufficient RSVPs\, depending on the weather. \n\nWhen: Saturday\, May 24\, 2025\nTime:  8:00 a.m. to 12:00 p.m. – Please arrive early to park and find the group. The group can wait till 8:10 a.m. and will start the hike. Please be on time since we cannot hold the group.\nCarpool: We highly recommend carpooling. No carpool from MCC is available for this hike. \nParking: $6\nMeeting Point: Del Valle Arroyo Rd Staging Area\nTrail: Del Valle\nDistance: Around 7.6 miles.\nDifficulty: Moderate.\nMisc: Pack a snack and water for yourself. Wear hiking shoes if possible. Bring a small breakfast/ Lunch sandwich or something to eat. Carry enough water\, a hat\, and a light jacket. Please download the All Trails map (free version) if you decide to return in the middle of the hike. This will be very helpful when navigating back to the parking lot.\nRSVP: By Friday\, May 23\, please let us know you are coming for this hike: https://mcceastbay.org/brothers-hike\n\nMohammed Kadoura leads these monthly hikes for the brothers. If you have trouble finding the group on the day of the hike\, please call or text Br. Mohammed at (617) 935-7347. Please remember that we cannot hold all of the group\, so we request you to please be on time. \nFor future hikes\, please subscribe to the MCC newsletter and add your phone number to the Men’s Hiking WhatsApp group. \nPlease wear comfortable walking/hiking shoes\, carry a water bottle\, a small snack\, a hat\, sunglasses\, and hiking poles if you have any.  \nQuestions? hiking@mcceastbay.org  \nAbout this trail: \nHead out on this 7.6-mile loop trail near Livermore\, California. Generally considered a moderately challenging route\, it takes an average of 3 h 41 min to complete. This is a very popular area for hiking and running\, so you’ll likely encounter other people while exploring. The best times to visit this trail are January through April. \nPark Features: Deep in a valley framed by oak-covered hills\, with sailboats and sailboards skimming over its waters\, Del Valle is like a lakeside resort only 10 miles south of Livermore. 5\,000 acre Del Valle Regional Park features two swim beaches\, a boat launch\, family and group camping (by reservation) and excellent\, stocked fishing.  \nTrail Highlights: This hike around the northern part of the lake is removed from the busy swim beaches in the southern part of the lake; enjoy the wilderness feel and explore a part of Del Valle you may not have seen before. The contrast in scenery from the ridge of East Shore Trail and the lakeside Heron Bay Trail provides a diverse recreational experience. This hike features several steep climbs and descents and is recommended for those with a good level of fitness. There is a drinking fountain but no restrooms at the trailhead. Be sure to carry plenty of water on your hike. 
URL:https://mcceastbay.org/event/monthly-mens-hike-10/
LOCATION:Del Valle Regional Park\, 7000 Del Valle Rd\, Livermore\, CA\, 94550\, United States
ATTACH;FMTTYPE=image/jpeg:https://mcceastbay.org/wp-content/uploads/2025/05/Mens-Hike.jpg
ORGANIZER;CN="Muslim Community Center - East Bay":MAILTO:events@mcceastbay.org
END:VEVENT
BEGIN:VEVENT
DTSTART;TZID=America/Los_Angeles:20250412T070000
DTEND;TZID=America/Los_Angeles:20250412T110000
DTSTAMP:20260419T185117
CREATED:20250408T211605Z
LAST-MODIFIED:20250409T014938Z
UID:10023199-1744441200-1744455600@mcceastbay.org
SUMMARY:Monthly Sisterhood Hike | Sisters in the Outdoors
DESCRIPTION:Join us at 7 a.m. on Saturday\, April 12\, for a hike at Del Valle Regional Park in Livermore to get to know other sisters in the community and enjoy the great outdoors. No children\, please (female teens\, okay). Let us know you are coming: https://mcceastbay.org/rsvp \nThis month\, we will have an EID potluck after the hike. Please bring a dish to share. \nIf sisters want to walk around more\, they can do it depending on their interest/time. The hike will be canceled if there are not enough RSVPs or depending on the weather. \n\n– When: Saturday\, April 12\n– Time: 7 a.m. to 11 a.m. – Please arrive a little early to park and find the group. The group can wait till 7:10 a.m. and will start the hike. Please be on time since we cannot hold the group.\n– Carpool: We highly recommend carpooling. No carpool from MCC is available for this hike. Carpool encouraged others on this hike.\n– Parking: Del Valle Arroyo Road Staging Area (EBRPD)\, Arroyo Rd\, Livermore\, CA 94550\n– Location: https://www.alltrails.com/trail/us/california/east-shore-and-heron-bay-trail-loop\n– Trail: https://www.alltrails.com/trail/us/california/east-shore-and-heron-bay-trail-loop\n– Distance: 4.5 miles\n– Difficulty: Hard\n– Misc: Wear hiking shoes if possible. There will be a small water crossing\, and your shoes might get wet. Bring a small breakfast/ Lunch sandwich or something to eat. Carry enough water\, a hat\, and a light jacket. Please download All Trails map (free version) in case you decide to return in the middle of the hike. This will be very helpful in navigating back to the parking lot.\n– RSVP: By Friday\, April 11\, please let us know you are coming for this hike: https://mcceastbay.org/rsvp\n\nSr. Aparna Khan and Sr. Sohaila will be leading this hike. If you have trouble finding the group on the day of the hike\, please call or text Sr. Aparna at (408) 480-6584 or Sr. Sohaila at (925) 786-7698. Please remember that we cannot hold all the group\, so we request you to please be on time. \nFor future hikes\, please subscribe to the MCC newsletter and/or add your phone number to the Women’s Hiking WhatsUp group. \nPlease wear comfortable walking/hiking shoes\, carry a water bottle\, a small snack\, a hat\, sunglasses\, and hiking poles if you have one.  \nQuestions? hiking@mcceastbay.org \nAbout this trail: \nEnjoy this 4.5-mile loop trail near Livermore\, California. Generally considered a challenging route\, it takes an average of 2 h 19 min to complete. This is a very popular area for hiking and horseback riding\, so you’ll likely encounter other people while exploring. \nTrail Highlights:\nEmbark on a scenic journey along the East Shore Trail\, Heron Bay Trail\, and East Shore Trail at Del Valle Regional Park. Meandering alongside the tranquil waters of Del Valle Reservoir\, these trails offer captivating views of rolling hills and lush shoreline vegetation. \nKeep an eye out for great blue herons and other waterfowl that frequent the lake\, while the gentle rustle of wind through the trees provides a soothing soundtrack to the hike. With opportunities for birdwatching\, picnicking\, and peaceful reflection\, these trails invite visitors to immerse themselves in the diverse East Bay landscape. \nTrail Directions:\nFrom the parking lot\, follow the signs to the East Shore Trail. Ascend to the peak and you’ll see a tree surrounded by benches. From there\, follow the signs downhill leading to the Heron Bay Trail\, which traces the scenic shoreline. After a picturesque journey\, the trail reconnects with the East Shore Trail briefly before veering back onto the Heron Bay Trail. Turn left on East Shore Trail\, which leads back to the parking lot.
URL:https://mcceastbay.org/event/monthly-sisterhood-hike-8/
LOCATION:Del Valle Regional Park\, 7000 Del Valle Rd\, Livermore\, CA\, 94550\, United States
CATEGORIES:Women's Activities
ATTACH;FMTTYPE=image/jpeg:https://mcceastbay.org/wp-content/uploads/2025/04/Monthly-Sisterhood-Hike.jpg
ORGANIZER;CN="Muslim Community Center - East Bay":MAILTO:events@mcceastbay.org
END:VEVENT
BEGIN:VEVENT
DTSTART;TZID=America/Los_Angeles:20241221T080000
DTEND;TZID=America/Los_Angeles:20241221T120000
DTSTAMP:20260419T185117
CREATED:20241203T171303Z
LAST-MODIFIED:20241203T172135Z
UID:10021995-1734768000-1734782400@mcceastbay.org
SUMMARY:Monthly Men's Hike | Del Valle Regional Park
DESCRIPTION:For Brothers! Join a brotherhood that hikes through life’s ups and downs\, finding strength and community in the great outdoors. Our Monthly MCC Brothers Hike caters to various fitness levels and explores East Bay’s serene landscapes. Whether you’re a seasoned hiker or just looking to start\, we welcome you to share in this journey of fellowship and discovery.\n\nSaturday\, December 21 | 8:00 a.m. to 12:00 p.m. | Del Valle Regional Park | No children\, please (teenage boys\, okay) | RSVP at mcceastbay.org/brothers-hike \nIf brothers want to walk around more\, they can do it depending on their interest/time. The hike will be canceled with insufficient RSVPs\, depending on the weather. \n\n– When: Saturday\, December 21\, 2024\n– Time:  8:00 a.m. to 12:00 p.m. – Please arrive early to park and find the group. The group can wait till 8:10 a.m. and will start the hike. Please be on time since we cannot hold the group.\n– Carpool: We highly recommend carpooling. No carpool from MCC is available for this hike. Carpool encouraged others on this hike.\n– Parking: $6\n– Meeting Point: Del Valle Arroyo Road Staging Area \n– Trail: Arroyo Rd Staging Area to East Shore and Heron Bay Trails\n– Distance: Around 7.6 miles.\n– Difficulty: Moderate.\n– Misc: Pack a snack and water for yourself. Wear hiking shoes if possible. Bring a small breakfast/ Lunch sandwich or something to eat. Carry enough water\, a hat\, and a light jacket. Please download the All Trails map (free version) if you decide to return in the middle of the hike. This will be very helpful when navigating back to the parking lot.\n– RSVP: By Friday\, December 20\, please let us know you are coming for this hike: https://mcceastbay.org/brothers-hike\n\nMohammed Kadoura leads these monthly hikes for the brothers. If you have trouble finding the group on the day of the hike\, please call or text Br. Mohammed at (617) 935-7347. Please remember that we cannot hold all of the group\, so we request you to please be on time. \nFor future hikes\, please subscribe to the MCC newsletter and add your phone number to the Men’s Hiking WhatsApp group. \nPlease wear comfortable walking/hiking shoes\, carry a water bottle\, a small snack\, a hat\, sunglasses\, and hiking poles if you have any.  \nQuestions? hiking@mcceastbay.org  \nAbout this trail: \nThis hike around the northern part of the lake is removed from the busy swim beaches in the southern part of the lake; enjoy the wilderness feel and explore a part of Del Valle you may not have seen before. The contrast in scenery from the ridge of East Shore Trail and the lakeside Heron Bay Trail provides a diverse recreational experience. This hike features several steep climbs and descents and is recommended for those with a good level of fitness. There is a drinking fountain but no restrooms at the trailhead. Be sure to carry plenty of water on your hike. 
URL:https://mcceastbay.org/event/monthly-mens-hike-7/
LOCATION:Del Valle Regional Park\, 7000 Del Valle Rd\, Livermore\, CA\, 94550\, United States
ATTACH;FMTTYPE=image/jpeg:https://mcceastbay.org/wp-content/uploads/2024/12/Mens-Hike.jpg
ORGANIZER;CN="Muslim Community Center - East Bay":MAILTO:events@mcceastbay.org
END:VEVENT
END:VCALENDAR