BEGIN:VCALENDAR
VERSION:2.0
PRODID:-//MCC East Bay - ECPv6.15.20//NONSGML v1.0//EN
CALSCALE:GREGORIAN
METHOD:PUBLISH
X-WR-CALNAME:MCC East Bay
X-ORIGINAL-URL:https://mcceastbay.org
X-WR-CALDESC:Events for MCC East Bay
REFRESH-INTERVAL;VALUE=DURATION:PT1H
X-Robots-Tag:noindex
X-PUBLISHED-TTL:PT1H
BEGIN:VTIMEZONE
TZID:America/Los_Angeles
BEGIN:DAYLIGHT
TZOFFSETFROM:-0800
TZOFFSETTO:-0700
TZNAME:PDT
DTSTART:20200308T100000
END:DAYLIGHT
BEGIN:STANDARD
TZOFFSETFROM:-0700
TZOFFSETTO:-0800
TZNAME:PST
DTSTART:20201101T090000
END:STANDARD
BEGIN:DAYLIGHT
TZOFFSETFROM:-0800
TZOFFSETTO:-0700
TZNAME:PDT
DTSTART:20210314T100000
END:DAYLIGHT
BEGIN:STANDARD
TZOFFSETFROM:-0700
TZOFFSETTO:-0800
TZNAME:PST
DTSTART:20211107T090000
END:STANDARD
BEGIN:DAYLIGHT
TZOFFSETFROM:-0800
TZOFFSETTO:-0700
TZNAME:PDT
DTSTART:20220313T100000
END:DAYLIGHT
BEGIN:STANDARD
TZOFFSETFROM:-0700
TZOFFSETTO:-0800
TZNAME:PST
DTSTART:20221106T090000
END:STANDARD
BEGIN:DAYLIGHT
TZOFFSETFROM:-0800
TZOFFSETTO:-0700
TZNAME:PDT
DTSTART:20230312T100000
END:DAYLIGHT
BEGIN:STANDARD
TZOFFSETFROM:-0700
TZOFFSETTO:-0800
TZNAME:PST
DTSTART:20231105T090000
END:STANDARD
BEGIN:DAYLIGHT
TZOFFSETFROM:-0800
TZOFFSETTO:-0700
TZNAME:PDT
DTSTART:20240310T100000
END:DAYLIGHT
BEGIN:STANDARD
TZOFFSETFROM:-0700
TZOFFSETTO:-0800
TZNAME:PST
DTSTART:20241103T090000
END:STANDARD
BEGIN:DAYLIGHT
TZOFFSETFROM:-0800
TZOFFSETTO:-0700
TZNAME:PDT
DTSTART:20250309T100000
END:DAYLIGHT
BEGIN:STANDARD
TZOFFSETFROM:-0700
TZOFFSETTO:-0800
TZNAME:PST
DTSTART:20251102T090000
END:STANDARD
BEGIN:DAYLIGHT
TZOFFSETFROM:-0800
TZOFFSETTO:-0700
TZNAME:PDT
DTSTART:20260308T100000
END:DAYLIGHT
BEGIN:STANDARD
TZOFFSETFROM:-0700
TZOFFSETTO:-0800
TZNAME:PST
DTSTART:20261101T090000
END:STANDARD
BEGIN:DAYLIGHT
TZOFFSETFROM:-0800
TZOFFSETTO:-0700
TZNAME:PDT
DTSTART:20270314T100000
END:DAYLIGHT
BEGIN:STANDARD
TZOFFSETFROM:-0700
TZOFFSETTO:-0800
TZNAME:PST
DTSTART:20271107T090000
END:STANDARD
END:VTIMEZONE
BEGIN:VEVENT
DTSTART;TZID=America/Los_Angeles:20260203T190000
DTEND;TZID=America/Los_Angeles:20260203T191500
DTSTAMP:20260424T060356
CREATED:20260202T203346Z
LAST-MODIFIED:20260202T203552Z
UID:10024780-1770145200-1770146100@mcceastbay.org
SUMMARY:Proclamation For The Start of Ramadan '26 | Dublin City Council
DESCRIPTION:Join our elected officials as the City of Dublin official proclaims and recognizes the month of Ramadan\, which starts on Tuesday or Wednesday\, February 17 or 18 (pending moonsighting). This recognition commends Tri-Valley Muslims in this holy month of fasting and spiritual renewal. \n7 p.m. to 7:15 p.m. | Tuesday\, February 3\, 2026 | Dublin City Council Chambers\, 100 Civic Plaza\, Dublin\, CA 94568 \nOur gratitude goes to the fantastic team behind the Dublin Muslim Cultural Society\, which has once again facilitated this Proclamation. \nThis act recognizes the commencement of Ramadan\, the Muslim holy month of fasting and spiritual renewal\, and commends Muslims in the United States and worldwide for their faith. \nQuestions? events@mcceastbay.org \nCongressional Resolution in 2023 \nWhereas one of the purposes of fasting during the holy month of Ramadan is for Muslims to gain a better understanding of the plight faced by those who are less fortunate. \nWhereas American Muslims contribute greatly to charitable organizations that help people from all faiths in the United States and around the world by providing food for the hungry\, medical assistance\, family services\, scholastic supplies\, before and after school programs\, refugee resettlement\, and relief efforts following natural disasters; \nWhereas American Muslims have contributed greatly to the United States\, serving as medical professionals\, teachers\, first responders\, journalists\, writers\, artists\, athletes\, small business owners\, professors\, activists\, community leaders\, and elected public officials across government representing both major political parties; \nWhereas the American Muslim community is among the most racially diverse faith groups in the United States; \nWhereas Thomas Jefferson was the first President to host an iftar\, the meal breaking fast during Ramadan\, at the White House in 1805\, and every President since 1996 has hosted an iftar for members of the community during their Presidencies. \nWhereas the Department of State and United States Agency for International Development have hosted iftars through the years for staff and members of the diplomatic community; \nWhereas the Department of Agriculture has hosted iftar dinners since 2008 to recognize and welcome interfaith dialogue and collaboration with individuals and organizations whose core values often overlap significantly with the mission of the Department\, including disaster recovery\, reducing food waste\, ensuring access to nutritious food\, and fostering safe\, prosperous\, and thriving communities; \nWhereas the Pentagon has held iftar dinners to celebrate Ramadan starting in 1999\, recognizing American Muslims serving in all branches of the United States military; and \nWhereas over 5\,500 Muslims serve on active duty\, and over 2\,300 Muslims serve as selected reserve personnel in the United States Armed Forces: Now\, therefore\, be it \n \nFrom 2024 Ramadan Proclamation: \nThe Dublin City Council joins communities throughout California in recognizing the start of Ramadan 2024. \n– More Proclamation recordings: http://mcceastbay.org/proclamation\n– More Sr. Eman: http://mcceastbay.org/eman \nSister Eman Tai speaks on behalf of the Dublin-area Muslim community. \nMayor Melissa Hernandez introduces the Proclamation on Tuesday\, March 5\, 2024 at Council Chambers. \nHeroes4Hunger also introduces the First-Annual Ramadan Food Campaign. All donations to this youth-led effort go to the Alameda County Community Food Bank\, and it will be used to feed individuals and families that are food insecure in Dublin. Support the effort at http://bit.ly/feeddublin \nLearn more about this effort at https://heroes4hunger.org \nHeroes4Hunger representatives Zayan Kajani\, Amar Imam\, and Wasi Asifali presented their annual project. \nThe Proclamation acknowledges the rich history and guiding virtues of American Muslims\, and commends Muslim communities in California for the lasting positive impact they have made\, and continue to make\, toward the advancement of the state and the nation in Ramadan and beyond. \nThe Proclamation recognizes the MCC East Bay as fulfilling the spiritual and cultural needs of Dublin residents and promoting interfaith cooperation by providing an environment for dialogue\, education\, and fellowship. \n– More community & social justice issues in the American-Muslim community: http://mcceastbay.org/community\n– More CAIR-MCC co-sponsored talks: http://mcceastbay.org/cair\n– More MCC interfaith events: http://mcceastbay.org/interfaith\n– More Sr. Eman: http://mcceastbay.org/eman \nEman Tai is a member of City of Dublin’s Diversity and Inclusion Task Force\, Secretary of Muslim Democrats and Friends Alameda County\, President Cottonwood Creek School Parent Faculty Club \, and Development and Community Partnerships Officer\, Muslim Public Affairs Council (MPAC). \n– Watch Dublin ’21 Proclamation: https://youtu.be/5yLuSj2w-w0\n– Watch San Ramon ’21 Proclamation: https://youtu.be/K4dnP1NXFv4\n– Watch Pleasanton 21′ Proclamation: https://youtu.be/ZX_MdpThzek \nMore MCC East Bay:\nEvents & Activities: http://www.mcceastbay.org/calendar\nWeekly Updates: http://www.mcceastbay.org/newsletter\nSupport MCC: https://www.mcceastbay.org/sadaqa\nFacebook: http://www.facebook.com/MCCPleasanton
URL:https://mcceastbay.org/event/dublin-proclamation-ramadan/
LOCATION:Dublin City Council Chamber\, 100 Civic Plaza\, Dublin\, CA\, 94568\, United States
ATTACH;FMTTYPE=image/png:https://mcceastbay.org/wp-content/uploads/2026/02/IMG_7897.png
ORGANIZER;CN="Muslim Community Center - East Bay":MAILTO:events@mcceastbay.org
END:VEVENT
BEGIN:VEVENT
DTSTART;TZID=America/Los_Angeles:20250415T190000
DTEND;TZID=America/Los_Angeles:20250415T193000
DTSTAMP:20260424T060356
CREATED:20250414T193715Z
LAST-MODIFIED:20250417T201536Z
UID:10023221-1744743600-1744745400@mcceastbay.org
SUMMARY:American Muslim Appreciation and Awareness Month: Dublin City Council
DESCRIPTION:At 7 p.m. on Tuesday\, April 15\, 2025\, the Dublin City Council will join communities throughout the State of California in recognizing April 2025 as Muslim Appreciation and Awareness Month. Dr. Jamilah Friday will accept the Proclamation on behalf of Tri-Valley Muslims. \nSister Minara El Rahman speaks on behalf of the Dublin-area Muslim community group\, Muslim Cultural Society of Dublin. Dr. Jamilah Friday speaks on behalf of Tri-Valley Muslims\, MCC East Bay. \nThe MCC encourages all congregation members to attend in person\, watch the live stream\, and express our community’s appreciation for this and other upcoming Proclamations.   \n\n\n\nThe MCC encourages all congregation members to attend in person\, watch the livestream\, and express our community’s appreciation. We especially encourage residents who live and/or work in the City of Dublin. \n\n\n\nTo join in person\, virtually\, and/or to leave a comment: https://www.dublin.ca.gov/1604/Meetings-Agendas-Minutes-Video-on-Demand  \n\n\n\nThis is the fifth year the Dublin City Council has had this Proclamation. These are the Tri-Valley City Council commemorations in 2022: https://youtu.be/lPt53HC3RTo \n\n\n\nThis Proclamation acknowledges the rich history and guiding virtues of American Muslims. It commends Muslim communities in California for their lasting positive impact and continues to push toward advancing the state and the nation. \n\n\n\nThe Dublin City Council follows in the footsteps of other City Councils in the San Francisco Bay Area\, like Santa Clara\, Pleasanton\, Hayward\, San Ramon\, Livermore\, Union City\, Oakland\, San Jose\, and Redwood City. The Proclamation is likely the first agenda item\, so please be on time for the virtual meeting at 7 p.m. \n\n\n\nQuestions? events@mcceastbay.org \n\n\n\nOur community sincerely thanks Brother Musa Tariq at CAIR – San Francisco Bay Area. For several years\, he has facilitated these Proclamations in the Bay Area. \n\n\n\n\n\n\n– More CAIR-cosponsored events: https://mcceastbay.org/cair\n\n\n\n\n\n\nThese city Proclamations commemorate the California Assembly’s designation of August as American Muslim Appreciation and Awareness Month. Assemblymember Bill Quirk has introduced this resolution for the past seven years to commemorate American Muslim Appreciation and Awareness Month. The ceremonies take place during the first few minutes of the city’s council meeting. \n\n\n\nQuestions? events@mcceastbay.org \n\n\n\n\n\n\n\n\n\n\n\n\n\n\n\n\n\n\n\n\n\n 
URL:https://mcceastbay.org/event/american-muslim-appreciation-and-awareness-month-dublin-city-council/
LOCATION:Dublin City Council Chamber\, 100 Civic Plaza\, Dublin\, CA\, 94568\, United States
ATTACH;FMTTYPE=image/jpeg:https://mcceastbay.org/wp-content/uploads/2025/04/Post-Taraweeh-Khatira-Badr.jpg
ORGANIZER;CN="Muslim Community Center - East Bay":MAILTO:events@mcceastbay.org
END:VEVENT
BEGIN:VEVENT
DTSTART;TZID=America/Los_Angeles:20240820T183000
DTEND;TZID=America/Los_Angeles:20240820T190000
DTSTAMP:20260424T060356
CREATED:20240727T024921Z
LAST-MODIFIED:20240814T165508Z
UID:10021216-1724178600-1724180400@mcceastbay.org
SUMMARY:American Muslim Appreciation and Awareness Month: Dublin City Council
DESCRIPTION: \n\n\n\n\nAt 6:30 p.m. on Tuesday\, August 20\, 2024\, the Dublin City Council will join communities throughout the State of California in recognizing August 2024 as Muslim Appreciation and Awareness Month. Sr. Eman Tai will accept the Proclamation on behalf of Tri-Valley Muslims. \nThe MCC encourages all congregation members to attend in person\, watch the live stream\, and express our community’s appreciation for this and other upcoming Proclamations: \n\n– San Ramon at 7 p.m. on Tuesday\, August 7 p.m.: https://mcceastbay.org/event/san-ramon-city-council-proclamation\n– Dublin at 6:30 p.m. on Tuesday\, August 20: https://mcceastbay.org/event/dublin-council/\n– Pleasanton at 7 p.m. on Tuesday\, August 20: https://mcceastbay.org/event/plesanton-city-council\n– Livermore (TBA)\n\n \n\n\n\nThe MCC encourages all congregation members to attend in person\, watch the livestream\, and express our community’s appreciation. We especially encourage residents who live and/or work in the City of Dublin. \n\n\n\nTo join in person\, virtually\, and/or to leave a comment: https://www.dublin.ca.gov/82/City-Council-Meetings \n\n\n\nThis is the fourth year the Dublin City Council has had this Proclamation. These are the Tri-Valley City Council commemorations in 2022: https://youtu.be/lPt53HC3RTo \n\n\n\nThis Proclamation acknowledges the rich history and guiding virtues of American Muslims. It commends Muslim communities in California for their lasting positive impact and continues to push toward advancing the state and the nation. \n\n\n\nThe Dublin City Council follows in the footsteps of other City Councils in the San Francisco Bay Area\, like Santa Clara\, Pleasanton\, Hayward\, San Ramon\, Livermore\, Union City\, Oakland\, San Jose\, and Redwood City. The Proclamation is likely the first agenda item\, so please be on time for the virtual meeting at 7 p.m. \n\n\n\nQuestions? events@mcceastbay.org \n\n\n\nOur community sincerely thanks Brother Musa Tariq at CAIR – San Francisco Bay Area. For several years\, he has facilitated these Proclamations in the Bay Area. \n\n\n\n\n– More CAIR-cosponsored events: https://mcceastbay.org/cair\n\n\n\n\nThese city Proclamations commemorate the California Assembly’s designation of August as American Muslim Appreciation and Awareness Month. Assemblymember Bill Quirk has introduced this resolution for the past seven years to commemorate American Muslim Appreciation and Awareness Month. The ceremonies take place during the first few minutes of the city’s council meeting. \n\n\n\nQuestions? events@mcceastbay.org \n\n\n\n\n\n\n\n\n\n\n\n\n\n\n\n\n\n\n\n\n\n 
URL:https://mcceastbay.org/event/dublin-council-proclamation/
LOCATION:Dublin City Council Chamber\, 100 Civic Plaza\, Dublin\, CA\, 94568\, United States
CATEGORIES:Interfaith & Community Outreach
ATTACH;FMTTYPE=image/png:https://mcceastbay.org/wp-content/uploads/2024/07/Muslim-American-Appreciation-Month.png
ORGANIZER;CN="CAIR - San Francisco Bay Area (CAIR SFBA)":MAILTO:aabid@cair.com
END:VEVENT
BEGIN:VEVENT
DTSTART;TZID=America/Los_Angeles:20220816T190000
DTEND;TZID=America/Los_Angeles:20220816T193000
DTSTAMP:20260424T060356
CREATED:20220720T073535Z
LAST-MODIFIED:20220720T073535Z
UID:10018216-1660676400-1660678200@mcceastbay.org
SUMMARY:American Muslim Appreciation and Awareness Month: Dublin City Council
DESCRIPTION:At 7 p.m. on Tuesday\, August 16\, the Dublin City Council joins communities throughout the State of California in recognizing the month of August 2022 as Muslim Appreciation and Awareness Month. Sr. Eman Tai will accept the Proclamation on behalf of Tri-Valley Muslims. \nThe MCC encourages all congregation members to attend in person\, watch the live stream\, and express our community’s appreciation for this and other upcoming Proclamations: \n\n– Livermore at 7 p.m. on Monday\, July 25: https://mcceastbay.org/event/livermore-city-council\n– Dublin at 7 p.m. on Tuesday\, August 16: https://mcceastbay.org/event/dublin-city-council\n– Pleasanton at 7 p.m. on Tuesday\, August 16: https://mcceastbay.org/event/pleasanton-city-council\n\n– San Ramon at 7 p.m. on Thursday\, August 25: https://mcceastbay.org/event/san-ramon-council\n\nThe MCC encourages all congregation members to attend in person\, watch the livestream\, and express our community’s appreciation. We especially encourage residents who live and/or work in the City of Dublin. \nTo join in person\, virtually\, and/or to leave a comment: https://www.dublin.ca.gov/82/City-Council-Meetings \nThis is the third year the Dublin City Council has had this Proclamation. These are the Tri-Valley City Council commemorations in 2021: https://youtu.be/u5xITaHl37A \nThis Proclamation acknowledges the rich history and guiding virtues of American Muslims\, and commends Muslim communities in California for the lasting positive impact they have made\, and continue to make\, toward the advancement of the state and the nation. \nThe Dublin City Council follows in the steps of other City Councils in the San Francisco Bay Area\, like Santa Clara\, Pleasanton\, Hayward\, San Ramon\, Livermore\, Union City\, Oakland\, San Jose\, and Redwood City. The Proclamation is likely the first agenda item so please be on time at 7 p.m. for the virtual meeting. \nQuestions? events@mcceastbay.org \nOur community’s sincere gratitude to Sister Sameena Usman at CAIR – San Francisco Bay Area. For several years\, she has facilitated these Proclamations in the Bay Area. \n\n– More CAIR-cosponsored events: https://mcceastbay.org/cair\n\nThese city Proclamations commemorate the California Assembly designation of August as American Muslim Appreciation and Awareness Month. For the past seven years\, Assemblymember Bill Quirk has introduced this resolution to commemorate American Muslim Appreciation and Awareness month. The ceremonies take place during the first few minutes of the city’s council meeting. \nQuestions? events@mcceastbay.org \nAmerican Muslim Appreciation and Awareness Month\nCity of Dublin\nWHEREAS\, enriched by the unparalleled diversity of its residents\, the City of Dublin takes great pride in supporting individual religious freedoms and is strengthened by the many varied religious\, political\, and cultural traditions and contributions of its diverse populations\, including those that practice Islam; and\nWHEREAS\, Muslims have been part of U.S. history from the beginning and have contributed to the production of wealth and construction of the nation; they are also part of the rich history of the civil rights movement; and\nWHEREAS\, over 90\,000 Muslims live in Alameda County 1 \, and make innumerable contributions to the cultural\, political\, and economic fabric and well-being of California and the United States; and\nWHEREAS\, the shelter-in-place order due to the COVID-19 outbreak forced the temporary closure of Muslim nonprofits\, community centers\, mosques\, schools\, businesses\, and other establishments. Mosques and community organizations provided online programming and sermons along with small group prayers outside. They have answered the call for help by donating funds iii \, distributing food\, or by sewing masks to help those on the front line; and they have educated their congregations about social distancing guidelines and practices to keep the community safe; and WHEREAS\, in addition to prayer services\, Islamic classes\, and interfaith work\, the Muslim Community Center (MCC–East Bay) has been at the forefront to provide assistance to people in need.\nThey have housed a food pantry since 2010 2 \, provided assistance with living expenses through the Islamic practice of Zakat to 50 East Bay families per month\, and continued their weekly food donation drive to 150 families weekly with 25\,000 pounds of food delivered to 13 East Bay cities. They host a quarterly blood drive\, facilitate hundreds of car donations between congregation members and community members\, and an annual backpack drive for hundreds of schoolchildren (sponsored by Girl Scouts Troop 30875). They also provide rental assistance\, refugee support\, burial services\, financial counseling\, voter registration\, free Covid testing\, mental health counseling and therapy\, and support for the victims of domestic violence through a partnership with North American Islamic Shelter for the Abused and Tri-Valley Haven. The East Bay is home to one of the largest Afghan communities in the United States\, and MCC East Bay stepped up to help settle these families during this difficult time in relation to the evacuation; and\nWHEREAS\, throughout the pandemic\, the Islamic Center of Zahra (ICZ) has served its community members by holding virtual youth events\, spiritual workshops\, children&#39;s learning programs\, and volunteering opportunities. ICZ has partnered with Prosper International to support vulnerable families overseas unemployment by creating a program 5 that allows community members to volunteer to assist the vulnerable elderly in running errands and by adapting their annual Ramadan Giving 6 campaign to a virtual format that encouraged community members to sponsor a months’ worth of food supplies for 10 families\nand aid non-profit agencies involved in feeding the needy; and\nWHEREAS\, it is appropriate to acknowledge and promote awareness of the myriad of invaluable contributions of Muslims in California and across the country\, and provide them the respect and acknowledgment every person deserves. \nNow\, therefore\, be it resolved\, the City of Dublin does hereby recognize the California State Designation of August 2022 as American Muslim Appreciation and Awareness Month to acknowledge the rich history\, contributions\, and guiding virtues of Muslims and to commend all Muslim communities in California for the lasting positive impact they have made toward the advancement of our city and country. \n1. ICZ relief fund 4 supports community members in need of assistance and facing 1 Senzai \, Farid \, and Hatem Bazian. “The Bay Area Muslim Study: Establishing Identity and Community.” Institute for Social Policy and Understanding. One Nation Bay Area Project\, 01 May 2013. Page 9. \n2. “Muslim Community Center Serves Many”\, Retrieved July 8\, 2022\, from https://www.hacienda.org/news-\nevents/hacienda-online/pulse/2022/company/muslim-community-center-serves-many \n3. “Help Fight COVID-19 [Support Prosper International].” All-In-One Integrated Marketing Platform for Small\nBusiness\, mailchi.mp/iczsa.org/proper?fbclid=IwAR0To-bYhP-_eU0n4JOcLuZGzyGu56OaFNjU-RiHf-\nShWk2NVjXvR3TFLTM \n4. “ICZ Relief Fund 2020 &amp; Helping Hands.” All-In-One Integrated Marketing Platform for Small Business\,\nmailchi.mp/iczsa.org/iczrelieffund?fbclid=IwAR39GF7OdT6P_bGtA7gvjM8tASWOy4p5ROJ_jRvemx4cs1rW7V\nMkx7hGHKs \n5. “Lending a Helping Hand to Our Community.” All-In-One Integrated Marketing Platform for Small Business\,\nmailchi.mp/iczsa.org/march10-\n1337205?fbclid=IwAR0dTyF6o9YgbEtQLvi2eIYz2IOlKvd_6DYzYS4MguV5WEZg1YMGC4Qr7PU \n6. “Ramadan Giving – Iftar Sponsorships [UPDATED Sign-Up Instructions].” All-In-One Integrated Marketing\nPlatform for Small Business\, mailchi.mp/iczsa.org/ramadan-giving-iftar-sponsorships-\n1349702?fbclid=IwAR0SVADUVFgnpl6enEC7a8Ug6Wm7juvgNpm_PLGGYWBJULqItgssFcjNrFk
URL:https://mcceastbay.org/event/dublin-city-council/
LOCATION:Dublin City Council Chamber\, 100 Civic Plaza\, Dublin\, CA\, 94568\, United States
CATEGORIES:Interfaith & Community Outreach
ATTACH;FMTTYPE=image/png:https://mcceastbay.org/wp-content/uploads/2024/06/American-Muslim-Appreciation-and-Awareness-Month-livermore.png
ORGANIZER;CN="Muslim Community Center - East Bay":MAILTO:events@mcceastbay.org
END:VEVENT
BEGIN:VEVENT
DTSTART;TZID=America/Los_Angeles:20210817T190000
DTEND;TZID=America/Los_Angeles:20210817T193000
DTSTAMP:20260424T060356
CREATED:20210808T111730Z
LAST-MODIFIED:20210808T111730Z
UID:10014759-1629226800-1629228600@mcceastbay.org
SUMMARY:Dublin City Council | American Muslim Proclamation
DESCRIPTION:At 7 p.m. on Tuesday\, August 17\, the Dublin City Council joins communities throughout the State of California in recognizing the month of August 2021 as Muslim Appreciation and Awareness Month.\n\n\n \n\n\nThe MCC encourages all congregation members to watch the livestream and express our appreciation. We especially encourage residents who live in the city of Dublin. Please also leave a public comment: http://www.dublin.ca.gov/1604\n\n\n \n7 p.m. to 7:30 p.m. | Tuesday\, Aug. 17 | Dublin City Council\, 100 Civic Plaza\n\nThis is the third year the Dublin City Council has done so. Keep an eye out for Pleasanton\, San Ramon and Livermore City Council virtual proclamations in the coming weeks.\n\n\n \n\n\nLast year\, Dublin Mayor Dave Haubert and City Councilmen Shawn Kumagai presented the Proclamation\, which acknowledges the rich history and guiding virtues of American Muslims\, and commends Muslim communities in California for the lasting positive impact they have made\, and continue to make\, toward the advancement of the state and the nation.\n\n\n \n\n\nThe Dublin City Council follows in the steps of other City Councils in the San Francisco Bay Area\, like Santa Clara\, Union City\, Oakland\, San Jose\, and Redwood City. The Proclamation is the first agenda item so please be on time at 7 p.m. to the virtual meeting.\n\n\n \n\n\nOur gratitude to Sr. Sameena Usman from CAIR – San Francisco Bay Area. She has been facilitated these Bay Area-wide Proclamations.\n\nQuestions? events@mcceastbay.org
URL:https://mcceastbay.org/event/dublin-proclamation/
LOCATION:Dublin City Council Chamber\, 100 Civic Plaza\, Dublin\, CA\, 94568\, United States
CATEGORIES:Interfaith & Community Outreach
ATTACH;FMTTYPE=image/png:https://mcceastbay.org/wp-content/uploads/2024/06/American-Muslim-Appreciation-and-Awareness-Month.png
ORGANIZER;CN="Muslim Community Center - East Bay":MAILTO:events@mcceastbay.org
END:VEVENT
END:VCALENDAR