BEGIN:VCALENDAR
VERSION:2.0
PRODID:-//MCC East Bay - ECPv6.15.20//NONSGML v1.0//EN
CALSCALE:GREGORIAN
METHOD:PUBLISH
X-WR-CALNAME:MCC East Bay
X-ORIGINAL-URL:https://mcceastbay.org
X-WR-CALDESC:Events for MCC East Bay
REFRESH-INTERVAL;VALUE=DURATION:PT1H
X-Robots-Tag:noindex
X-PUBLISHED-TTL:PT1H
BEGIN:VTIMEZONE
TZID:America/Los_Angeles
BEGIN:DAYLIGHT
TZOFFSETFROM:-0800
TZOFFSETTO:-0700
TZNAME:PDT
DTSTART:20200308T100000
END:DAYLIGHT
BEGIN:STANDARD
TZOFFSETFROM:-0700
TZOFFSETTO:-0800
TZNAME:PST
DTSTART:20201101T090000
END:STANDARD
BEGIN:DAYLIGHT
TZOFFSETFROM:-0800
TZOFFSETTO:-0700
TZNAME:PDT
DTSTART:20210314T100000
END:DAYLIGHT
BEGIN:STANDARD
TZOFFSETFROM:-0700
TZOFFSETTO:-0800
TZNAME:PST
DTSTART:20211107T090000
END:STANDARD
BEGIN:DAYLIGHT
TZOFFSETFROM:-0800
TZOFFSETTO:-0700
TZNAME:PDT
DTSTART:20220313T100000
END:DAYLIGHT
BEGIN:STANDARD
TZOFFSETFROM:-0700
TZOFFSETTO:-0800
TZNAME:PST
DTSTART:20221106T090000
END:STANDARD
BEGIN:DAYLIGHT
TZOFFSETFROM:-0800
TZOFFSETTO:-0700
TZNAME:PDT
DTSTART:20230312T100000
END:DAYLIGHT
BEGIN:STANDARD
TZOFFSETFROM:-0700
TZOFFSETTO:-0800
TZNAME:PST
DTSTART:20231105T090000
END:STANDARD
BEGIN:DAYLIGHT
TZOFFSETFROM:-0800
TZOFFSETTO:-0700
TZNAME:PDT
DTSTART:20240310T100000
END:DAYLIGHT
BEGIN:STANDARD
TZOFFSETFROM:-0700
TZOFFSETTO:-0800
TZNAME:PST
DTSTART:20241103T090000
END:STANDARD
BEGIN:DAYLIGHT
TZOFFSETFROM:-0800
TZOFFSETTO:-0700
TZNAME:PDT
DTSTART:20250309T100000
END:DAYLIGHT
BEGIN:STANDARD
TZOFFSETFROM:-0700
TZOFFSETTO:-0800
TZNAME:PST
DTSTART:20251102T090000
END:STANDARD
BEGIN:DAYLIGHT
TZOFFSETFROM:-0800
TZOFFSETTO:-0700
TZNAME:PDT
DTSTART:20260308T100000
END:DAYLIGHT
BEGIN:STANDARD
TZOFFSETFROM:-0700
TZOFFSETTO:-0800
TZNAME:PST
DTSTART:20261101T090000
END:STANDARD
END:VTIMEZONE
BEGIN:VEVENT
DTSTART;TZID=America/Los_Angeles:20250913T070000
DTEND;TZID=America/Los_Angeles:20250913T100000
DTSTAMP:20260421T153159
CREATED:20250908T184907Z
LAST-MODIFIED:20250908T184907Z
UID:10024024-1757746800-1757757600@mcceastbay.org
SUMMARY:Monthly Sisterhood Hike | Sisters in the Outdoors
DESCRIPTION:Join us at 7 a.m. on Saturday\, Sep. 13\, for a hike at Pleasanton Ridge Regional Park near Sunol to get to know other sisters in the community and enjoy the great outdoors. No children\, please (female teens\, okay). Let us know you are coming: https://mcceastbay.org/rsvp \nIf sisters want to walk around more\, they can do it depending on their interest/time. The hike will be canceled if there are not enough RSVPs or depending on the weather. \n\n– When: Saturday\, Sep. 13\n– Time: 7 a.m. to 10 a.m. – Please arrive a little early to park and find the group. The group can wait till 7:10 a.m. and will start the hike. Please be on time\, since we cannot hold the group.\n– Carpool: We highly recommend carpooling. No carpool is available from MCC for this hike. Carpooling encouraged others on this hike. Please note that cell phone service is not available at the parking lot\, so we kindly request that you arrive on time.\n– Parking: We will meet in the parking lot outside the gate. Please do not go inside the park even if the gate is open. We like to emphasize that there is no cell reception in the parking lot\, so please be there on time\, as we will not break the group to come back to get someone from the parking lot if they are running late.\n– Meeting Point: Parking lot\, Foothill Staging Area\, Foothill Rd\, Sunol\, CA 94586\n– Trail:  Olive and Thermalito Trail Loop\n– Distance: 4.5 miles\n– Difficulty: Moderate\n– Misc: Wear hiking shoes if possible. There will be a small water crossing\, and your shoes might get wet. Bring a small breakfast/ Lunch sandwich or something to eat. Carry enough water\, a hat\, and a light jacket. Please download All Trails map (free version) in case you decide to return in the middle of the hike. This will be very helpful in navigating back to the parking lot.\n– RSVP: By Friday\, Sep. 12\, please let us know you are coming for this hike: https://mcceastbay.org/rsvp\n\nSr. Aparna Khan and Sr. Sohaila will be leading this hike. If you have trouble finding the group on the day of the hike\, please call or text Sr. Aparna at (408) 480-6584 or Sr. Sohaila at (925) 786-7698. Please remember that we cannot hold all the group\, so we request you to please be on time. \nFor future hikes\, please subscribe to the MCC newsletter and/or add your phone number to the Women’s Hiking WhatsUp group. \nPlease wear comfortable walking/hiking shoes\, carry a water bottle\, a small snack\, a hat\, sunglasses\, and hiking poles if you have one.  \nQuestions? hiking@mcceastbay.org \nAbout this trail: \nCheck out this 4.5-mile loop trail near Sunol\, California. Generally considered a moderately challenging route\, it takes an average of 2 h 27 min to complete. This is a very popular area for birding\, hiking\, and running\, so you’ll likely encounter other people while exploring. The trail is open year-round and is beautiful to visit anytime.
URL:https://mcceastbay.org/event/monthly-sisters-hike-4/
LOCATION:Pleasanton Ridge Regional Park\, Pleasanton\, CA\, Foothill Rd.\, Pleasanton\, 94588\, United States
CATEGORIES:Women's Activities
ATTACH;FMTTYPE=image/jpeg:https://mcceastbay.org/wp-content/uploads/2025/09/Monthly-Sisterhood-Hike.jpg
ORGANIZER;CN="Muslim Community Center - East Bay":MAILTO:events@mcceastbay.org
END:VEVENT
BEGIN:VEVENT
DTSTART;TZID=America/Los_Angeles:20250511T052000
DTEND;TZID=America/Los_Angeles:20250511T080000
DTSTAMP:20260421T153159
CREATED:20250506T165703Z
LAST-MODIFIED:20250506T170023Z
UID:10023553-1746940800-1746950400@mcceastbay.org
SUMMARY:Brothers Fajr & Hike
DESCRIPTION:For Brothers! Join us for Fajr prayer in congregation\, followed by Dhikr until sunrise\, then Ishraq (Duha) prayer\, and afterwards head to Pleasanton Ridge for a hike. \nFor this Fajr Hike\, brothers are welcome to join us at MCC for Fajr prayer before heading to the trailhead. If preferred\, you may meet us directly at the trailhead. Light refreshments (coffee) will be available after Fajr for those who come early.\n\nSunday\, May 11 | 5:20 a.m. to 8:00 a.m. | Pleasanton Ridge | No children\, please (teenage boys\, okay) | RSVP at mcceastbay.org/brothers-hike \nIf brothers want to walk around more\, they can do it depending on their interest/time. The hike will be canceled with insufficient RSVPs\, depending on the weather. \n\nWhen: Sunday\, May 11\, 2025\nTime:  \n\n5:10 a.m. Fajr at MCC (optional)\n7:00 a.m. to 8:00 a.m. Hike\n\n\nCarpool: We highly recommend carpooling. No carpool from MCC is available for this hike.\nParking: Free\nMeeting Point: Foothill Staging Area\nTrail: Oak Tree – Woodland Loop\nDistance: Around 1.8 miles.\nDifficulty: Moderate.\nMisc: Pack a snack and water for yourself. Wear hiking shoes if possible. Bring a small breakfast/ Lunch sandwich or something to eat. Carry enough water\, a hat\, and a light jacket. Please download the All Trails map (free version) if you decide to return in the middle of the hike. This will be very helpful when navigating back to the parking lot.\nRSVP: By Saturday\, May 10\, please let us know you are coming for this hike: https://mcceastbay.org/brothers-hike\n\nMohammed Kadoura leads these monthly hikes for the brothers. If you have trouble finding the group on the day of the hike\, please call or text Br. Mohammed at (617) 935-7347. Please remember that we cannot hold all of the group\, so we request you to please be on time. \nFor future hikes\, please subscribe to the MCC newsletter and add your phone number to the Men’s Hiking WhatsApp group. \n  \nVirtue of Dhikr after Fajr until Sunrise\nThe Prophet ﷺ said:\n“Whoever prays Fajr in congregation\, then sits remembering Allah until the sun rises\, then prays two rak‘ahs\, will have a reward like that of Hajj and ‘Umrah\, complete\, complete\, complete.”\n— (Tirmidhi 586\, graded Hasan by Al-Albani) \n  \nReward for Praying Fajr and ‘Isha in Congregation\nThe Prophet ﷺ said:\n“Whoever prays ‘Isha in congregation\, it is as if he has stood in prayer for half the night. And whoever prays Fajr in congregation\, it is as if he has stood in prayer the entire night.”\n— (Muslim 656) \n  \nBlessings in the Early Morning\nThe Prophet ﷺ said:\n“O Allah\, bless my Ummah in the early morning.”\n— (Abu Dawood 2606\, Ibn Majah 2236\, graded Sahih) \n  \nThe Prophet’s Love for Duha Prayer\nAbu Huraira (RA) reported:\n“My beloved (the Prophet ﷺ) advised me to do three things: to fast three days of every month\, to pray two rak‘ahs of Duha\, and to pray Witr before sleeping.”\n— (Bukhari 1981\, Muslim 721) \n  \nPlease wear comfortable walking/hiking shoes\, carry a water bottle\, a small snack\, a hat\, sunglasses\, and hiking poles if you have any.  \nQuestions? hiking@mcceastbay.org  \n\nAbout this trail: \nEnjoy this 1.8-mile loop trail near Sunol\, California. Generally considered a moderately challenging route\, it takes an average of 1 h 2 min to complete. This area is very popular for hiking\, running\, and walking\, so you’ll likely encounter other people while exploring. The best times to visit this trail are September through July. Dogs are welcome and may be off-leash in some areas. \nThis beautiful trail leads visitors through the majestic oak trees of Pleasanton Ridge Regional Park and offers some lovely views of Sunol and the surrounding hills. The best time to visit is early in the morning or later in the day to escape the sun. \nThe trail features brief climbs\, flat stretches\, and lovely views from the summit. Plenty of parking is at the Foothill Staging Area trailhead on Foothill Road.
URL:https://mcceastbay.org/event/brothers-fajr-hike-2/
LOCATION:Pleasanton Ridge Regional Park\, Pleasanton\, CA\, Foothill Rd.\, Pleasanton\, 94588\, United States
ATTACH;FMTTYPE=image/jpeg:https://mcceastbay.org/wp-content/uploads/2025/05/Brothers-Fajr-Hike.jpg
ORGANIZER;CN="Muslim Community Center - East Bay":MAILTO:events@mcceastbay.org
END:VEVENT
BEGIN:VEVENT
DTSTART;TZID=America/Los_Angeles:20250413T054500
DTEND;TZID=America/Los_Angeles:20250413T200000
DTSTAMP:20260421T153159
CREATED:20250410T035120Z
LAST-MODIFIED:20250410T192759Z
UID:10023208-1744523100-1744574400@mcceastbay.org
SUMMARY:Brothers Fajr & Hike
DESCRIPTION:For Brothers! Join a brotherhood that hikes through life’s ups and downs\, finding strength and community in the great outdoors. Our Monthly MCC Brothers Hike caters to various fitness levels and explores East Bay’s serene landscapes. Whether you’re a seasoned hiker or just looking to start\, we welcome you to share in this journey of fellowship and discovery. \nFor this Fajr Hike\, brothers are welcome to join us at MCC for Fajr prayer\, followed by dhikr until sunrise\, then Ishraq (Duha) prayer before heading to the trailhead. If preferred\, you may meet us directly at the trailhead. Light refreshments will be available after Fajr for those who come early.\n\nSunday\, April 13 | 5:45 a.m. to 8:00 a.m. | Pleasanton Ridge | No children\, please (teenage boys\, okay) | RSVP at mcceastbay.org/brothers-hike \nIf brothers want to walk around more\, they can do it depending on their interest/time. The hike will be canceled with insufficient RSVPs\, depending on the weather. \n\nWhen: Sunday\, April 13\, 2025\nTime:  \n\n5:45 a.m. Fajr at MCC (optional)\n7:00 a.m. to 8:00 a.m. Hike\n\n\nCarpool: We highly recommend carpooling. No carpool from MCC is available for this hike.\nParking: Free\nMeeting Point: Foothill Staging Area\nTrail: Oak Tree – Woodland Loop\nDistance: Around 1.8 miles.\nDifficulty: Moderate.\nMisc: Pack a snack and water for yourself. Wear hiking shoes if possible. Bring a small breakfast/ Lunch sandwich or something to eat. Carry enough water\, a hat\, and a light jacket. Please download the All Trails map (free version) if you decide to return in the middle of the hike. This will be very helpful when navigating back to the parking lot.\nRSVP: By Saturday\, April 12\, please let us know you are coming for this hike: https://mcceastbay.org/brothers-hike\n\nPlease wear comfortable walking/hiking shoes\, carry a water bottle\, a small snack\, a hat\, sunglasses\, and hiking poles if you have any.  \nMohammed Kadoura leads these monthly hikes for the brothers. If you have trouble finding the group on the day of the hike\, please call or text Br. Mohammed at (617) 935-7347. Please remember that we cannot hold all of the group\, so we request you to please be on time. \nFor future hikes\, please subscribe to the MCC newsletter and add your phone number to the Men’s Hiking WhatsApp group. \n  \nVirtue of Dhikr after Fajr until Sunrise\n\nThe Prophet ﷺ said:\n“Whoever prays Fajr in congregation\, then sits remembering Allah until the sun rises\, then prays two rak‘ahs\, will have a reward like that of Hajj and ‘Umrah\, complete\, complete\, complete.”\n— (Tirmidhi 586\, graded Hasan by Al-Albani) \nReward for Praying Fajr and ‘Isha in Congregation\nThe Prophet ﷺ said:\n“Whoever prays ‘Isha in congregation\, it is as if he has stood in prayer for half the night. And whoever prays Fajr in congregation\, it is as if he has stood in prayer the entire night.”\n— (Muslim 656) \nBlessings in the Early Morning\nThe Prophet ﷺ said:\n“O Allah\, bless my Ummah in the early morning.”\n— (Abu Dawood 2606\, Ibn Majah 2236\, graded Sahih) \nThe Prophet’s Love for Duha Prayer\nAbu Huraira (RA) reported:\n“My beloved (the Prophet ﷺ) advised me to do three things: to fast three days of every month\, to pray two rak‘ahs of Duha\, and to pray Witr before sleeping.”\n— (Bukhari 1981\, Muslim 721) \nQuestions? hiking@mcceastbay.org  \n\nAbout this trail: \n\nThis beautiful trail leads visitors through the majestic oak trees of Pleasanton Ridge Regional Park and offers some lovely views of Sunol and the surrounding hills. The best time to visit is early in the morning or later on in the day to escape the sun. \nThe trail features brief climbs\, flat stretches and lovely views from the summit. Plenty of parking is at the Foothill Staging Area trailhead on Foothill Road.
URL:https://mcceastbay.org/event/brothers-fajr-hike/
LOCATION:Pleasanton Ridge Regional Park\, Pleasanton\, CA\, Foothill Rd.\, Pleasanton\, 94588\, United States
ATTACH;FMTTYPE=image/jpeg:https://mcceastbay.org/wp-content/uploads/2025/04/Brothers-Fajr-Hike.jpg
ORGANIZER;CN="Muslim Community Center - East Bay":MAILTO:events@mcceastbay.org
END:VEVENT
BEGIN:VEVENT
DTSTART;TZID=America/Los_Angeles:20250104T070000
DTEND;TZID=America/Los_Angeles:20250104T110000
DTSTAMP:20260421T153159
CREATED:20241231T185827Z
LAST-MODIFIED:20241231T190119Z
UID:10022430-1735974000-1735988400@mcceastbay.org
SUMMARY:Monthly Sisterhood Hike | Sisters in the Outdoors
DESCRIPTION:Join us at 7 a.m. on Saturday\, Jan. 4\, for a hike at Pleasanton Ridge Regional Park in Sunol to get to know other sisters in the community and enjoy the great outdoors. No children\, please (female teens\, okay). Let us know you are coming: https://mcceastbay.org/rsvp \nIf sisters want to walk around more\, they can do it depending on their interest/time. The hike will be canceled if there are not enough RSVPs or depending on the weather. \n\n– When: Saturday\, Jan. 4\, 2025\n– Time: 7 a.m. to 11 a.m. – Please arrive a little early to park and find the group. The group can wait till 7:10 a.m. and will start the hike. Please be on time since we cannot hold the group.\n– Carpool: We highly recommend carpooling. No carpool from MCC is available for this hike. Carpool encouraged others on this hike.\n– Parking: Free\, recommend carpool.\n– Location: Foothill Staging Area\n– Trail: Olive and Thermalito Trail Loop\n– Distance: 4.0 miles\n– Difficulty: Moderate\n– Misc: Wear hiking shoes if possible. There will be a small water crossing\, and your shoes might get wet. Bring a small breakfast/ Lunch sandwich or something to eat. Carry enough water\, a hat\, and a light jacket. Please download All Trails map (free version) in case you decide to return in the middle of the hike. This will be very helpful in navigating back to the parking lot.\n– RSVP: By Friday\, Jan. 3\, please let us know you are coming for this hike: https://mcceastbay.org/rsvp\n\nSr. Aparna Khan and Sr. Sohaila will be leading this hike. If you have trouble finding the group on the day of the hike\, please call or text Sr. Aparna at (408) 480-6584 or Sr. Sohaila at (925) 786-7698. Please remember that we cannot hold all the group\, so we request you to please be on time. \nFor future hikes\, please subscribe to the MCC newsletter and/or add your phone number to the Women’s Hiking WhatsUp group. \nPlease wear comfortable walking/hiking shoes\, carry a water bottle\, a small snack\, a hat\, sunglasses\, and hiking poles if you have one.  \nQuestions? hiking@mcceastbay.org \nTentative dates for Monthly Sisterhood Hike in 2025: \n\n\nFeb 1st\n\n\nMarch 1st – Ramadhan begins – Hike is TBD as of now.\n\n\nApril 5th\n\n\nMay 3rd\n\n\nAbout this trail: \nCheck out this 4.0-mile loop trail near Sunol\, California. Generally considered a moderately challenging route\, it takes an average of 2 h 16 min to complete. This is a very popular area for birding\, hiking\, and running\, so you’ll likely encounter other people while exploring. The trail is open year-round and is beautiful to visit anytime.
URL:https://mcceastbay.org/event/monthly-sisterhood-hike-sisters-in-the-outdoors-4/
LOCATION:Pleasanton Ridge Regional Park\, Pleasanton\, CA\, Foothill Rd.\, Pleasanton\, 94588\, United States
CATEGORIES:Women's Activities
ATTACH;FMTTYPE=image/jpeg:https://mcceastbay.org/wp-content/uploads/2024/12/Monthly-Sisterhood-Hike.jpg
ORGANIZER;CN="Muslim Community Center - East Bay":MAILTO:events@mcceastbay.org
END:VEVENT
BEGIN:VEVENT
DTSTART;TZID=America/Los_Angeles:20241109T070000
DTEND;TZID=America/Los_Angeles:20241109T110000
DTSTAMP:20260421T153159
CREATED:20241031T143553Z
LAST-MODIFIED:20241107T163059Z
UID:10021885-1731135600-1731150000@mcceastbay.org
SUMMARY:*Canceled* Monthly Sisterhood Hike | Sisters in the Outdoors
DESCRIPTION:*Canceled* \nJoin us at 7 a.m. on Saturday\, Nov. 9\, for a hike at Thermalito Ridgeline Oak Tree Trail in Sunol to get to know other sisters in the community and enjoy the great outdoors. No children\, please (female teens\, okay). Let us know you are coming: https://mcceastbay.org/rsvp \nIf sisters want to walk around more\, they can do it depending on their interest/time. The hike will be canceled if there are not enough RSVPs or depending on the weather. \n\n– When: Saturday\, Nov. 9\, 2024\n– Time: 7 a.m. to 11 a.m. – Please arrive a little early to park and find the group. The group can wait till 7:10 a.m. and will start the hike. Please be on time since we cannot hold the group.\n– Carpool: We highly recommend carpooling. No carpool from MCC is available for this hike. Carpool encouraged others on this hike.\n– Parking: Free\, recommend carpool.\n– Location: https://g.co/kgs/j9ahni4\n– Trail: https://www.alltrails.com/explore/trail/us/california/thermalito-ridgeline-oak-tree-trail–2\n– Distance: 6.5 miles\n– Difficulty: Hard!\n– Misc: Wear hiking shoes if possible. There will be a small water crossing\, and your shoes might get wet. Bring a small breakfast/ Lunch sandwich or something to eat. Carry enough water\, a hat\, and a light jacket. Please download All Trails map (free version) in case you decide to return in the middle of the hike. This will be very helpful in navigating back to the parking lot.\n– RSVP: By Friday\, Nov. 8\, please let us know you are coming for this hike: https://mcceastbay.org/rsvp\n\nSr. Aparna Khan and Sr. Sohaila will be leading this hike. If you have trouble finding the group on the day of the hike\, please call or text Sr. Aparna at (408) 480-6584 or Sr. Sohaila at (925) 786-7698. Please remember that we cannot hold all the group\, so we request you to please be on time. \nFor future hikes\, please subscribe to the MCC newsletter and/or add your phone number to the Women’s Hiking WhatsUp group. \nPlease wear comfortable walking/hiking shoes\, carry a water bottle\, a small snack\, a hat\, sunglasses\, and hiking poles if you have one.  \nQuestions? hiking@mcceastbay.org \nAbout this trail: \nCheck out this 6.5-mile loop trail near Sunol\, California. Generally considered a moderately challenging route\, it takes an average of 3 h 18 min to complete. This is a very popular area for birding\, hiking\, and horseback riding\, so you’ll likely encounter other people while exploring. The trail is open year-round and is beautiful to visit anytime.
URL:https://mcceastbay.org/event/monthly-sisters-hike-3/
LOCATION:Pleasanton Ridge Regional Park\, Pleasanton\, CA\, Foothill Rd.\, Pleasanton\, 94588\, United States
ATTACH;FMTTYPE=image/jpeg:https://mcceastbay.org/wp-content/uploads/2024/10/Monthly-Sisterhood-Hike.jpg
ORGANIZER;CN="Muslim Community Center - East Bay":MAILTO:events@mcceastbay.org
END:VEVENT
BEGIN:VEVENT
DTSTART;TZID=America/Los_Angeles:20210904T063000
DTEND;TZID=America/Los_Angeles:20210904T090000
DTSTAMP:20260421T153159
CREATED:20210827T045707Z
LAST-MODIFIED:20240630T203453Z
UID:10014789-1630737000-1630746000@mcceastbay.org
SUMMARY:Sister's Hike to Pleasanton Ridge | Sisterhood in the Outdoors
DESCRIPTION:Join us from 6:30 a.m. to 9 a.m. on Saturday\, September 4 for a Saturday morning hike at the Pleasanton Ridge to get to know other sisters in the community and enjoy the great outdoors. \nMessage hiking@mcceastbay.org with your name & cell phone number by Friday\, September 3 to RSVP. \nPlease come prepared with water\, snack and hiking/running shoes. \nFor future hikes\, please subscribe to the MCC newsletter and/or add your phone number to the Women’s Hiking WhatsUp group. \nOn the day of the hike\, if you have trouble finding the group\, please call or text Hike Leader Sr. Aparna Khan at (408) 480-6584. Please remember that we cannot hold all the group \, request you to please be on time. \nLocation: Pleasanton Ridge Regional Park\, Foothill Rd\, Pleasanton\, CA 94588 . If you are using Google Maps for driving directions\, search for Foothill Staging Area: https://goo.gl/maps/871WWNiGtJ3f284N7 \nTime : 6:30 a.m.. Let’s meet by the Pleasanton Ridge parking lot between 6:20 a.m. to 6:30 a.m. \nDistance: Around 6.2 miles and not stroller friendly unless you have a jogger stroller \nAll trails Map: We will be doing this trail https://www.alltrails.com/trail/us/california/thermalito-ridgeline-oak-tree-trail–2 \nParking Fee: Free \nDifficulty: Most of the Thermalito Ridgeline Oak Tree Trail is moderate level but it does have some elevation gain. Please refer to alltrails for hike difficulty If you are first timer hiking\, it might be little difficult. \nCarpool from MCC: No planned carpool \nPlease wear comfortable walking/hiking shoes\, carry water bottle\, small snack\, hat\, sunglasses and hiking poles if you have. \n\n\nQuestions? hiking@mcceastbay.org \n\n\n\n\nThermalito Ridgeline Oak Tree Trail\n\nThermalito Ridgeline Oak Tree Trail is a 6.2 mile heavily trafficked loop trail located near Sunol\, California that features beautiful wild flowers and is rated as moderate. The trail offers a number of activity options and is accessible year-round. Dogs and horses are also able to use this trail. See here: https://www.alltrails.com/trail/us/california/thermalito-ridgeline-oak-tree-trail–2 \n\nLength: 6.2 mi\nElevation gain: 1\,325 ft.\nRoute type: Loop\nAbout The Park\nThis beautiful 5\,271-acre parkland is on the oak-covered ridge overlooking Pleasanton and the Livermore Valley from the west. It is planned as the core of a Ridgelands Regional Park to be acquired over a period of many years. Parkland development has been intentionally limited to preserve the pastoral atmosphere. \nThe park occupies Pleasanton Ridge and beyond. To the northwest it spills down off Pleasanton Ridge into upper Kilkare Canyon\, where it continues up onto Sunol Ridge\, finally terminating at its westernmost corner in Stoneybrook Canyon. Inside the park\, elevations exceed 1\,600 feet. \n\nPark Activities\nFrom the main staging area on Foothill Road you can follow a multi-purpose trail system\, which accommodates hikers\, equestrians\, and bicyclists\, provides canyon views and ridge-top vistas\, and access to remote\, deep-canyon streams. \nPark Accessibility\nThere are one paved disabled parking and one wheelchair accessible portable toilet in the Foothill staging area. The two old redwood type drinking fountains would allow a wheelchair to get under but there is no smooth surface under these facilities. The park will install an upgraded fountain this summer for wheelchair users in an area by the disabled parking. There is one picnic table that can accommodate two wheelchairs and is also next to the disabled parking. The trails in the park are all multi-use dirt trails so they are more suitable for visitors who use electric wheelchair. \nTrail Accessibility Report\nOak Tree Trail: Download PDF | Download MS Word \nTo Reach The Park\nFrom I-680 in Pleasanton\, exit at Castlewood Drive and go west. Turn left (south) onto Foothill Road\, towards the town of Sunol. The Foothill Staging Area is about two miles from Castlewood Drive\, on the right. \n\nPublic transit information\n\nTransit & Trails: Pleasanton Ridge Regional Park (transit\, biking\, and walking directions) \nTrail Map\nClick the map image below to see an enlarged version. \n \n\n 
URL:https://mcceastbay.org/event/sisters-hike-pleasanton-ridge/
LOCATION:Pleasanton Ridge Regional Park\, Pleasanton\, CA\, Foothill Rd.\, Pleasanton\, 94588\, United States
CATEGORIES:Women's Activities
ATTACH;FMTTYPE=image/jpeg:https://mcceastbay.org/wp-content/uploads/2024/06/Muslimah-Hike-5-Sisters-Hike-to-Pleasanton-Ridge-Sisterhood-in-the-Outdoors.jpg
ORGANIZER;CN="Muslim Community Center - East Bay":MAILTO:events@mcceastbay.org
END:VEVENT
END:VCALENDAR