BEGIN:VCALENDAR
VERSION:2.0
PRODID:-//MCC East Bay - ECPv6.15.20//NONSGML v1.0//EN
CALSCALE:GREGORIAN
METHOD:PUBLISH
X-ORIGINAL-URL:https://mcceastbay.org
X-WR-CALDESC:Events for MCC East Bay
REFRESH-INTERVAL;VALUE=DURATION:PT1H
X-Robots-Tag:noindex
X-PUBLISHED-TTL:PT1H
BEGIN:VTIMEZONE
TZID:America/Los_Angeles
BEGIN:DAYLIGHT
TZOFFSETFROM:-0800
TZOFFSETTO:-0700
TZNAME:PDT
DTSTART:20210314T100000
END:DAYLIGHT
BEGIN:STANDARD
TZOFFSETFROM:-0700
TZOFFSETTO:-0800
TZNAME:PST
DTSTART:20211107T090000
END:STANDARD
BEGIN:DAYLIGHT
TZOFFSETFROM:-0800
TZOFFSETTO:-0700
TZNAME:PDT
DTSTART:20220313T100000
END:DAYLIGHT
BEGIN:STANDARD
TZOFFSETFROM:-0700
TZOFFSETTO:-0800
TZNAME:PST
DTSTART:20221106T090000
END:STANDARD
BEGIN:DAYLIGHT
TZOFFSETFROM:-0800
TZOFFSETTO:-0700
TZNAME:PDT
DTSTART:20230312T100000
END:DAYLIGHT
BEGIN:STANDARD
TZOFFSETFROM:-0700
TZOFFSETTO:-0800
TZNAME:PST
DTSTART:20231105T090000
END:STANDARD
BEGIN:DAYLIGHT
TZOFFSETFROM:-0800
TZOFFSETTO:-0700
TZNAME:PDT
DTSTART:20240310T100000
END:DAYLIGHT
BEGIN:STANDARD
TZOFFSETFROM:-0700
TZOFFSETTO:-0800
TZNAME:PST
DTSTART:20241103T090000
END:STANDARD
BEGIN:DAYLIGHT
TZOFFSETFROM:-0800
TZOFFSETTO:-0700
TZNAME:PDT
DTSTART:20250309T100000
END:DAYLIGHT
BEGIN:STANDARD
TZOFFSETFROM:-0700
TZOFFSETTO:-0800
TZNAME:PST
DTSTART:20251102T090000
END:STANDARD
END:VTIMEZONE
BEGIN:VEVENT
DTSTART;TZID=America/Los_Angeles:20240813T190000
DTEND;TZID=America/Los_Angeles:20240813T193000
DTSTAMP:20260419T124355
CREATED:20240802T055522Z
LAST-MODIFIED:20240917T020520Z
UID:10021351-1723575600-1723577400@mcceastbay.org
SUMMARY:American Muslim Appreciation and Awareness Month: San Ramon City Council
DESCRIPTION:https://youtu.be/pGeFTuCQFIEhttps://youtu.be/ihc5w-4ReHE\n\nAt 7 p.m. on Tuesday\, August 13\, 2024\, the San Ramon City Council will join communities throughout California to recognize August 2024 as Muslim Appreciation and Awareness Month. The SRVIC Board of Directors accepts the Proclamation on behalf of Tri-Valley Muslims.\n\n\n\nThe MCC encourages all congregation members to attend in person\, watch the live stream\, and express our community’s appreciation for this and other upcoming Proclamations: \n\n\n\n– San Ramon at 7 p.m. on Tuesday\, August 13: https://mcceastbay.org/event/san-ramon-city-council-proclamation\n– Livermore (TBA) at 3 p.m. on Monday\, August 19: https://mcceastbay.org/event/livermore-city-council-proclamation\n– Dublin at 6:30 p.m. on Tuesday\, August 20: https://mcceastbay.org/event/dublin-council/\n– Pleasanton at 7 p.m. on Tuesday\, August 20: https://mcceastbay.org/event/plesanton-city-council\n\n\n\n\n\n\n \n\n\nThe MCC encourages all congregation members to attend in person and express our community’s appreciation. We especially encourage residents who live and work in the City of San Ramon. \n\n\n\nThis is the fourth year the San Ramon City Council has had this Proclamation. These are the Tri-Valley City Council commemorations in 2022: https://youtu.be/lPt53HC3RTo \n\n\nThis Proclamation acknowledges the rich history and guiding virtues of American Muslims. It commends Muslim communities in California for their lasting positive impact and continues to push toward advancing the state and the nation. \n\n\nThe San Ramon City Council follows in the footsteps of other City Councils in the San Francisco Bay Area\, like Santa Clara\, Pleasanton\, Hayward\, Dublin\, Livermore\, Union City\, Oakland\, San Jose\, and Redwood City. The Proclamation is likely the first agenda item\, so please be on time for the virtual meeting at 7 p.m. \n\n\nQuestions? events@mcceastbay.org \n\n\nOur community sincerely thanks Brother Musa Tariq at CAIR – San Francisco Bay Area. For several years\, he has facilitated these Proclamations in the Bay Area. \n\n\n\n\n\n– More CAIR-cosponsored events: https://mcceastbay.org/cair\n\n\n\n\n\nThese city Proclamations commemorate the California Assembly’s designation of August as American Muslim Appreciation and Awareness Month. Assemblymember Bill Quirk has introduced this resolution for the past seven years to commemorate American Muslim Appreciation and Awareness Month. The ceremonies take place during the first few minutes of the city’s council meeting. \n\n\nQuestions? events@mcceastbay.org \n\n\n\n\n\n\n\n\n\n\n\n\n 
URL:https://mcceastbay.org/event/san-ramon-city-council-proclamation/
LOCATION:San Ramon Council Chamber\, \, 7000 Bollinger Canyon Rd.\, San Ramon\, CA\, 94583\, United States
ATTACH;FMTTYPE=image/png:https://mcceastbay.org/wp-content/uploads/2024/07/Muslim-American-Appreciation-Month.png
ORGANIZER;CN="San Ramon Valley Islamic Center (SRVIC)":MAILTO:info@srvic.org
END:VEVENT
BEGIN:VEVENT
DTSTART;TZID=America/Los_Angeles:20220809T190000
DTEND;TZID=America/Los_Angeles:20220809T193000
DTSTAMP:20260419T124355
CREATED:20220720T073138Z
LAST-MODIFIED:20240630T213205Z
UID:10018215-1660071600-1660073400@mcceastbay.org
SUMMARY:American Muslim Appreciation and Awareness Month: San Ramon City Council
DESCRIPTION:At 7 p.m. on Monday\, July 9\, the San Ramon City Council joins communities throughout the State of California in recognizing the month of August 2022 as Muslim Appreciation and Awareness Month. \nThe MCC encourages all congregation members to attend in person\, watch the live stream\, and express our community’s appreciation for this and other upcoming Proclamations: \n\n\n 	– Livermore at 7 p.m. on Monday\, July 25: https://mcceastbay.org/event/livermore-city-council\n 	– San Ramon at 7 p.m. on Thursday\, August 9: https://mcceastbay.org/event/san-ramon-council\n 	– Dublin at 7 p.m. on Tuesday\, August 16: https://mcceastbay.org/event/dublin-city-council\n 	– Pleasanton at 7 p.m. on Tuesday\, August 16: https://mcceastbay.org/event/pleasanton-city-council\n\n7 p.m. to 7:30 p.m. | Thursday\, August 9 | San Ramon Council Chamber\, 7000 Bollinger Canyon Rd. San Ramon\, CA 94583 \nThe MCC encourages all congregation members to attend in person\, watch the live stream\, and express our community’s appreciation. We especially encourage residents who live and/or work in the City of San Ramon. \nTo join in person\, virtually\, and/or to leave a comment: http://sanramonca.iqm2.com/citizens/default.aspx? \nThis is the fourth year the San Ramon City Council has had this Proclamation. These are the Tri-Valley City Council commemorations in 2021: https://youtu.be/u5xITaHl37A \nThis Proclamation acknowledges the rich history and guiding virtues of American Muslims\, and commends Muslim communities in California for the lasting positive impact they have made\, and continue to make\, toward the advancement of the state and the nation. \nThe San Ramon City Council follows in the steps of other City Councils in the San Francisco Bay Area\, like Santa Clara\, Pleasanton\, Hayward\, Dublin\, Livermore\, Union City\, Oakland\, San Jose\, and Redwood City. The Proclamation is likely the first agenda item so please be on time at 7 p.m. for the virtual meeting. \nQuestions? events@mcceastbay.org \nOur community’s sincere gratitude to Sister Sameena Usman at CAIR – San Francisco Bay Area. For several years\, she has facilitated these Proclamations in the Bay Area. \n\n\n 	– More CAIR-cosponsored events: https://mcceastbay.org/cair\n\nQuestions? events@mcceastbay.org \n\nJoin us at 7 p.m this Tuesday\, August 9th\nAs the City of San Ramon honors our Muslim Community for its contributions to society by proclaiming August 2022 as the\n\n“AMERICAN MUSLIM APPRECIATION AND AWARENESS MONTH”\n\nin San Ramon City Hall on 7000 Bollinger Canyon Rd.\n\nOur generous and active community has proven to be a positive contributor to American society over many years via programs such as:\n\n 	The vast and continuous support for the refugees\,\n 	The ongoing 680 highway cleanup\,\n 	Being one of the most significant contributors to the Contra Costa Food Bank\,\n 	Working with other faiths to bring neighbors closer together\,\n 	Supporting inmates in jail\,\n\namong many more programs.\n\nBe there to show your support for the Muslim community\, and appreciation for the City of San Ramon
URL:https://mcceastbay.org/event/san-ramon-council/
LOCATION:San Ramon Council Chamber\, \, 7000 Bollinger Canyon Rd.\, San Ramon\, CA\, 94583\, United States
CATEGORIES:Interfaith & Community Outreach
ATTACH;FMTTYPE=image/png:https://mcceastbay.org/wp-content/uploads/2024/06/American-Muslim-Appreciation-and-Awareness-Month-San-Ramon.png
ORGANIZER;CN="Muslim Community Center - East Bay":MAILTO:events@mcceastbay.org
END:VEVENT
END:VCALENDAR