BEGIN:VCALENDAR
VERSION:2.0
PRODID:-//MCC East Bay - ECPv6.15.20//NONSGML v1.0//EN
CALSCALE:GREGORIAN
METHOD:PUBLISH
X-WR-CALNAME:MCC East Bay
X-ORIGINAL-URL:https://mcceastbay.org
X-WR-CALDESC:Events for MCC East Bay
REFRESH-INTERVAL;VALUE=DURATION:PT1H
X-Robots-Tag:noindex
X-PUBLISHED-TTL:PT1H
BEGIN:VTIMEZONE
TZID:America/Los_Angeles
BEGIN:DAYLIGHT
TZOFFSETFROM:-0800
TZOFFSETTO:-0700
TZNAME:PDT
DTSTART:20210314T100000
END:DAYLIGHT
BEGIN:STANDARD
TZOFFSETFROM:-0700
TZOFFSETTO:-0800
TZNAME:PST
DTSTART:20211107T090000
END:STANDARD
BEGIN:DAYLIGHT
TZOFFSETFROM:-0800
TZOFFSETTO:-0700
TZNAME:PDT
DTSTART:20220313T100000
END:DAYLIGHT
BEGIN:STANDARD
TZOFFSETFROM:-0700
TZOFFSETTO:-0800
TZNAME:PST
DTSTART:20221106T090000
END:STANDARD
BEGIN:DAYLIGHT
TZOFFSETFROM:-0800
TZOFFSETTO:-0700
TZNAME:PDT
DTSTART:20230312T100000
END:DAYLIGHT
BEGIN:STANDARD
TZOFFSETFROM:-0700
TZOFFSETTO:-0800
TZNAME:PST
DTSTART:20231105T090000
END:STANDARD
END:VTIMEZONE
BEGIN:VEVENT
DTSTART;TZID=America/Los_Angeles:20221120T153000
DTEND;TZID=America/Los_Angeles:20221120T163000
DTSTAMP:20260421T170253
CREATED:20221102T152217Z
LAST-MODIFIED:20221102T152217Z
UID:10019405-1668958200-1668961800@mcceastbay.org
SUMMARY:Interfaith Thanksgiving Service on Gratitude
DESCRIPTION:After a two-year hiatus due to the pandemic\, Interfaith Interconnect is so thankful to be together again for our 8th interfaith Thanksgiving service\, offered in collaboration with Livermore-Pleasanton Interfaith Clergy Association. \n\n\n\nInterfaith Interconnect and Livermore-Pleasanton Interfaith Clergy Assn. Invite You to Attend an Interfaith invite you to this year’s program that will feature a variety of ways different faiths and cultures express gratitude. Sr. Heather Conner will represent the Tri-Valley Muslim Community. \n\n\n\nAfter the program\, there will be a simple reception from 4:30 – 5 pm offering light refreshments and the opportunity to socialize with attendees and presenters. \n\n\n\nJoin us! All are welcome. No RSVP is needed. \n\n\n\nThere is no cost to attend\, but an offering will be accepted to benefit a local charity. \n\n\n\n3:30 p.m. to 4:30 p.m. | Sunday\, November 20 | St. Charles Borromeo Catholic Church\, 1315 Lomitas Ave.\, LivermoreQuestions? events@mcceastbay.org \n\n\n\nInterfaith Interconnect of the Tri-Valley’s mission is “To enrich\, inform and educate ourselves and others about the great diversity of faiths and cultures in our Valley.”
URL:https://mcceastbay.org/event/interfaith-thanksgiving-service-on-gratitude/
LOCATION:St. Charles Catholic Church\, 1315 Lomitas Ave.\, Livermore\, California\, 94550\, United States
ATTACH;FMTTYPE=image/png:https://mcceastbay.org/wp-content/uploads/2024/06/2022-Thanksgiving-flyer-v1-1.png
END:VEVENT
END:VCALENDAR